BEGIN:VCALENDAR
VERSION:2.0
PRODID:-//Beach volleyball club Chodov, zapsaný spolek92143//NONSGML kigkonsult.se iCalcreator 2.41.80//
CALSCALE:GREGORIAN
UID:30353066-3233-4033-b637-646630303138
BEGIN:VEVENT
UID:66353130-3532-4131-a230-623435616535
DTSTAMP:20260423T154630Z
DESCRIPTION:2/4 BVC Chodov - Sokolov 0:2 (-18\,-18)\nSportovní hala Textilk
 a
DTSTART;TZID=Europe/Berlin:20251130T100000
DTEND;TZID=Europe/Berlin:20251130T120000
LOCATION:Městská sportovní hala Chodov\, Tyršova 1201 Chodov
SUMMARY:KV-U20ZA: BVC Chodov-Sokolov
END:VEVENT
BEGIN:VEVENT
UID:32373931-6663-4037-a238-333832326436
DTSTAMP:20260423T154630Z
DESCRIPTION:3/6 BVC Chodov - VK Karlovy Vary z.s. 2:0 (18\,15)\nSportovní h
 ala Textilka
DTSTART;TZID=Europe/Berlin:20251130T110000
DTEND;TZID=Europe/Berlin:20251130T130000
LOCATION:Městská sportovní hala Chodov\, Tyršova 1201 Chodov
SUMMARY:KV-U20ZA: BVC Chodov-VK Karlovy Vary z.s.
END:VEVENT
BEGIN:VEVENT
UID:65313266-3935-4333-a266-373738613733
DTSTAMP:20260423T154630Z
DESCRIPTION:1/1 Volejbal Aš - Klokani z.s. - BVC Chodov 0:2 (-7\,-10)\nSpor
 tovní hala Textilka
DTSTART;TZID=Europe/Berlin:20251130T090000
DTEND;TZID=Europe/Berlin:20251130T110000
LOCATION:Sportovní hala Textilka\, Gustava Geipela 2713 Aš
SUMMARY:KV-U20ZA: Volejbal Aš - Klokani z.s.-BVC Chodov
END:VEVENT
BEGIN:VEVENT
UID:35393939-3036-4732-b762-333338333062
DTSTAMP:20260423T154630Z
DESCRIPTION:2/3 BVC Chodov - Sokolov 0:2 (-13\,-15)\nZŠ\, Konečná 917/25\, 
 K. Vary
DTSTART;TZID=Europe/Berlin:20260118T100000
DTEND;TZID=Europe/Berlin:20260118T120000
LOCATION:Městská sportovní hala Chodov\, Tyršova 1201 Chodov
SUMMARY:KV-U20ZB: BVC Chodov-Sokolov
END:VEVENT
BEGIN:VEVENT
UID:65303033-6431-4339-a463-626463656166
DTSTAMP:20260423T154630Z
DESCRIPTION:1/1 Volejbal Aš - Klokani z.s. - BVC Chodov 0:2 (-8\,-14)\nZŠ\,
  Konečná 917/25\, K. Vary
DTSTART;TZID=Europe/Berlin:20260118T090000
DTEND;TZID=Europe/Berlin:20260118T110000
LOCATION:Sportovní hala Textilka\, Gustava Geipela 2713 Aš
SUMMARY:KV-U20ZB: Volejbal Aš - Klokani z.s.-BVC Chodov
END:VEVENT
BEGIN:VEVENT
UID:34633732-6636-4634-b665-303564643631
DTSTAMP:20260423T154630Z
DESCRIPTION:3/6 VK Karlovy Vary z.s. - BVC Chodov 0:2 (-14\,-17)\nZŠ\, Kone
 čná 917/25\, K. Vary
DTSTART;TZID=Europe/Berlin:20260118T110000
DTEND;TZID=Europe/Berlin:20260118T130000
LOCATION:Mattoni Arena Hala míčových sportů\, Západní 1812 Karlovy Vary
SUMMARY:KV-U20ZB: VK Karlovy Vary z.s.-BVC Chodov
END:VEVENT
BEGIN:VEVENT
UID:66313562-3339-4130-b964-396130303732
DTSTAMP:20260423T154630Z
DESCRIPTION:2/3 BVC Chodov - Sokolov 0:2 (-17\,-12)\nMěstská sportovní hala
  Chodov\, Tyršova 1201
DTSTART;TZID=Europe/Berlin:20260208T100000
DTEND;TZID=Europe/Berlin:20260208T120000
LOCATION:Městská sportovní hala Chodov\, Tyršova 1201 Chodov
SUMMARY:KV-U20ZC: BVC Chodov-Sokolov
END:VEVENT
BEGIN:VEVENT
UID:66303338-3233-4565-a433-346336336137
DTSTAMP:20260423T154630Z
DESCRIPTION:1/1 Volejbal Aš - Klokani z.s. - BVC Chodov 0:2 (-10\,-12)\nMěs
 tská sportovní hala Chodov\, Tyršova 1201
DTSTART;TZID=Europe/Berlin:20260208T090000
DTEND;TZID=Europe/Berlin:20260208T110000
LOCATION:Sportovní hala Textilka\, Gustava Geipela 2713 Aš
SUMMARY:KV-U20ZC: Volejbal Aš - Klokani z.s.-BVC Chodov
END:VEVENT
BEGIN:VEVENT
UID:35346538-3439-4934-b132-326131633436
DTSTAMP:20260423T154630Z
DESCRIPTION:3/6 VK Karlovy Vary z.s. - BVC Chodov 0:2 (-13\,-23)\nMěstská s
 portovní hala Chodov\, Tyršova 1201
DTSTART;TZID=Europe/Berlin:20260208T110000
DTEND;TZID=Europe/Berlin:20260208T130000
LOCATION:Mattoni Arena Hala míčových sportů\, Západní 1812 Karlovy Vary
SUMMARY:KV-U20ZC: VK Karlovy Vary z.s.-BVC Chodov
END:VEVENT
END:VCALENDAR
