BEGIN:VCALENDAR
VERSION:2.0
PRODID:-//VK Královo Pole, ZŠ Milénova Brno "C" "Dívky"92203//NONSGML kigkonsult.se iCalcreator 2.41.80//
CALSCALE:GREGORIAN
UID:32356631-6665-4731-b761-656666346238
BEGIN:VEVENT
UID:38663861-3639-4364-a636-313634613861
DTSTAMP:20260422T053915Z
DESCRIPTION:1/1 ZŠ Milénova Brno 'C' 'Dívky' - VK Královo Pole 'F' 'Dívky' 
 2:0 (19\,16)
DTSTART;TZID=Europe/Berlin:20260111T090000
DTEND;TZID=Europe/Berlin:20260111T110000
LOCATION:ZŠ Milénova 14\, Milénova 808 Brno - Lesná
SUMMARY:JM-U14Z-IVD: ZŠ Milénova Brno 'C' 'Dívky'-VK Královo Pole 'F' 'Dívk
 y'
END:VEVENT
BEGIN:VEVENT
UID:61653464-3431-4162-b062-303232666365
DTSTAMP:20260422T053915Z
DESCRIPTION:4/4 ZŠ Milénova Brno 'C' 'Dívky' - PFN Znojmo 'A' 'Dívky' 1:2 (
 22\,-24\,-14)
DTSTART;TZID=Europe/Berlin:20260111T130000
DTEND;TZID=Europe/Berlin:20260111T150000
LOCATION:ZŠ Milénova 14\, Milénova 808 Brno - Lesná
SUMMARY:JM-U14Z-IVD: ZŠ Milénova Brno 'C' 'Dívky'-PFN Znojmo 'A' 'Dívky'
END:VEVENT
BEGIN:VEVENT
UID:34636539-3035-4563-b965-356365313830
DTSTAMP:20260422T053915Z
DESCRIPTION:6/6 TJ Sokol Bučovice 'D' 'Dívky' - ZŠ Milénova Brno 'C' 'Dívky
 ' 0:2 (-9\,-23)
DTSTART;TZID=Europe/Berlin:20260111T153000
DTEND;TZID=Europe/Berlin:20260111T173000
LOCATION:ZŠ Milénova 14\, Milénova 808 Brno - Lesná
SUMMARY:JM-U14Z-IVD: TJ Sokol Bučovice 'D' 'Dívky'-ZŠ Milénova Brno 'C' 'Dí
 vky'
END:VEVENT
BEGIN:VEVENT
UID:35643862-3630-4635-b231-393962636666
DTSTAMP:20260422T053915Z
DESCRIPTION:2/3 ZŠ Milénova Brno 'C' 'Dívky' - VK Brno 'A' 'Dívky' 1:2 (-23
 \,17\,-8)
DTSTART;TZID=Europe/Berlin:20260208T103000
DTEND;TZID=Europe/Berlin:20260208T123000
LOCATION:Sportovní hala Rousínov\, Habrovanská 1199 Rousínov
SUMMARY:JM-U14Z-VC: ZŠ Milénova Brno 'C' 'Dívky'-VK Brno 'A' 'Dívky'
END:VEVENT
BEGIN:VEVENT
UID:33656339-6237-4166-b938-616435656137
DTSTAMP:20260422T053915Z
DESCRIPTION:1/1 VK Rousínov 'Dívky' - ZŠ Milénova Brno 'C' 'Dívky' 2:0 (19\
 ,12)
DTSTART;TZID=Europe/Berlin:20260208T090000
DTEND;TZID=Europe/Berlin:20260208T110000
LOCATION:Sportovní hala Rousínov\, Habrovanská 1199 Rousínov
SUMMARY:JM-U14Z-VC: VK Rousínov 'Dívky'-ZŠ Milénova Brno 'C' 'Dívky'
END:VEVENT
BEGIN:VEVENT
UID:37396331-6230-4263-a630-396432363134
DTSTAMP:20260422T053915Z
DESCRIPTION:3/5 VS Drásov 'Dívky' - ZŠ Milénova Brno 'C' 'Dívky' 2:1 (-18\,
 24\,5)
DTSTART;TZID=Europe/Berlin:20260208T114500
DTEND;TZID=Europe/Berlin:20260208T134500
LOCATION:Sportovní hala Rousínov\, Habrovanská 1199 Rousínov
SUMMARY:JM-U14Z-VC: VS Drásov 'Dívky'-ZŠ Milénova Brno 'C' 'Dívky'
END:VEVENT
BEGIN:VEVENT
UID:63656662-3939-4035-a661-303365666663
DTSTAMP:20260422T053915Z
DESCRIPTION:3/3 ZŠ Milénova Brno 'C' 'Dívky' - VK Královo Pole 'F' 'Dívky' 
 2:0 (25\,13)
DTSTART;TZID=Europe/Berlin:20260315T114500
DTEND;TZID=Europe/Berlin:20260315T134500
LOCATION:ZŠ Milénova 14\, Milénova 808 Brno - Lesná
SUMMARY:JM-U14Z-VID: ZŠ Milénova Brno 'C' 'Dívky'-VK Královo Pole 'F' 'Dívk
 y'
END:VEVENT
BEGIN:VEVENT
UID:64616132-3736-4232-b863-353330386464
DTSTAMP:20260422T053915Z
DESCRIPTION:1/1 ZŠ Milénova Brno 'B' 'Dívky' - ZŠ Milénova Brno 'C' 'Dívky'
  2:1 (-19\,23\,8)
DTSTART;TZID=Europe/Berlin:20260315T090000
DTEND;TZID=Europe/Berlin:20260315T110000
LOCATION:ZŠ Milénova 14\, Milénova 808 Brno - Lesná
SUMMARY:JM-U14Z-VID: ZŠ Milénova Brno 'B' 'Dívky'-ZŠ Milénova Brno 'C' 'Dív
 ky'
END:VEVENT
BEGIN:VEVENT
UID:66626363-6362-4832-b064-663461343430
DTSTAMP:20260422T053915Z
DESCRIPTION:5/5 PFN Znojmo 'A' 'Dívky' - ZŠ Milénova Brno 'C' 'Dívky' 0:2 (
 -22\,-17)
DTSTART;TZID=Europe/Berlin:20260315T141500
DTEND;TZID=Europe/Berlin:20260315T161500
LOCATION:ZŠ Milénova 14\, Milénova 808 Brno - Lesná
SUMMARY:JM-U14Z-VID: PFN Znojmo 'A' 'Dívky'-ZŠ Milénova Brno 'C' 'Dívky'
END:VEVENT
END:VCALENDAR
