BEGIN:VCALENDAR
VERSION:2.0
PRODID:-//TJ TESLA Brno "C" "Chlapci, mix"92204//NONSGML kigkonsult.se iCalcreator 2.41.80//
CALSCALE:GREGORIAN
UID:30343736-3062-4832-b938-363763623462
BEGIN:VEVENT
UID:31326436-3938-4132-b035-653033663133
DTSTAMP:20260422T131123Z
DESCRIPTION:2/3 TJ TESLA Brno 'C' 'Chlapci\, mix' - VK Brno 'Chlapci\, mix'
  2:0 (17\,19)
DTSTART;TZID=Europe/Berlin:20260111T103000
DTEND;TZID=Europe/Berlin:20260111T123000
LOCATION:Městská sportovní hala\, Šafaříkova 1016 Hustopeče
SUMMARY:JM-U14Z-IVF: TJ TESLA Brno 'C' 'Chlapci\, mix'-VK Brno 'Chlapci\, m
 ix'
END:VEVENT
BEGIN:VEVENT
UID:31353737-3930-4735-b235-306136313331
DTSTAMP:20260422T131123Z
DESCRIPTION:1/1 TJ Agrotec Hustopeče z.s. 'Chlapci\, mix' - TJ TESLA Brno '
 C' 'Chlapci\, mix' 1:2 (15\,-20\,-12)
DTSTART;TZID=Europe/Berlin:20260111T090000
DTEND;TZID=Europe/Berlin:20260111T110000
LOCATION:Městská sportovní hala\, Šafaříkova 1016 Hustopeče
SUMMARY:JM-U14Z-IVF: TJ Agrotec Hustopeče z.s. 'Chlapci\, mix'-TJ TESLA Brn
 o 'C' 'Chlapci\, mix'
END:VEVENT
BEGIN:VEVENT
UID:62353464-3537-4934-b537-306635666434
DTSTAMP:20260422T131123Z
DESCRIPTION:3/5 VK Brno 'B' 'Chlapci\, mix' - TJ TESLA Brno 'C' 'Chlapci\, 
 mix' 0:2 (-12\,-13)
DTSTART;TZID=Europe/Berlin:20260111T114500
DTEND;TZID=Europe/Berlin:20260111T134500
LOCATION:Městská sportovní hala\, Šafaříkova 1016 Hustopeče
SUMMARY:JM-U14Z-IVF: VK Brno 'B' 'Chlapci\, mix'-TJ TESLA Brno 'C' 'Chlapci
 \, mix'
END:VEVENT
BEGIN:VEVENT
UID:66323133-6638-4637-b331-623764356336
DTSTAMP:20260422T131123Z
DESCRIPTION:6/6 TJ TESLA Brno 'C' 'Chlapci\, mix' - TJ TESLA Brno 'B' 'Chla
 pci\, mix' 2:1 (19\,-16\,9)
DTSTART;TZID=Europe/Berlin:20260208T153000
DTEND;TZID=Europe/Berlin:20260208T173000
LOCATION:ZŠ Milénova 14\, Milénova 808 Brno - Lesná
SUMMARY:JM-U14Z-VE: TJ TESLA Brno 'C' 'Chlapci\, mix'-TJ TESLA Brno 'B' 'Ch
 lapci\, mix'
END:VEVENT
BEGIN:VEVENT
UID:38653164-6361-4566-a366-633632386230
DTSTAMP:20260422T131123Z
DESCRIPTION:2/2 PFN Znojmo 'Chlapci\, mix' - TJ TESLA Brno 'C' 'Chlapci\, m
 ix' 0:2 (-16\,-21)
DTSTART;TZID=Europe/Berlin:20260208T103000
DTEND;TZID=Europe/Berlin:20260208T123000
LOCATION:ZŠ Milénova 14\, Milénova 808 Brno - Lesná
SUMMARY:JM-U14Z-VE: PFN Znojmo 'Chlapci\, mix'-TJ TESLA Brno 'C' 'Chlapci\,
  mix'
END:VEVENT
BEGIN:VEVENT
UID:64626233-6234-4336-b664-646136633162
DTSTAMP:20260422T131123Z
DESCRIPTION:3/3 TJ TESLA Brno 'A' 'Chlapci\, mix' - TJ TESLA Brno 'C' 'Chla
 pci\, mix' 2:0 (13\,10)
DTSTART;TZID=Europe/Berlin:20260208T114500
DTEND;TZID=Europe/Berlin:20260208T134500
LOCATION:ZŠ Milénova 14\, Milénova 808 Brno - Lesná
SUMMARY:JM-U14Z-VE: TJ TESLA Brno 'A' 'Chlapci\, mix'-TJ TESLA Brno 'C' 'Ch
 lapci\, mix'
END:VEVENT
BEGIN:VEVENT
UID:66333366-3537-4332-b836-346363613439
DTSTAMP:20260422T131123Z
DESCRIPTION:3/3 TJ TESLA Brno 'C' 'Chlapci\, mix' - TJ TESLA Brno 'B' 'Chla
 pci\, mix' 0:2 (-27\,-16)
DTSTART;TZID=Europe/Berlin:20260315T114500
DTEND;TZID=Europe/Berlin:20260315T134500
LOCATION:ZŠ Vejrostova\, Vejrostova 1066 Brno - Bystrc
SUMMARY:JM-U14Z-VIE: TJ TESLA Brno 'C' 'Chlapci\, mix'-TJ TESLA Brno 'B' 'C
 hlapci\, mix'
END:VEVENT
BEGIN:VEVENT
UID:37623261-3161-4031-a337-376535613031
DTSTAMP:20260422T131123Z
DESCRIPTION:1/1 VK Brno 'Chlapci\, mix' - TJ TESLA Brno 'C' 'Chlapci\, mix'
  1:2 (-14\,22\,-7)
DTSTART;TZID=Europe/Berlin:20260315T090000
DTEND;TZID=Europe/Berlin:20260315T110000
LOCATION:ZŠ Vejrostova\, Vejrostova 1066 Brno - Bystrc
SUMMARY:JM-U14Z-VIE: VK Brno 'Chlapci\, mix'-TJ TESLA Brno 'C' 'Chlapci\, m
 ix'
END:VEVENT
BEGIN:VEVENT
UID:32663466-3335-4765-b261-353039613733
DTSTAMP:20260422T131123Z
DESCRIPTION:5/5 TJ TESLA Brno 'A' 'Chlapci\, mix' - TJ TESLA Brno 'C' 'Chla
 pci\, mix' 2:0 (19\,16)
DTSTART;TZID=Europe/Berlin:20260315T141500
DTEND;TZID=Europe/Berlin:20260315T161500
LOCATION:ZŠ Vejrostova\, Vejrostova 1066 Brno - Bystrc
SUMMARY:JM-U14Z-VIE: TJ TESLA Brno 'A' 'Chlapci\, mix'-TJ TESLA Brno 'C' 'C
 hlapci\, mix'
END:VEVENT
BEGIN:VEVENT
UID:65616261-3163-4237-b039-323332363830
DTSTAMP:20260422T131123Z
DESCRIPTION:2/3 TJ TESLA Brno 'C' 'Chlapci\, mix' - SK Vedrovice 'Chlapci\,
  mix' 2:0 (15\,14)\n3. vs 6. Kurt 1
DTSTART;TZID=Europe/Berlin:20260412T103000
DTEND;TZID=Europe/Berlin:20260412T123000
SUMMARY:JM-U14Z-FCH: TJ TESLA Brno 'C' 'Chlapci\, mix'-SK Vedrovice 'Chlapc
 i\, mix'
END:VEVENT
BEGIN:VEVENT
UID:65393533-3338-4163-b738-633561313263
DTSTAMP:20260422T131123Z
DESCRIPTION:4/8 TJ TESLA Brno 'B' 'Chlapci\, mix' - TJ TESLA Brno 'C' 'Chla
 pci\, mix' 2:0 (15\,17)\nW2 vs W3 Kurt 2
DTSTART;TZID=Europe/Berlin:20260412T130000
DTEND;TZID=Europe/Berlin:20260412T150000
SUMMARY:JM-U14Z-FCH: TJ TESLA Brno 'B' 'Chlapci\, mix'-TJ TESLA Brno 'C' 'C
 hlapci\, mix'
END:VEVENT
BEGIN:VEVENT
UID:32626438-3266-4231-b062-616666343335
DTSTAMP:20260422T131123Z
DESCRIPTION:6/11 TJ TESLA Brno 'A' 'Chlapci\, mix' - TJ TESLA Brno 'C' 'Chl
 apci\, mix' 2:0 (6\,9)\nL7 vs L8 Kurt 2
DTSTART;TZID=Europe/Berlin:20260412T153000
DTEND;TZID=Europe/Berlin:20260412T173000
SUMMARY:JM-U14Z-FCH: TJ TESLA Brno 'A' 'Chlapci\, mix'-TJ TESLA Brno 'C' 'C
 hlapci\, mix'
END:VEVENT
END:VCALENDAR
