BEGIN:VCALENDAR
VERSION:2.0
PRODID:-//SK VOLEJBAL DÍVKY Ústí nad Labem, z.s.92211//NONSGML kigkonsult.se iCalcreator 2.41.80//
CALSCALE:GREGORIAN
UID:31616238-6631-4037-a661-633730386562
BEGIN:VEVENT
UID:63383161-3966-4430-a265-623037336265
DTSTAMP:20260421T134934Z
DESCRIPTION:1/1 SKVD Úsťí n/L - SK Meteor Praha 2:0 (18\,21)
DTSTART;TZID=Europe/Berlin:20260321T090000
DTEND;TZID=Europe/Berlin:20260321T110000
LOCATION:Základní škola Stříbrnická\, Stříbrnická 3031 Ústí nad Labem - Sev
 erní Terasa
SUMMARY:MCR-U14Z-1A: SKVD Úsťí n/L-SK Meteor Praha
END:VEVENT
BEGIN:VEVENT
UID:30376465-3030-4161-b465-663738303463
DTSTAMP:20260421T134934Z
DESCRIPTION:3/5 SKVD Úsťí n/L - VK Kralupy 0:2 (-6\,-11)
DTSTART;TZID=Europe/Berlin:20260321T113000
DTEND;TZID=Europe/Berlin:20260321T133000
LOCATION:Základní škola Stříbrnická\, Stříbrnická 3031 Ústí nad Labem - Sev
 erní Terasa
SUMMARY:MCR-U14Z-1A: SKVD Úsťí n/L-VK Kralupy
END:VEVENT
BEGIN:VEVENT
UID:35643034-3035-4634-a539-306530386336
DTSTAMP:20260421T134934Z
DESCRIPTION:8/15 SKVD Úsťí n/L - Kladno 1:2 (11\,-21\,-5)
DTSTART;TZID=Europe/Berlin:20260321T180000
DTEND;TZID=Europe/Berlin:20260321T200000
LOCATION:Základní škola Stříbrnická\, Stříbrnická 3031 Ústí nad Labem - Sev
 erní Terasa
SUMMARY:MCR-U14Z-1A: SKVD Úsťí n/L-Kladno
END:VEVENT
BEGIN:VEVENT
UID:30343364-3030-4631-a436-653037373866
DTSTAMP:20260421T134934Z
DESCRIPTION:12/24 SKVD Úsťí n/L - TJ VK Dukla Liberec 2:0 (21\,20)
DTSTART;TZID=Europe/Berlin:20260322T130000
DTEND;TZID=Europe/Berlin:20260322T150000
LOCATION:Základní škola Stříbrnická\, Stříbrnická 3031 Ústí nad Labem - Sev
 erní Terasa
SUMMARY:MCR-U14Z-1A: SKVD Úsťí n/L-TJ VK Dukla Liberec
END:VEVENT
BEGIN:VEVENT
UID:36343361-6261-4338-a137-303830636637
DTSTAMP:20260421T134934Z
DESCRIPTION:5/10 Volejbal Vršovice B - SKVD Úsťí n/L 0:2 (-7\,-12)
DTSTART;TZID=Europe/Berlin:20260321T140000
DTEND;TZID=Europe/Berlin:20260321T160000
LOCATION:Sokolovna Vršovice\, Sportovní 111 Praha - Vršovice
SUMMARY:MCR-U14Z-1A: Volejbal Vršovice B-SKVD Úsťí n/L
END:VEVENT
BEGIN:VEVENT
UID:39336130-3131-4166-b839-333663643565
DTSTAMP:20260421T134934Z
DESCRIPTION:10/20 SK Kometa Praha - SKVD Úsťí n/L 2:0 (16\,7)
DTSTART;TZID=Europe/Berlin:20260322T100000
DTEND;TZID=Europe/Berlin:20260322T120000
LOCATION:Tělocvična ZŠ Na Šutce\, Na Šutce 440 Praha - Troja
SUMMARY:MCR-U14Z-1A: SK Kometa Praha-SKVD Úsťí n/L
END:VEVENT
BEGIN:VEVENT
UID:33313930-3361-4662-a337-636335666430
DTSTAMP:20260421T134934Z
DESCRIPTION:14/27 TJ EMĚ Mělník - SKVD Úsťí n/L 0:2 (-13\,-11)
DTSTART;TZID=Europe/Berlin:20260322T153000
DTEND;TZID=Europe/Berlin:20260322T173000
LOCATION:Tělocvična ZŠ J. Matiegky\, Pražská 2817 Mělník
SUMMARY:MCR-U14Z-1A: TJ EMĚ Mělník-SKVD Úsťí n/L
END:VEVENT
BEGIN:VEVENT
UID:62633864-6462-4732-b933-363431333766
DTSTAMP:20260421T134934Z
DESCRIPTION:1/1 SKVD Úsťí n/L - VK Prostějov A 0:2 (-20\,-20)
DTSTART;TZID=Europe/Berlin:20260418T090000
DTEND;TZID=Europe/Berlin:20260418T110000
LOCATION:Základní škola Stříbrnická\, Stříbrnická 3031 Ústí nad Labem - Sev
 erní Terasa
SUMMARY:MCR-U14Z-2A: SKVD Úsťí n/L-VK Prostějov A
END:VEVENT
BEGIN:VEVENT
UID:31373234-3637-4061-b237-376561303133
DTSTAMP:20260421T134934Z
DESCRIPTION:3/5 SKVD Úsťí n/L - TJ Sokol Vratimov 2:0 (20\,13)
DTSTART;TZID=Europe/Berlin:20260418T113000
DTEND;TZID=Europe/Berlin:20260418T133000
LOCATION:Základní škola Stříbrnická\, Stříbrnická 3031 Ústí nad Labem - Sev
 erní Terasa
SUMMARY:MCR-U14Z-2A: SKVD Úsťí n/L-TJ Sokol Vratimov
END:VEVENT
BEGIN:VEVENT
UID:38663864-6661-4530-a262-666537393438
DTSTAMP:20260421T134934Z
DESCRIPTION:8/15 SKVD Úsťí n/L - BVK Nymburské BOMBY 2:0 (22\,22)
DTSTART;TZID=Europe/Berlin:20260418T180000
DTEND;TZID=Europe/Berlin:20260418T200000
LOCATION:Základní škola Stříbrnická\, Stříbrnická 3031 Ústí nad Labem - Sev
 erní Terasa
SUMMARY:MCR-U14Z-2A: SKVD Úsťí n/L-BVK Nymburské BOMBY
END:VEVENT
BEGIN:VEVENT
UID:65363666-3462-4034-b062-383536613335
DTSTAMP:20260421T134934Z
DESCRIPTION:12/24 SKVD Úsťí n/L - Chlumec 1:2 (-25\,15\,-13)
DTSTART;TZID=Europe/Berlin:20260419T130000
DTEND;TZID=Europe/Berlin:20260419T150000
LOCATION:Základní škola Stříbrnická\, Stříbrnická 3031 Ústí nad Labem - Sev
 erní Terasa
SUMMARY:MCR-U14Z-2A: SKVD Úsťí n/L-Chlumec
END:VEVENT
BEGIN:VEVENT
UID:37313465-6437-4534-b465-396236663135
DTSTAMP:20260421T134934Z
DESCRIPTION:5/10 Volejbal Vršovice A - SKVD Úsťí n/L 0:2 (-14\,-14)
DTSTART;TZID=Europe/Berlin:20260418T140000
DTEND;TZID=Europe/Berlin:20260418T160000
LOCATION:Sokolovna Vršovice\, Sportovní 111 Praha - Vršovice
SUMMARY:MCR-U14Z-2A: Volejbal Vršovice A-SKVD Úsťí n/L
END:VEVENT
BEGIN:VEVENT
UID:34373731-6466-4839-b366-356338633062
DTSTAMP:20260421T134934Z
DESCRIPTION:10/20 Mikulova Praha - SKVD Úsťí n/L 2:1 (10\,-12\,7)
DTSTART;TZID=Europe/Berlin:20260419T100000
DTEND;TZID=Europe/Berlin:20260419T120000
LOCATION:tělocvičny ZŠ Mikulova\, Mikulova 1594 Praha - Chodov
SUMMARY:MCR-U14Z-2A: Mikulova Praha-SKVD Úsťí n/L
END:VEVENT
BEGIN:VEVENT
UID:32333531-6138-4531-b234-653664376336
DTSTAMP:20260421T134934Z
DESCRIPTION:14/27 VK Znojmo - Přímětice - SKVD Úsťí n/L 0:2 (-21\,-22)
DTSTART;TZID=Europe/Berlin:20260419T153000
DTEND;TZID=Europe/Berlin:20260419T173000
LOCATION:Tělocvična ZŠ Prokopa Diviše a MŠ\, Ke Škole 569 Znojmo - Přímětic
 e
SUMMARY:MCR-U14Z-2A: VK Znojmo - Přímětice-SKVD Úsťí n/L
END:VEVENT
BEGIN:VEVENT
UID:64336133-3763-4238-a437-343964373335
DTSTAMP:20260421T134934Z
DESCRIPTION:4/7 SKVD Úsťí n/L - Volejbal Ústí n. L.
DTSTART;TZID=Europe/Berlin:20260502T090000
DTEND;TZID=Europe/Berlin:20260502T110000
LOCATION:Základní škola Stříbrnická\, Stříbrnická 3031 Ústí nad Labem - Sev
 erní Terasa
SUMMARY:MCR-U14Z-3B: SKVD Úsťí n/L-Volejbal Ústí n. L.
END:VEVENT
BEGIN:VEVENT
UID:38353830-6462-4832-b235-323361316231
DTSTAMP:20260421T134934Z
DESCRIPTION:2/3 TJ Svitavy - SKVD Úsťí n/L
DTSTART;TZID=Europe/Berlin:20260501T153000
DTEND;TZID=Europe/Berlin:20260501T173000
LOCATION:Sportovní hala Na Střelnici\, Pražská 2162 Svitavy - Předměstí
SUMMARY:MCR-U14Z-3B: TJ Svitavy-SKVD Úsťí n/L
END:VEVENT
BEGIN:VEVENT
UID:35633931-6165-4663-a233-626564386566
DTSTAMP:20260421T134934Z
DESCRIPTION:3/5 PVK Olymp Praha - SKVD Úsťí n/L
DTSTART;TZID=Europe/Berlin:20260501T165000
DTEND;TZID=Europe/Berlin:20260501T185000
LOCATION:VCM OLYMP PRAHA \, Radlická 115 Praha - Radlice
SUMMARY:MCR-U14Z-3B: PVK Olymp Praha-SKVD Úsťí n/L
END:VEVENT
BEGIN:VEVENT
UID:39613333-3862-4334-b161-393364653361
DTSTAMP:20260421T134934Z
DESCRIPTION:6/10 Orion Praha - SKVD Úsťí n/L
DTSTART;TZID=Europe/Berlin:20260502T114000
DTEND;TZID=Europe/Berlin:20260502T134000
LOCATION:ZŠ Dolní Břežany\, Na Vršku 290 Dolní Břežany
SUMMARY:MCR-U14Z-3B: Orion Praha-SKVD Úsťí n/L
END:VEVENT
END:VCALENDAR
