BEGIN:VCALENDAR
VERSION:2.0
PRODID:-//Volejbalový sportovní klub Zlín, z.s.92221//NONSGML kigkonsult.se iCalcreator 2.41.80//
CALSCALE:GREGORIAN
UID:31356530-3763-4464-a436-356531393930
BEGIN:VEVENT
UID:33613838-6533-4266-a565-636135373464
DTSTAMP:20260421T201603Z
DESCRIPTION:4/10 VSK Zlín - VK Znojmo - Přímětice 1:2 (18\,-18\,-13)
DTSTART;TZID=Europe/Berlin:20260321T141500
DTEND;TZID=Europe/Berlin:20260321T161500
LOCATION:ZŠ Okružní Zlín\, Okružní 4685 Zlín
SUMMARY:MCR-U14Z-1F: VSK Zlín-VK Znojmo - Přímětice
END:VEVENT
BEGIN:VEVENT
UID:30376166-3530-4137-b566-316336613036
DTSTAMP:20260421T201603Z
DESCRIPTION:6/15 VSK Zlín - TJ Sokol Šlapanice 2:0 (7\,13)
DTSTART;TZID=Europe/Berlin:20260321T164500
DTEND;TZID=Europe/Berlin:20260321T184500
LOCATION:ZŠ Okružní Zlín\, Okružní 4685 Zlín
SUMMARY:MCR-U14Z-1F: VSK Zlín-TJ Sokol Šlapanice
END:VEVENT
BEGIN:VEVENT
UID:63303563-3862-4538-b338-666561626636
DTSTAMP:20260421T201603Z
DESCRIPTION:7/19 VSK Zlín - Volejbal Jihlava 0:2 (-22\,-23)
DTSTART;TZID=Europe/Berlin:20260322T090000
DTEND;TZID=Europe/Berlin:20260322T110000
LOCATION:ZŠ Okružní Zlín\, Okružní 4685 Zlín
SUMMARY:MCR-U14Z-1F: VSK Zlín-Volejbal Jihlava
END:VEVENT
BEGIN:VEVENT
UID:33626364-6133-4232-b439-356463633462
DTSTAMP:20260421T201603Z
DESCRIPTION:9/23 VSK Zlín - VK Brno 2:0 (3\,12)
DTSTART;TZID=Europe/Berlin:20260322T133000
DTEND;TZID=Europe/Berlin:20260322T153000
LOCATION:ZŠ Okružní Zlín\, Okružní 4685 Zlín
SUMMARY:MCR-U14Z-1F: VSK Zlín-VK Brno
END:VEVENT
BEGIN:VEVENT
UID:39356532-3833-4535-a130-626134666530
DTSTAMP:20260421T201603Z
DESCRIPTION:10/26 VSK Zlín - TJ Slovácká Slavia U. Hradiště 2:0 (18\,17)
DTSTART;TZID=Europe/Berlin:20260322T144500
DTEND;TZID=Europe/Berlin:20260322T164500
LOCATION:ZŠ Okružní Zlín\, Okružní 4685 Zlín
SUMMARY:MCR-U14Z-1F: VSK Zlín-TJ Slovácká Slavia U. Hradiště
END:VEVENT
BEGIN:VEVENT
UID:30633630-3136-4662-b535-336533303337
DTSTAMP:20260421T201603Z
DESCRIPTION:2/5 VA MUNI SPORT Brno - VSK Zlín 0:2 (-10\,-23)
DTSTART;TZID=Europe/Berlin:20260321T103000
DTEND;TZID=Europe/Berlin:20260321T123000
LOCATION:Campus Brno - Hala míčových sportů - Fakulta Sportovní MUNI\, Kame
 nice 753 Brno - Bohunice
SUMMARY:MCR-U14Z-1F: VA MUNI SPORT Brno-VSK Zlín
END:VEVENT
BEGIN:VEVENT
UID:61656565-3437-4963-b730-623436613436
DTSTAMP:20260421T201603Z
DESCRIPTION:3/7 Volejbal Vyškov 'Dívky' - VSK Zlín 0:2 (-15\,-9)
DTSTART;TZID=Europe/Berlin:20260321T114500
DTEND;TZID=Europe/Berlin:20260321T134500
SUMMARY:MCR-U14Z-1F: Volejbal Vyškov 'Dívky'-VSK Zlín
END:VEVENT
BEGIN:VEVENT
UID:31373563-3536-4439-a231-393461306137
DTSTAMP:20260421T201603Z
DESCRIPTION:1/1 VSK Zlín - ŠSK Bílovec 2:1 (-28\,23\,9)
DTSTART;TZID=Europe/Berlin:20260418T100000
DTEND;TZID=Europe/Berlin:20260418T120000
LOCATION:Hala ZŠ Komenského\, Komenského 701 Bílovec
SUMMARY:MCR-U14Z-2C: VSK Zlín-ŠSK Bílovec
END:VEVENT
BEGIN:VEVENT
UID:37313465-6565-4431-a633-366466363266
DTSTAMP:20260421T201603Z
DESCRIPTION:3/8 VSK Zlín - VO TJ Lanškroun 2:0 (17\,12)
DTSTART;TZID=Europe/Berlin:20260418T130000
DTEND;TZID=Europe/Berlin:20260418T150000
LOCATION:Hala ZŠ Komenského\, Komenského 701 Bílovec
SUMMARY:MCR-U14Z-2C: VSK Zlín-VO TJ Lanškroun
END:VEVENT
BEGIN:VEVENT
UID:31663932-3039-4135-b838-643439383164
DTSTAMP:20260421T201603Z
DESCRIPTION:9/25 VSK Zlín - TJ VK Dukla Liberec 0:2 (-3\,-21)
DTSTART;TZID=Europe/Berlin:20260419T114500
DTEND;TZID=Europe/Berlin:20260419T134500
LOCATION:Hala ZŠ Komenského\, Komenského 701 Bílovec
SUMMARY:MCR-U14Z-2C: VSK Zlín-TJ VK Dukla Liberec
END:VEVENT
BEGIN:VEVENT
UID:62303433-3536-4163-a532-663934363366
DTSTAMP:20260421T201603Z
DESCRIPTION:2/5 Volejbal Rudolfov - VSK Zlín 2:0 (22\,16)
DTSTART;TZID=Europe/Berlin:20260418T113000
DTEND;TZID=Europe/Berlin:20260418T133000
LOCATION:Hala ZŠ Komenského\, Komenského 701 Bílovec
SUMMARY:MCR-U14Z-2C: Volejbal Rudolfov-VSK Zlín
END:VEVENT
BEGIN:VEVENT
UID:65313130-6136-4132-a231-373964356264
DTSTAMP:20260421T201603Z
DESCRIPTION:5/15 Španielka - VSK Zlín 0:2 (-13\,-13)
DTSTART;TZID=Europe/Berlin:20260418T160000
DTEND;TZID=Europe/Berlin:20260418T180000
LOCATION:Hala ZŠ Komenského\, Komenského 701 Bílovec
SUMMARY:MCR-U14Z-2C: Španielka-VSK Zlín
END:VEVENT
BEGIN:VEVENT
UID:61623536-3632-4630-a666-376566636266
DTSTAMP:20260421T201603Z
DESCRIPTION:7/18 VK Rokycany - VSK Zlín 2:0 (14\,21)
DTSTART;TZID=Europe/Berlin:20260419T090000
DTEND;TZID=Europe/Berlin:20260419T110000
LOCATION:Hala ZŠ Komenského\, Komenského 701 Bílovec
SUMMARY:MCR-U14Z-2C: VK Rokycany-VSK Zlín
END:VEVENT
BEGIN:VEVENT
UID:65633630-3635-4032-b239-313133356161
DTSTAMP:20260421T201603Z
DESCRIPTION:8/22 PVK Olymp Praha - VSK Zlín 2:0 (12\,16)
DTSTART;TZID=Europe/Berlin:20260419T103000
DTEND;TZID=Europe/Berlin:20260419T123000
LOCATION:Hala ZŠ Komenského\, Komenského 701 Bílovec
SUMMARY:MCR-U14Z-2C: PVK Olymp Praha-VSK Zlín
END:VEVENT
END:VCALENDAR
