BEGIN:VCALENDAR
VERSION:2.0
PRODID:-//SK TŘEBÍN92229//NONSGML kigkonsult.se iCalcreator 2.41.80//
CALSCALE:GREGORIAN
UID:37303535-6536-4533-b938-613438306632
BEGIN:VEVENT
UID:36336664-3863-4363-b164-643139373434
DTSTAMP:20260421T182803Z
DESCRIPTION:4/16 SK Třebín - TJ Kunice 2:0 (17\,15)
DTSTART;TZID=Europe/Berlin:20260321T183000
DTEND;TZID=Europe/Berlin:20260321T203000
LOCATION:ZŠ Máj I\, M. Chlajna 1319 České Budějovice - České Budějovice 2
SUMMARY:MCR-U14Z-1I: SK Třebín-TJ Kunice
END:VEVENT
BEGIN:VEVENT
UID:66636430-3739-4362-b138-333165653164
DTSTAMP:20260421T182803Z
DESCRIPTION:5/20 SK Třebín - Králův Dvůr 1:2 (-20\,21\,-8)
DTSTART;TZID=Europe/Berlin:20260322T090000
DTEND;TZID=Europe/Berlin:20260322T110000
LOCATION:ZŠ Máj I\, M. Chlajna 1319 České Budějovice - České Budějovice 2
SUMMARY:MCR-U14Z-1I: SK Třebín-Králův Dvůr
END:VEVENT
BEGIN:VEVENT
UID:61323566-6665-4636-b966-313662373261
DTSTAMP:20260421T182803Z
DESCRIPTION:6/24 SK Třebín - TJ Baník Příbram 2:0 (19\,17)
DTSTART;TZID=Europe/Berlin:20260322T114000
DTEND;TZID=Europe/Berlin:20260322T134000
LOCATION:ZŠ Máj I\, M. Chlajna 1319 České Budějovice - České Budějovice 2
SUMMARY:MCR-U14Z-1I: SK Třebín-TJ Baník Příbram
END:VEVENT
BEGIN:VEVENT
UID:36343764-6435-4662-b036-306261333464
DTSTAMP:20260421T182803Z
DESCRIPTION:7/28 SK Třebín - Volejbal Rudolfov 0:2 (-21\,-11)
DTSTART;TZID=Europe/Berlin:20260322T140000
DTEND;TZID=Europe/Berlin:20260322T160000
LOCATION:ZŠ Máj I\, M. Chlajna 1319 České Budějovice - České Budějovice 2
SUMMARY:MCR-U14Z-1I: SK Třebín-Volejbal Rudolfov
END:VEVENT
BEGIN:VEVENT
UID:64626637-6434-4338-a165-343763396132
DTSTAMP:20260421T182803Z
DESCRIPTION:1/2 SC Braník - SK Třebín 0:2 (-19\,-10)
DTSTART;TZID=Europe/Berlin:20260321T113000
DTEND;TZID=Europe/Berlin:20260321T133000
LOCATION:Sokolovna Braník\, Branická 275 Praha - Braník
SUMMARY:MCR-U14Z-1I: SC Braník-SK Třebín
END:VEVENT
BEGIN:VEVENT
UID:35383639-6538-4632-b630-323361303865
DTSTAMP:20260421T182803Z
DESCRIPTION:2/6 Španielka - SK Třebín 2:1 (-18\,20\,11)
DTSTART;TZID=Europe/Berlin:20260321T134000
DTEND;TZID=Europe/Berlin:20260321T154000
LOCATION:Tělocvična ZŠ\, Španielova 1111 Praha - Řepy
SUMMARY:MCR-U14Z-1I: Španielka-SK Třebín
END:VEVENT
BEGIN:VEVENT
UID:32356434-6530-4566-a463-363262653063
DTSTAMP:20260421T182803Z
DESCRIPTION:3/9 Loko Plzeň B - SK Třebín 0:2 (-10\,-9)
DTSTART;TZID=Europe/Berlin:20260321T161000
DTEND;TZID=Europe/Berlin:20260321T181000
LOCATION:Městská sportovní hala  -  hala 2\, Úslavská 2357 Plzeň - Východní
  Předměstí
SUMMARY:MCR-U14Z-1I: Loko Plzeň B-SK Třebín
END:VEVENT
BEGIN:VEVENT
UID:64366530-6531-4466-b431-313431343162
DTSTAMP:20260421T182803Z
DESCRIPTION:8/15 SK Třebín - VK Raškovice 0:2 (-17\,-14)
DTSTART;TZID=Europe/Berlin:20260418T173000
DTEND;TZID=Europe/Berlin:20260418T193000
LOCATION:Tělocvična ZŠ J. Matiegky\, Pražská 2817 Mělník
SUMMARY:MCR-U14Z-2E: SK Třebín-VK Raškovice
END:VEVENT
BEGIN:VEVENT
UID:38323639-3964-4866-b962-626365363862
DTSTAMP:20260421T182803Z
DESCRIPTION:14/28 SK Třebín - VK Lvi Praha 2:1 (-21\,21\,10)
DTSTART;TZID=Europe/Berlin:20260419T150000
DTEND;TZID=Europe/Berlin:20260419T170000
LOCATION:Tělocvična ZŠ J. Matiegky\, Pražská 2817 Mělník
SUMMARY:MCR-U14Z-2E: SK Třebín-VK Lvi Praha
END:VEVENT
BEGIN:VEVENT
UID:32353462-6134-4435-b164-336531336530
DTSTAMP:20260421T182803Z
DESCRIPTION:2/4 Orion Praha - SK Třebín 2:0 (16\,18)
DTSTART;TZID=Europe/Berlin:20260418T100000
DTEND;TZID=Europe/Berlin:20260418T120000
LOCATION:Tělocvična ZŠ J. Matiegky\, Pražská 2817 Mělník
SUMMARY:MCR-U14Z-2E: Orion Praha-SK Třebín
END:VEVENT
BEGIN:VEVENT
UID:61383461-3337-4532-b239-333336366162
DTSTAMP:20260421T182803Z
DESCRIPTION:5/9 VK Kralupy - SK Třebín 2:0 (12\,7)
DTSTART;TZID=Europe/Berlin:20260418T134500
DTEND;TZID=Europe/Berlin:20260418T154500
LOCATION:Tělocvična ZŠ J. Matiegky\, Pražská 2817 Mělník
SUMMARY:MCR-U14Z-2E: VK Kralupy-SK Třebín
END:VEVENT
BEGIN:VEVENT
UID:38306631-6164-4632-b466-356337316230
DTSTAMP:20260421T182803Z
DESCRIPTION:6/12 Nové Veselí - SK Třebín 2:0 (20\,20)
DTSTART;TZID=Europe/Berlin:20260418T150000
DTEND;TZID=Europe/Berlin:20260418T170000
LOCATION:Tělocvična ZŠ J. Matiegky\, Pražská 2817 Mělník
SUMMARY:MCR-U14Z-2E: Nové Veselí-SK Třebín
END:VEVENT
BEGIN:VEVENT
UID:39386464-6530-4265-b736-633563653963
DTSTAMP:20260421T182803Z
DESCRIPTION:10/20 VK K. Vary - SK Třebín 1:2 (-27\,21\,-7)
DTSTART;TZID=Europe/Berlin:20260419T100000
DTEND;TZID=Europe/Berlin:20260419T120000
LOCATION:Tělocvična ZŠ J. Matiegky\, Pražská 2817 Mělník
SUMMARY:MCR-U14Z-2E: VK K. Vary-SK Třebín
END:VEVENT
BEGIN:VEVENT
UID:32636462-3330-4235-a437-653738343263
DTSTAMP:20260421T182803Z
DESCRIPTION:11/22 VAM Olomouc - SK Třebín 0:2 (-13\,-20)
DTSTART;TZID=Europe/Berlin:20260419T111500
DTEND;TZID=Europe/Berlin:20260419T131500
LOCATION:Tělocvična ZŠ J. Matiegky\, Pražská 2817 Mělník
SUMMARY:MCR-U14Z-2E: VAM Olomouc-SK Třebín
END:VEVENT
END:VCALENDAR
