BEGIN:VCALENDAR
VERSION:2.0
PRODID:-//Volejbal Aš - Klokani z.s.92237//NONSGML kigkonsult.se iCalcreator 2.41.80//
CALSCALE:GREGORIAN
UID:37393064-3261-4830-b365-343339366464
BEGIN:VEVENT
UID:62366436-3831-4463-a437-356136346436
DTSTAMP:20260422T085209Z
DESCRIPTION:1/1 Volejbal Aš - Klokani - VK K. Vary 0:2 (-12\,-4)
DTSTART;TZID=Europe/Berlin:20260321T090000
DTEND;TZID=Europe/Berlin:20260321T110000
LOCATION:Sportovní hala Textilka\, Gustava Geipela 2713 Aš
SUMMARY:MCR-U14Z-1K: Volejbal Aš - Klokani-VK K. Vary
END:VEVENT
BEGIN:VEVENT
UID:65353132-6563-4831-b963-393233373963
DTSTAMP:20260422T085209Z
DESCRIPTION:3/6 Volejbal Aš - Klokani - BVK Nymburské BOMBY 0:2 (-11\,-12)
DTSTART;TZID=Europe/Berlin:20260321T113000
DTEND;TZID=Europe/Berlin:20260321T133000
LOCATION:Sportovní hala Textilka\, Gustava Geipela 2713 Aš
SUMMARY:MCR-U14Z-1K: Volejbal Aš - Klokani-BVK Nymburské BOMBY
END:VEVENT
BEGIN:VEVENT
UID:33653138-3536-4330-b036-326261646633
DTSTAMP:20260422T085209Z
DESCRIPTION:5/10 Volejbal Aš - Klokani - SK Dansport Praha 1:2 (-21\,19\,-9
 )
DTSTART;TZID=Europe/Berlin:20260321T140000
DTEND;TZID=Europe/Berlin:20260321T160000
LOCATION:Sportovní hala Textilka\, Gustava Geipela 2713 Aš
SUMMARY:MCR-U14Z-1K: Volejbal Aš - Klokani-SK Dansport Praha
END:VEVENT
BEGIN:VEVENT
UID:32663736-3961-4537-b734-396234636533
DTSTAMP:20260422T085209Z
DESCRIPTION:6/12 Volejbal Aš - Klokani - Spirit 2:1 (6\,-18\,10)
DTSTART;TZID=Europe/Berlin:20260321T151500
DTEND;TZID=Europe/Berlin:20260321T171500
LOCATION:Sportovní hala Textilka\, Gustava Geipela 2713 Aš
SUMMARY:MCR-U14Z-1K: Volejbal Aš - Klokani-Spirit
END:VEVENT
BEGIN:VEVENT
UID:64343437-3364-4363-a430-323333653237
DTSTAMP:20260422T085209Z
DESCRIPTION:7/15 Volejbal Aš - Klokani - Tatran Střešovice 0:2 (-11\,-8)
DTSTART;TZID=Europe/Berlin:20260322T090000
DTEND;TZID=Europe/Berlin:20260322T110000
LOCATION:Sportovní hala Textilka\, Gustava Geipela 2713 Aš
SUMMARY:MCR-U14Z-1K: Volejbal Aš - Klokani-Tatran Střešovice
END:VEVENT
BEGIN:VEVENT
UID:30663437-6265-4938-b635-626533373937
DTSTAMP:20260422T085209Z
DESCRIPTION:9/23 Volejbal Aš - Klokani - VK Slavia Plzeň 0:2 (-14\,-10)
DTSTART;TZID=Europe/Berlin:20260322T120000
DTEND;TZID=Europe/Berlin:20260322T140000
LOCATION:Sportovní hala Textilka\, Gustava Geipela 2713 Aš
SUMMARY:MCR-U14Z-1K: Volejbal Aš - Klokani-VK Slavia Plzeň
END:VEVENT
BEGIN:VEVENT
UID:35396464-6635-4632-a165-383531306633
DTSTAMP:20260422T085209Z
DESCRIPTION:8/19 Volejbal Ústí n. L. - Volejbal Aš - Klokani 2:0 (9\,12)
DTSTART;TZID=Europe/Berlin:20260322T103000
DTEND;TZID=Europe/Berlin:20260322T123000
LOCATION:Tělocvična Gymnázia a Střední odborné školy dr. Václava Šmejkala\,
  Stará 3299 Ústí nad Labem - Severní Terasa
SUMMARY:MCR-U14Z-1K: Volejbal Ústí n. L.-Volejbal Aš - Klokani
END:VEVENT
END:VCALENDAR
