BEGIN:VCALENDAR
VERSION:2.0
PRODID:-//Volejbal Aš - Klokani z.s.92255//NONSGML kigkonsult.se iCalcreator 2.41.80//
CALSCALE:GREGORIAN
UID:37663064-6233-4662-a631-663138333634
BEGIN:VEVENT
UID:30366131-3636-4535-a431-643566333836
DTSTAMP:20260422T014818Z
DESCRIPTION:2/6 Volejbal Aš - Klokani z.s. - Jihostroj ČB
DTSTART;TZID=Europe/Berlin:20260425T123000
DTEND;TZID=Europe/Berlin:20260425T143000
LOCATION:ZŠ Oskara Nedbala České Budějovice\, O. Nedbala 882 České Budějovi
 ce - České Budějovice 2
SUMMARY:MCR-U14MA: Volejbal Aš - Klokani z.s.-Jihostroj ČB
END:VEVENT
BEGIN:VEVENT
UID:64373262-3039-4336-b535-343733323133
DTSTAMP:20260422T014818Z
DESCRIPTION:5/14 Volejbal Aš - Klokani z.s. - Jihostroj ČB
DTSTART;TZID=Europe/Berlin:20260425T173000
DTEND;TZID=Europe/Berlin:20260425T193000
LOCATION:ZŠ Oskara Nedbala České Budějovice\, O. Nedbala 882 České Budějovi
 ce - České Budějovice 2
SUMMARY:MCR-U14MA: Volejbal Aš - Klokani z.s.-Jihostroj ČB
END:VEVENT
BEGIN:VEVENT
UID:36626531-3833-4765-b437-343430636333
DTSTAMP:20260422T014818Z
DESCRIPTION:1/3 Volejbal Sokolov\, z.s. - Volejbal Aš - Klokani z.s.
DTSTART;TZID=Europe/Berlin:20260425T111500
DTEND;TZID=Europe/Berlin:20260425T131500
LOCATION:ZŠ Oskara Nedbala České Budějovice\, O. Nedbala 882 České Budějovi
 ce - České Budějovice 2
SUMMARY:MCR-U14MA: Volejbal Sokolov\, z.s.-Volejbal Aš - Klokani z.s.
END:VEVENT
BEGIN:VEVENT
UID:64373934-6336-4430-a365-633939373235
DTSTAMP:20260422T014818Z
DESCRIPTION:3/7 Český Krumlov - Volejbal Aš - Klokani z.s.
DTSTART;TZID=Europe/Berlin:20260425T134500
DTEND;TZID=Europe/Berlin:20260425T154500
LOCATION:ZŠ Oskara Nedbala České Budějovice\, O. Nedbala 882 České Budějovi
 ce - České Budějovice 2
SUMMARY:MCR-U14MA: Český Krumlov-Volejbal Aš - Klokani z.s.
END:VEVENT
BEGIN:VEVENT
UID:31626531-3938-4361-b138-353763386565
DTSTAMP:20260422T014818Z
DESCRIPTION:4/10 Klatovy - Volejbal Aš - Klokani z.s.
DTSTART;TZID=Europe/Berlin:20260425T150000
DTEND;TZID=Europe/Berlin:20260425T170000
LOCATION:ZŠ Oskara Nedbala České Budějovice\, O. Nedbala 882 České Budějovi
 ce - České Budějovice 2
SUMMARY:MCR-U14MA: Klatovy-Volejbal Aš - Klokani z.s.
END:VEVENT
END:VCALENDAR
