BEGIN:VCALENDAR
VERSION:2.0
PRODID:-//Volejbal Rudolfov92277//NONSGML kigkonsult.se iCalcreator 2.41.80//
CALSCALE:GREGORIAN
UID:39623535-3732-4562-b035-326637386366
BEGIN:VEVENT
UID:30303637-6331-4664-b862-643264363837
DTSTAMP:20260421T183710Z
DESCRIPTION:1/3 Volejbal Rudolfov - TJ Baník Příbram 2:0 (11\,10)
DTSTART;TZID=Europe/Berlin:20260321T113000
DTEND;TZID=Europe/Berlin:20260321T133000
LOCATION:Sportovní hala Rudolfov\, Adamovská 511 Rudolfov
SUMMARY:MCR-U14Z-1I: Volejbal Rudolfov-TJ Baník Příbram
END:VEVENT
BEGIN:VEVENT
UID:36356636-3038-4461-b331-623030613564
DTSTAMP:20260421T183710Z
DESCRIPTION:2/7 Volejbal Rudolfov - TJ Kunice 2:0 (4\,10)
DTSTART;TZID=Europe/Berlin:20260321T134000
DTEND;TZID=Europe/Berlin:20260321T154000
LOCATION:Sportovní hala Rudolfov\, Adamovská 511 Rudolfov
SUMMARY:MCR-U14Z-1I: Volejbal Rudolfov-TJ Kunice
END:VEVENT
BEGIN:VEVENT
UID:64383334-3831-4134-b739-303634343436
DTSTAMP:20260421T183710Z
DESCRIPTION:3/11 Volejbal Rudolfov - Králův Dvůr 2:0 (23\,11)
DTSTART;TZID=Europe/Berlin:20260321T161000
DTEND;TZID=Europe/Berlin:20260321T181000
LOCATION:Sportovní hala Rudolfov\, Adamovská 511 Rudolfov
SUMMARY:MCR-U14Z-1I: Volejbal Rudolfov-Králův Dvůr
END:VEVENT
BEGIN:VEVENT
UID:39623334-3833-4135-b664-313830306132
DTSTAMP:20260421T183710Z
DESCRIPTION:4/14 Španielka - Volejbal Rudolfov 0:2 (-13\,-15)
DTSTART;TZID=Europe/Berlin:20260321T183000
DTEND;TZID=Europe/Berlin:20260321T203000
LOCATION:Tělocvična ZŠ\, Španielova 1111 Praha - Řepy
SUMMARY:MCR-U14Z-1I: Španielka-Volejbal Rudolfov
END:VEVENT
BEGIN:VEVENT
UID:39323330-3936-4164-b964-303363396636
DTSTAMP:20260421T183710Z
DESCRIPTION:5/17 Loko Plzeň B - Volejbal Rudolfov 0:2 (-5\,-4)
DTSTART;TZID=Europe/Berlin:20260322T090000
DTEND;TZID=Europe/Berlin:20260322T110000
LOCATION:Městská sportovní hala  -  hala 2\, Úslavská 2357 Plzeň - Východní
  Předměstí
SUMMARY:MCR-U14Z-1I: Loko Plzeň B-Volejbal Rudolfov
END:VEVENT
BEGIN:VEVENT
UID:35393938-3165-4162-b837-353765663062
DTSTAMP:20260421T183710Z
DESCRIPTION:6/23 SC Braník - Volejbal Rudolfov 0:2 (-11\,-14)
DTSTART;TZID=Europe/Berlin:20260322T114000
DTEND;TZID=Europe/Berlin:20260322T134000
LOCATION:Sokolovna Braník\, Branická 275 Praha - Braník
SUMMARY:MCR-U14Z-1I: SC Braník-Volejbal Rudolfov
END:VEVENT
BEGIN:VEVENT
UID:61653235-6334-4661-a436-653135653232
DTSTAMP:20260421T183710Z
DESCRIPTION:7/28 SK Třebín - Volejbal Rudolfov 0:2 (-21\,-11)
DTSTART;TZID=Europe/Berlin:20260322T140000
DTEND;TZID=Europe/Berlin:20260322T160000
LOCATION:ZŠ Máj I\, M. Chlajna 1319 České Budějovice - České Budějovice 2
SUMMARY:MCR-U14Z-1I: SK Třebín-Volejbal Rudolfov
END:VEVENT
BEGIN:VEVENT
UID:66346364-3730-4035-b733-653630366332
DTSTAMP:20260421T183710Z
DESCRIPTION:2/5 Volejbal Rudolfov - VSK Zlín 2:0 (22\,16)
DTSTART;TZID=Europe/Berlin:20260418T113000
DTEND;TZID=Europe/Berlin:20260418T133000
LOCATION:Hala ZŠ Komenského\, Komenského 701 Bílovec
SUMMARY:MCR-U14Z-2C: Volejbal Rudolfov-VSK Zlín
END:VEVENT
BEGIN:VEVENT
UID:39376632-6137-4464-a363-343637386666
DTSTAMP:20260421T183710Z
DESCRIPTION:5/14 Volejbal Rudolfov - TJ VK Dukla Liberec 0:2 (-16\,-20)
DTSTART;TZID=Europe/Berlin:20260418T160000
DTEND;TZID=Europe/Berlin:20260418T180000
LOCATION:Hala ZŠ Komenského\, Komenského 701 Bílovec
SUMMARY:MCR-U14Z-2C: Volejbal Rudolfov-TJ VK Dukla Liberec
END:VEVENT
BEGIN:VEVENT
UID:65653530-3734-4338-b434-373064663034
DTSTAMP:20260421T183710Z
DESCRIPTION:8/21 Volejbal Rudolfov - Španielka 2:0 (18\,7)
DTSTART;TZID=Europe/Berlin:20260419T103000
DTEND;TZID=Europe/Berlin:20260419T123000
LOCATION:Hala ZŠ Komenského\, Komenského 701 Bílovec
SUMMARY:MCR-U14Z-2C: Volejbal Rudolfov-Španielka
END:VEVENT
BEGIN:VEVENT
UID:65633632-6636-4232-b965-666363363764
DTSTAMP:20260421T183710Z
DESCRIPTION:10/26 Volejbal Rudolfov - ŠSK Bílovec 2:1 (23\,-23\,12)
DTSTART;TZID=Europe/Berlin:20260419T130000
DTEND;TZID=Europe/Berlin:20260419T150000
LOCATION:Hala ZŠ Komenského\, Komenského 701 Bílovec
SUMMARY:MCR-U14Z-2C: Volejbal Rudolfov-ŠSK Bílovec
END:VEVENT
BEGIN:VEVENT
UID:36366563-3134-4434-b236-373663326234
DTSTAMP:20260421T183710Z
DESCRIPTION:1/3 VO TJ Lanškroun - Volejbal Rudolfov 0:2 (-6\,-11)
DTSTART;TZID=Europe/Berlin:20260418T100000
DTEND;TZID=Europe/Berlin:20260418T120000
LOCATION:Hala ZŠ Komenského\, Komenského 701 Bílovec
SUMMARY:MCR-U14Z-2C: VO TJ Lanškroun-Volejbal Rudolfov
END:VEVENT
BEGIN:VEVENT
UID:61316637-6235-4337-a633-643265666564
DTSTAMP:20260421T183710Z
DESCRIPTION:4/11 VK Rokycany - Volejbal Rudolfov 0:2 (-15\,-19)
DTSTART;TZID=Europe/Berlin:20260418T143000
DTEND;TZID=Europe/Berlin:20260418T163000
LOCATION:Hala ZŠ Komenského\, Komenského 701 Bílovec
SUMMARY:MCR-U14Z-2C: VK Rokycany-Volejbal Rudolfov
END:VEVENT
BEGIN:VEVENT
UID:62646634-3136-4139-b964-373437343536
DTSTAMP:20260421T183710Z
DESCRIPTION:7/19 PVK Olymp Praha - Volejbal Rudolfov 2:1 (-21\,19\,6)
DTSTART;TZID=Europe/Berlin:20260419T090000
DTEND;TZID=Europe/Berlin:20260419T110000
LOCATION:Hala ZŠ Komenského\, Komenského 701 Bílovec
SUMMARY:MCR-U14Z-2C: PVK Olymp Praha-Volejbal Rudolfov
END:VEVENT
BEGIN:VEVENT
UID:33663962-6131-4534-a365-363634313232
DTSTAMP:20260421T183710Z
DESCRIPTION:4/6 Volejbal Rudolfov - Volejbal Jihlava
DTSTART;TZID=Europe/Berlin:20260502T090000
DTEND;TZID=Europe/Berlin:20260502T110000
LOCATION:Sportovní hala Rudolfov\, Adamovská 511 Rudolfov
SUMMARY:MCR-U14Z-3D: Volejbal Rudolfov-Volejbal Jihlava
END:VEVENT
BEGIN:VEVENT
UID:65643137-3461-4838-b566-643138393336
DTSTAMP:20260421T183710Z
DESCRIPTION:2/3 Slavia HK - Volejbal Rudolfov
DTSTART;TZID=Europe/Berlin:20260501T153000
DTEND;TZID=Europe/Berlin:20260501T173000
LOCATION:TJ Slavia Hradec Králové\, Víta Nejedlého 1216 Hradec Králové
SUMMARY:MCR-U14Z-3D: Slavia HK-Volejbal Rudolfov
END:VEVENT
BEGIN:VEVENT
UID:37616166-3633-4535-b231-666231633566
DTSTAMP:20260421T183710Z
DESCRIPTION:3/5 KP Brno - Volejbal Rudolfov
DTSTART;TZID=Europe/Berlin:20260501T165000
DTEND;TZID=Europe/Berlin:20260501T185000
LOCATION:Sportovní gymnázium Ludvíka Daňka\, Botanická 63 Brno - Ponava
SUMMARY:MCR-U14Z-3D: KP Brno-Volejbal Rudolfov
END:VEVENT
BEGIN:VEVENT
UID:36343263-3061-4535-b030-316666396631
DTSTAMP:20260421T183710Z
DESCRIPTION:6/9 Mikulova Praha - Volejbal Rudolfov
DTSTART;TZID=Europe/Berlin:20260502T114000
DTEND;TZID=Europe/Berlin:20260502T134000
LOCATION:tělocvičny ZŠ Mikulova\, Mikulova 1594 Praha - Chodov
SUMMARY:MCR-U14Z-3D: Mikulova Praha-Volejbal Rudolfov
END:VEVENT
END:VCALENDAR
