BEGIN:VCALENDAR
VERSION:2.0
PRODID:-//VK Šantovka Olomouc UP92280//NONSGML kigkonsult.se iCalcreator 2.41.80//
CALSCALE:GREGORIAN
UID:34366634-3131-4939-b831-336138623262
BEGIN:VEVENT
UID:63613262-3639-4333-b637-666538333635
DTSTAMP:20260421T153343Z
DESCRIPTION:2/4 VK Olomouc - Klub volejbalu Kopřivnice 2:1 (18\,-18\,9)
DTSTART;TZID=Europe/Berlin:20260321T101500
DTEND;TZID=Europe/Berlin:20260321T121500
LOCATION:Víceúčelová sportovní hala\,  Raškovice18
SUMMARY:MCR-U14Z-1J: VK Olomouc-Klub volejbalu Kopřivnice
END:VEVENT
BEGIN:VEVENT
UID:36626563-3861-4330-b532-323735306666
DTSTAMP:20260421T153343Z
DESCRIPTION:4/11 VK Olomouc - VK AUSTIN Vsetín 2:0 (17\,10)
DTSTART;TZID=Europe/Berlin:20260321T140000
DTEND;TZID=Europe/Berlin:20260321T160000
LOCATION:Víceúčelová sportovní hala\,  Raškovice18
SUMMARY:MCR-U14Z-1J: VK Olomouc-VK AUSTIN Vsetín
END:VEVENT
BEGIN:VEVENT
UID:32363037-6632-4162-b365-383431316538
DTSTAMP:20260421T153343Z
DESCRIPTION:7/19 VK Olomouc - VO Slezská Orlice 2:0 (16\,6)
DTSTART;TZID=Europe/Berlin:20260322T090000
DTEND;TZID=Europe/Berlin:20260322T110000
LOCATION:Víceúčelová sportovní hala\,  Raškovice18
SUMMARY:MCR-U14Z-1J: VK Olomouc-VO Slezská Orlice
END:VEVENT
BEGIN:VEVENT
UID:34636238-3639-4033-b430-343031646439
DTSTAMP:20260421T153343Z
DESCRIPTION:3/7 TJ Ostrava - VK Olomouc 0:2 (-20\,-7)
DTSTART;TZID=Europe/Berlin:20260321T113000
DTEND;TZID=Europe/Berlin:20260321T133000
LOCATION:Víceúčelová sportovní hala\,  Raškovice18
SUMMARY:MCR-U14Z-1J: TJ Ostrava-VK Olomouc
END:VEVENT
BEGIN:VEVENT
UID:37323465-3035-4066-a338-366131633739
DTSTAMP:20260421T153343Z
DESCRIPTION:5/14 VK Raškovice - VK Olomouc 0:2 (-14\,-13)
DTSTART;TZID=Europe/Berlin:20260321T151500
DTEND;TZID=Europe/Berlin:20260321T171500
LOCATION:Víceúčelová sportovní hala\,  Raškovice18
SUMMARY:MCR-U14Z-1J: VK Raškovice-VK Olomouc
END:VEVENT
BEGIN:VEVENT
UID:63353233-6437-4137-b631-346439616237
DTSTAMP:20260421T153343Z
DESCRIPTION:8/21 KRS Uničov - VK Olomouc 0:2 (-5\,-5)
DTSTART;TZID=Europe/Berlin:20260322T101500
DTEND;TZID=Europe/Berlin:20260322T121500
LOCATION:Víceúčelová sportovní hala\,  Raškovice18
SUMMARY:MCR-U14Z-1J: KRS Uničov-VK Olomouc
END:VEVENT
BEGIN:VEVENT
UID:35623764-6665-4465-a263-373033316563
DTSTAMP:20260421T153343Z
DESCRIPTION:10/27 VK Polanka nad Odrou - VK Olomouc 0:2 (-17\,-16)
DTSTART;TZID=Europe/Berlin:20260322T140000
DTEND;TZID=Europe/Berlin:20260322T160000
LOCATION:Víceúčelová sportovní hala\,  Raškovice18
SUMMARY:MCR-U14Z-1J: VK Polanka nad Odrou-VK Olomouc
END:VEVENT
BEGIN:VEVENT
UID:31323136-6432-4932-a237-356639656334
DTSTAMP:20260421T153343Z
DESCRIPTION:3/6 VK Olomouc - Hronov 2:0 (18\,10)
DTSTART;TZID=Europe/Berlin:20260418T114500
DTEND;TZID=Europe/Berlin:20260418T134500
LOCATION:ZS Tererova \, Tererovo nám. 919 Olomouc - Nová Ulice
SUMMARY:MCR-U14Z-2D: VK Olomouc-Hronov
END:VEVENT
BEGIN:VEVENT
UID:35353130-3734-4435-b833-323534343966
DTSTAMP:20260421T153343Z
DESCRIPTION:8/15 VK Olomouc - SK Kometa Praha 2:0 (21\,19)
DTSTART;TZID=Europe/Berlin:20260418T180000
DTEND;TZID=Europe/Berlin:20260418T200000
LOCATION:ZS Tererova \, Tererovo nám. 919 Olomouc - Nová Ulice
SUMMARY:MCR-U14Z-2D: VK Olomouc-SK Kometa Praha
END:VEVENT
BEGIN:VEVENT
UID:34386532-3332-4338-a333-366135333661
DTSTAMP:20260421T153343Z
DESCRIPTION:10/20 VK Olomouc - Králův Dvůr 2:0 (23\,9)
DTSTART;TZID=Europe/Berlin:20260419T103000
DTEND;TZID=Europe/Berlin:20260419T123000
LOCATION:ZS Tererova \, Tererovo nám. 919 Olomouc - Nová Ulice
SUMMARY:MCR-U14Z-2D: VK Olomouc-Králův Dvůr
END:VEVENT
BEGIN:VEVENT
UID:34646333-3335-4163-b663-396430633938
DTSTAMP:20260421T153343Z
DESCRIPTION:13/26 VK Olomouc - SVK Nový Jičín 2:0 (15\,20)
DTSTART;TZID=Europe/Berlin:20260419T141500
DTEND;TZID=Europe/Berlin:20260419T161500
LOCATION:ZS Tererova \, Tererovo nám. 919 Olomouc - Nová Ulice
SUMMARY:MCR-U14Z-2D: VK Olomouc-SVK Nový Jičín
END:VEVENT
BEGIN:VEVENT
UID:31653639-3166-4132-a162-303631366163
DTSTAMP:20260421T153343Z
DESCRIPTION:2/3 Volejbal Jihlava - VK Olomouc 2:0 (16\,22)
DTSTART;TZID=Europe/Berlin:20260418T103000
DTEND;TZID=Europe/Berlin:20260418T123000
LOCATION:ZŠ Jihlava Demlova\, Demlova 4178 Jihlava
SUMMARY:MCR-U14Z-2D: Volejbal Jihlava-VK Olomouc
END:VEVENT
BEGIN:VEVENT
UID:33626139-6233-4538-a265-663365323438
DTSTAMP:20260421T153343Z
DESCRIPTION:5/9 VK Sever Žatec - VK Olomouc 0:2 (-22\,-13)
DTSTART;TZID=Europe/Berlin:20260418T141500
DTEND;TZID=Europe/Berlin:20260418T161500
LOCATION:TJ Sever Žatec Žatec\, Plzeňská 2787
SUMMARY:MCR-U14Z-2D: VK Sever Žatec-VK Olomouc
END:VEVENT
BEGIN:VEVENT
UID:39323033-6661-4864-a332-666632323764
DTSTAMP:20260421T153343Z
DESCRIPTION:11/22 TJ Svitavy - VK Olomouc 2:0 (23\,23)
DTSTART;TZID=Europe/Berlin:20260419T114500
DTEND;TZID=Europe/Berlin:20260419T134500
LOCATION:Sportovní hala Na Střelnici\, Pražská 2162 Svitavy - Předměstí
SUMMARY:MCR-U14Z-2D: TJ Svitavy-VK Olomouc
END:VEVENT
BEGIN:VEVENT
UID:62333039-3532-4536-a235-363661663833
DTSTAMP:20260421T153343Z
DESCRIPTION:6/9 VK Olomouc - VK Raškovice
DTSTART;TZID=Europe/Berlin:20260502T102000
DTEND;TZID=Europe/Berlin:20260502T122000
LOCATION:ZS Tererova \, Tererovo nám. 919 Olomouc - Nová Ulice
SUMMARY:MCR-U14Z-3C: VK Olomouc-VK Raškovice
END:VEVENT
BEGIN:VEVENT
UID:30396364-6332-4665-a263-386431623538
DTSTAMP:20260421T153343Z
DESCRIPTION:1/1 TJ VK Dukla Liberec - VK Olomouc
DTSTART;TZID=Europe/Berlin:20260501T140000
DTEND;TZID=Europe/Berlin:20260501T160000
LOCATION:Dukla Liberec\, Jeronýmova 558 Liberec - Liberec VII-Horní Růžodol
SUMMARY:MCR-U14Z-3C: TJ VK Dukla Liberec-VK Olomouc
END:VEVENT
BEGIN:VEVENT
UID:63316131-3231-4330-b566-623934313665
DTSTAMP:20260421T153343Z
DESCRIPTION:2/2 VK Znojmo - Přímětice - VK Olomouc
DTSTART;TZID=Europe/Berlin:20260501T153000
DTEND;TZID=Europe/Berlin:20260501T173000
LOCATION:Tělocvična ZŠ Prokopa Diviše a MŠ\, Ke Škole 569 Znojmo - Přímětic
 e
SUMMARY:MCR-U14Z-3C: VK Znojmo - Přímětice-VK Olomouc
END:VEVENT
BEGIN:VEVENT
UID:66356537-6230-4633-b839-616439623965
DTSTAMP:20260421T153343Z
DESCRIPTION:4/6 Loko Plzeň  A U14 - VK Olomouc
DTSTART;TZID=Europe/Berlin:20260501T181000
DTEND;TZID=Europe/Berlin:20260501T201000
LOCATION:Městská sportovní hala  -  hala 2\, Úslavská 2357 Plzeň - Východní
  Předměstí
SUMMARY:MCR-U14Z-3C: Loko Plzeň  A U14-VK Olomouc
END:VEVENT
END:VCALENDAR
