BEGIN:VCALENDAR
VERSION:2.0
PRODID:-//Tělovýchovná jednota Ostrava92286//NONSGML kigkonsult.se iCalcreator 2.41.80//
CALSCALE:GREGORIAN
UID:66663334-3436-4866-b363-353334383261
BEGIN:VEVENT
UID:61323565-3531-4563-b835-383463623962
DTSTAMP:20260421T151521Z
DESCRIPTION:3/7 TJ Ostrava - VK Olomouc 0:2 (-20\,-7)
DTSTART;TZID=Europe/Berlin:20260321T113000
DTEND;TZID=Europe/Berlin:20260321T133000
LOCATION:Víceúčelová sportovní hala\,  Raškovice18
SUMMARY:MCR-U14Z-1J: TJ Ostrava-VK Olomouc
END:VEVENT
BEGIN:VEVENT
UID:32373234-3833-4366-b738-303664373631
DTSTAMP:20260421T151521Z
DESCRIPTION:5/13 TJ Ostrava - Klub volejbalu Kopřivnice 0:2 (-11\,-14)
DTSTART;TZID=Europe/Berlin:20260321T151500
DTEND;TZID=Europe/Berlin:20260321T171500
LOCATION:Víceúčelová sportovní hala\,  Raškovice18
SUMMARY:MCR-U14Z-1J: TJ Ostrava-Klub volejbalu Kopřivnice
END:VEVENT
BEGIN:VEVENT
UID:39303235-3535-4633-a431-366563646462
DTSTAMP:20260421T151521Z
DESCRIPTION:7/18 TJ Ostrava - KRS Uničov 2:0 (13\,17)
DTSTART;TZID=Europe/Berlin:20260322T090000
DTEND;TZID=Europe/Berlin:20260322T110000
LOCATION:Víceúčelová sportovní hala\,  Raškovice18
SUMMARY:MCR-U14Z-1J: TJ Ostrava-KRS Uničov
END:VEVENT
BEGIN:VEVENT
UID:32613432-3239-4266-b931-376465313836
DTSTAMP:20260421T151521Z
DESCRIPTION:10/28 TJ Ostrava - VK Raškovice 0:2 (-3\,-21)
DTSTART;TZID=Europe/Berlin:20260322T140000
DTEND;TZID=Europe/Berlin:20260322T160000
LOCATION:Víceúčelová sportovní hala\,  Raškovice18
SUMMARY:MCR-U14Z-1J: TJ Ostrava-VK Raškovice
END:VEVENT
BEGIN:VEVENT
UID:38633866-3234-4239-b062-653538616661
DTSTAMP:20260421T151521Z
DESCRIPTION:1/3 VO Slezská Orlice - TJ Ostrava 1:2 (-19\,12\,-13)
DTSTART;TZID=Europe/Berlin:20260321T090000
DTEND;TZID=Europe/Berlin:20260321T110000
LOCATION:Víceúčelová sportovní hala\,  Raškovice18
SUMMARY:MCR-U14Z-1J: VO Slezská Orlice-TJ Ostrava
END:VEVENT
BEGIN:VEVENT
UID:62323061-6135-4363-b531-666136303135
DTSTAMP:20260421T151521Z
DESCRIPTION:4/10 VK Polanka nad Odrou - TJ Ostrava 2:1 (-22\,14\,8)
DTSTART;TZID=Europe/Berlin:20260321T140000
DTEND;TZID=Europe/Berlin:20260321T160000
LOCATION:Víceúčelová sportovní hala\,  Raškovice18
SUMMARY:MCR-U14Z-1J: VK Polanka nad Odrou-TJ Ostrava
END:VEVENT
BEGIN:VEVENT
UID:64353165-3461-4734-a431-373531376263
DTSTAMP:20260421T151521Z
DESCRIPTION:8/20 VK AUSTIN Vsetín - TJ Ostrava 2:0 (22\,7)
DTSTART;TZID=Europe/Berlin:20260322T101500
DTEND;TZID=Europe/Berlin:20260322T121500
LOCATION:Víceúčelová sportovní hala\,  Raškovice18
SUMMARY:MCR-U14Z-1J: VK AUSTIN Vsetín-TJ Ostrava
END:VEVENT
END:VCALENDAR
