BEGIN:VCALENDAR
VERSION:2.0
PRODID:-//Volejbal Rudolfov92357//NONSGML kigkonsult.se iCalcreator 2.41.80//
CALSCALE:GREGORIAN
UID:35663365-6130-4538-a236-633230303238
BEGIN:VEVENT
UID:35346233-6436-4234-b161-303539333764
DTSTAMP:20260423T180936Z
DESCRIPTION:1/5 Volejbal Rudolfov - SK TŘEBÍN 2:0 (9\,15)
DTSTART;TZID=Europe/Berlin:20260222T130000
DTEND;TZID=Europe/Berlin:20260222T150000
LOCATION:Sportovní hala Rudolfov\, Adamovská 511 Rudolfov
SUMMARY:TA-U14Z-OP: Volejbal Rudolfov-SK TŘEBÍN
END:VEVENT
BEGIN:VEVENT
UID:33616365-3866-4135-a266-626237376266
DTSTAMP:20260423T180936Z
DESCRIPTION:2/7 Volejbal Rudolfov - VSK Český Krumlov 2:0 (16\,12)\nČK\, Za
  Nádražím
DTSTART;TZID=Europe/Berlin:20260315T090000
DTEND;TZID=Europe/Berlin:20260315T110000
LOCATION:Sportovní hala Rudolfov\, Adamovská 511 Rudolfov
SUMMARY:TA-U14Z-OP: Volejbal Rudolfov-VSK Český Krumlov
END:VEVENT
BEGIN:VEVENT
UID:62333466-6564-4736-a238-333863643439
DTSTAMP:20260423T180936Z
DESCRIPTION:3/17 Volejbal Rudolfov - SK TŘEBÍN
DTSTART;TZID=Europe/Berlin:20260524T130000
DTEND;TZID=Europe/Berlin:20260524T150000
LOCATION:Sportovní hala Rudolfov\, Adamovská 511 Rudolfov
SUMMARY:TA-U14Z-OP: Volejbal Rudolfov-SK TŘEBÍN
END:VEVENT
BEGIN:VEVENT
UID:35643463-3563-4830-a666-366532333764
DTSTAMP:20260423T180936Z
DESCRIPTION:4/19 Volejbal Rudolfov - Volejbal Tábor\nRudolfov\, Zvíkov u ČB
DTSTART;TZID=Europe/Berlin:20260614T090000
DTEND;TZID=Europe/Berlin:20260614T110000
LOCATION:Sportovní hala Rudolfov\, Adamovská 511 Rudolfov
SUMMARY:TA-U14Z-OP: Volejbal Rudolfov-Volejbal Tábor
END:VEVENT
BEGIN:VEVENT
UID:34623938-3038-4038-b463-373234386663
DTSTAMP:20260423T180936Z
DESCRIPTION:4/22 Volejbal Rudolfov - VSK Český Krumlov
DTSTART;TZID=Europe/Berlin:20260614T120000
DTEND;TZID=Europe/Berlin:20260614T140000
LOCATION:Sportovní hala Rudolfov\, Adamovská 511 Rudolfov
SUMMARY:TA-U14Z-OP: Volejbal Rudolfov-VSK Český Krumlov
END:VEVENT
BEGIN:VEVENT
UID:63373364-3037-4562-b730-663533646662
DTSTAMP:20260423T180936Z
DESCRIPTION:1/1 Volejbal Tábor - Volejbal Rudolfov 0:2 (-11\,-8)\nTábor\, Z
 Š Husova
DTSTART;TZID=Europe/Berlin:20260222T090000
DTEND;TZID=Europe/Berlin:20260222T110000
LOCATION:Sportovní Hala Mír\, U Stadionu Míru 1579 Tábor
SUMMARY:TA-U14Z-OP: Volejbal Tábor-Volejbal Rudolfov
END:VEVENT
BEGIN:VEVENT
UID:36623137-3165-4332-b131-366138636139
DTSTAMP:20260423T180936Z
DESCRIPTION:1/4 VSK Český Krumlov - Volejbal Rudolfov 0:2 (-21\,-15)
DTSTART;TZID=Europe/Berlin:20260222T120000
DTEND;TZID=Europe/Berlin:20260222T140000
LOCATION:ZŠ Za Nádražím Český Krumlov\, Za Nádražím 222 Český Krumlov - Nád
 ražní Předměstí
SUMMARY:TA-U14Z-OP: VSK Český Krumlov-Volejbal Rudolfov
END:VEVENT
BEGIN:VEVENT
UID:38613032-3361-4237-b530-373064356661
DTSTAMP:20260423T180936Z
DESCRIPTION:2/9 SK TŘEBÍN - Volejbal Rudolfov 1:2 (22\,-17\,-13)
DTSTART;TZID=Europe/Berlin:20260315T110000
DTEND;TZID=Europe/Berlin:20260315T130000
LOCATION:ZŠ Máj I\, M. Chlajna 1319 České Budějovice - České Budějovice 2
SUMMARY:TA-U14Z-OP: SK TŘEBÍN-Volejbal Rudolfov
END:VEVENT
BEGIN:VEVENT
UID:64663637-6338-4934-a464-376366633935
DTSTAMP:20260423T180936Z
DESCRIPTION:2/11 Volejbal Tábor - Volejbal Rudolfov 0:2 (-23\,-8)
DTSTART;TZID=Europe/Berlin:20260315T130000
DTEND;TZID=Europe/Berlin:20260315T150000
LOCATION:Sportovní Hala Mír\, U Stadionu Míru 1579 Tábor
SUMMARY:TA-U14Z-OP: Volejbal Tábor-Volejbal Rudolfov
END:VEVENT
BEGIN:VEVENT
UID:31663762-6565-4862-a533-316362613435
DTSTAMP:20260423T180936Z
DESCRIPTION:3/13 Volejbal Tábor - Volejbal Rudolfov\nRudolfov\, Zvíkov u ČB
DTSTART;TZID=Europe/Berlin:20260524T090000
DTEND;TZID=Europe/Berlin:20260524T110000
LOCATION:Sportovní Hala Mír\, U Stadionu Míru 1579 Tábor
SUMMARY:TA-U14Z-OP: Volejbal Tábor-Volejbal Rudolfov
END:VEVENT
BEGIN:VEVENT
UID:65313436-3836-4533-b131-636435383763
DTSTAMP:20260423T180936Z
DESCRIPTION:3/16 VSK Český Krumlov - Volejbal Rudolfov
DTSTART;TZID=Europe/Berlin:20260524T120000
DTEND;TZID=Europe/Berlin:20260524T140000
LOCATION:ZŠ Za Nádražím Český Krumlov\, Za Nádražím 222 Český Krumlov - Nád
 ražní Předměstí
SUMMARY:TA-U14Z-OP: VSK Český Krumlov-Volejbal Rudolfov
END:VEVENT
BEGIN:VEVENT
UID:62623463-3263-4635-b961-623566313036
DTSTAMP:20260423T180936Z
DESCRIPTION:4/23 SK TŘEBÍN - Volejbal Rudolfov
DTSTART;TZID=Europe/Berlin:20260614T130000
DTEND;TZID=Europe/Berlin:20260614T150000
LOCATION:ZŠ Máj I\, M. Chlajna 1319 České Budějovice - České Budějovice 2
SUMMARY:TA-U14Z-OP: SK TŘEBÍN-Volejbal Rudolfov
END:VEVENT
END:VCALENDAR
