BEGIN:VCALENDAR
VERSION:2.0
PRODID:-//Volejbalový klub Rokycany92377//NONSGML kigkonsult.se iCalcreator 2.41.80//
CALSCALE:GREGORIAN
UID:35363136-3934-4337-a437-393038313835
BEGIN:VEVENT
UID:37363062-3266-4339-a239-366535353230
DTSTAMP:20260421T182152Z
DESCRIPTION:3/9 VK Rokycany - Benátky nad Jizerou A 2:0 (10\,14)
DTSTART;TZID=Europe/Berlin:20260321T120000
DTEND;TZID=Europe/Berlin:20260321T140000
LOCATION:Hala Gymnázia Rokycany\, Mládežníků 1115 Rokycany - Nové Město
SUMMARY:MCR-U14Z-1E: VK Rokycany-Benátky nad Jizerou A
END:VEVENT
BEGIN:VEVENT
UID:34613037-3338-4538-b461-623039656135
DTSTAMP:20260421T182152Z
DESCRIPTION:9/22 VK Rokycany - VSK Baník Sokolov 2:0 (7\,12)
DTSTART;TZID=Europe/Berlin:20260322T113000
DTEND;TZID=Europe/Berlin:20260322T133000
LOCATION:Hala Gymnázia Rokycany\, Mládežníků 1115 Rokycany - Nové Město
SUMMARY:MCR-U14Z-1E: VK Rokycany-VSK Baník Sokolov
END:VEVENT
BEGIN:VEVENT
UID:36313135-6234-4832-b134-343638343238
DTSTAMP:20260421T182152Z
DESCRIPTION:10/24 VK Rokycany - Orion Praha 0:2 (-18\,-21)
DTSTART;TZID=Europe/Berlin:20260322T124500
DTEND;TZID=Europe/Berlin:20260322T144500
LOCATION:Hala Gymnázia Rokycany\, Mládežníků 1115 Rokycany - Nové Město
SUMMARY:MCR-U14Z-1E: VK Rokycany-Orion Praha
END:VEVENT
BEGIN:VEVENT
UID:39393162-3862-4431-b536-386137636236
DTSTAMP:20260421T182152Z
DESCRIPTION:1/3 TJ Bižuterie Jablonec n/N - VK Rokycany 0:2 (-17\,-9)
DTSTART;TZID=Europe/Berlin:20260321T093000
DTEND;TZID=Europe/Berlin:20260321T113000
LOCATION:Městská sportovní hala\, U Přehrady 4747 Jablonec nad Nisou
SUMMARY:MCR-U14Z-1E: TJ Bižuterie Jablonec n/N-VK Rokycany
END:VEVENT
BEGIN:VEVENT
UID:39633435-3135-4130-a631-333466343666
DTSTAMP:20260421T182152Z
DESCRIPTION:2/5 VSK Spartak Děčín - VK Rokycany 0:2 (-18\,-12)
DTSTART;TZID=Europe/Berlin:20260321T104500
DTEND;TZID=Europe/Berlin:20260321T124500
LOCATION:Tělocvična SPŠSaSt a VOŠ Děčín Čsl. armády 681 Děčín\, 40502
SUMMARY:MCR-U14Z-1E: VSK Spartak Děčín-VK Rokycany
END:VEVENT
BEGIN:VEVENT
UID:34386337-3864-4930-b663-616132323961
DTSTAMP:20260421T182152Z
DESCRIPTION:5/14 Volejbal Vršovice A - VK Rokycany 1:2 (-18\,14\,-13)
DTSTART;TZID=Europe/Berlin:20260321T143000
DTEND;TZID=Europe/Berlin:20260321T163000
LOCATION:Sokolovna Vršovice\, Sportovní 111 Praha - Vršovice
SUMMARY:MCR-U14Z-1E: Volejbal Vršovice A-VK Rokycany
END:VEVENT
BEGIN:VEVENT
UID:32363961-6539-4533-b866-353662383033
DTSTAMP:20260421T182152Z
DESCRIPTION:7/18 TJ Slovan Varnsdorf - VK Rokycany 1:2 (20\,-9\,-9)
DTSTART;TZID=Europe/Berlin:20260322T090000
DTEND;TZID=Europe/Berlin:20260322T110000
LOCATION:Sportovní hala Varnsdorf\, Západní 2984 Varnsdorf
SUMMARY:MCR-U14Z-1E: TJ Slovan Varnsdorf-VK Rokycany
END:VEVENT
BEGIN:VEVENT
UID:31626533-3531-4137-a133-663930313963
DTSTAMP:20260421T182152Z
DESCRIPTION:2/6 VK Rokycany - PVK Olymp Praha 0:2 (-14\,-24)
DTSTART;TZID=Europe/Berlin:20260418T113000
DTEND;TZID=Europe/Berlin:20260418T133000
LOCATION:Hala ZŠ Komenského\, Komenského 701 Bílovec
SUMMARY:MCR-U14Z-2C: VK Rokycany-PVK Olymp Praha
END:VEVENT
BEGIN:VEVENT
UID:66663934-6432-4537-b930-623965346437
DTSTAMP:20260421T182152Z
DESCRIPTION:4/11 VK Rokycany - Volejbal Rudolfov 0:2 (-15\,-19)
DTSTART;TZID=Europe/Berlin:20260418T143000
DTEND;TZID=Europe/Berlin:20260418T163000
LOCATION:Hala ZŠ Komenského\, Komenského 701 Bílovec
SUMMARY:MCR-U14Z-2C: VK Rokycany-Volejbal Rudolfov
END:VEVENT
BEGIN:VEVENT
UID:38656433-6435-4764-b135-636238666337
DTSTAMP:20260421T182152Z
DESCRIPTION:7/18 VK Rokycany - VSK Zlín 2:0 (14\,21)
DTSTART;TZID=Europe/Berlin:20260419T090000
DTEND;TZID=Europe/Berlin:20260419T110000
LOCATION:Hala ZŠ Komenského\, Komenského 701 Bílovec
SUMMARY:MCR-U14Z-2C: VK Rokycany-VSK Zlín
END:VEVENT
BEGIN:VEVENT
UID:64326261-6362-4462-b330-386465383833
DTSTAMP:20260421T182152Z
DESCRIPTION:3/7 ŠSK Bílovec - VK Rokycany 2:1 (-18\,22\,13)
DTSTART;TZID=Europe/Berlin:20260418T130000
DTEND;TZID=Europe/Berlin:20260418T150000
LOCATION:Hala ZŠ Komenského\, Komenského 701 Bílovec
SUMMARY:MCR-U14Z-2C: ŠSK Bílovec-VK Rokycany
END:VEVENT
BEGIN:VEVENT
UID:33376635-6634-4133-b062-386466303736
DTSTAMP:20260421T182152Z
DESCRIPTION:6/16 VO TJ Lanškroun - VK Rokycany 1:2 (-16\,19\,-13)
DTSTART;TZID=Europe/Berlin:20260418T170000
DTEND;TZID=Europe/Berlin:20260418T190000
LOCATION:Hala ZŠ Komenského\, Komenského 701 Bílovec
SUMMARY:MCR-U14Z-2C: VO TJ Lanškroun-VK Rokycany
END:VEVENT
BEGIN:VEVENT
UID:34306334-3337-4765-a339-373330643662
DTSTAMP:20260421T182152Z
DESCRIPTION:9/24 Španielka - VK Rokycany 0:2 (-16\,-17)
DTSTART;TZID=Europe/Berlin:20260419T114500
DTEND;TZID=Europe/Berlin:20260419T134500
LOCATION:Hala ZŠ Komenského\, Komenského 701 Bílovec
SUMMARY:MCR-U14Z-2C: Španielka-VK Rokycany
END:VEVENT
BEGIN:VEVENT
UID:61653634-3962-4266-a133-303533393733
DTSTAMP:20260421T182152Z
DESCRIPTION:10/27 TJ VK Dukla Liberec - VK Rokycany 2:0 (16\,22)
DTSTART;TZID=Europe/Berlin:20260419T130000
DTEND;TZID=Europe/Berlin:20260419T150000
LOCATION:Hala ZŠ Komenského\, Komenského 701 Bílovec
SUMMARY:MCR-U14Z-2C: TJ VK Dukla Liberec-VK Rokycany
END:VEVENT
END:VCALENDAR
