BEGIN:VCALENDAR
VERSION:2.0
PRODID:-//Volejbalový klub Choceň, z.s.92392//NONSGML kigkonsult.se iCalcreator 2.41.80//
CALSCALE:GREGORIAN
UID:66633066-3261-4462-a461-323839353763
BEGIN:VEVENT
UID:61333930-3838-4532-a436-336332633933
DTSTAMP:20260422T175609Z
DESCRIPTION:1/4 VK Choceň - Sokol Písečná 2:0 (18\,19)
DTSTART;TZID=Europe/Berlin:20260222T100000
DTEND;TZID=Europe/Berlin:20260222T120000
SUMMARY:PA-Z-3-POHAR: VK Choceň-Sokol Písečná
END:VEVENT
BEGIN:VEVENT
UID:65313962-6465-4334-b661-663563636432
DTSTAMP:20260422T175609Z
DESCRIPTION:1/7 VK Choceň - Chvaletice 2:1 (-20\,14\,10)
DTSTART;TZID=Europe/Berlin:20260222T120000
DTEND;TZID=Europe/Berlin:20260222T140000
SUMMARY:PA-Z-3-POHAR: VK Choceň-Chvaletice
END:VEVENT
BEGIN:VEVENT
UID:39636439-3033-4531-a130-346563336531
DTSTAMP:20260422T175609Z
DESCRIPTION:1/10 VK Choceň - Moravská Třebová 2:0 (3\,16)
DTSTART;TZID=Europe/Berlin:20260222T130000
DTEND;TZID=Europe/Berlin:20260222T150000
SUMMARY:PA-Z-3-POHAR: VK Choceň-Moravská Třebová
END:VEVENT
BEGIN:VEVENT
UID:30396563-3632-4433-b037-616265353230
DTSTAMP:20260422T175609Z
DESCRIPTION:1/1 Tesla Pardubice - VK Choceň 0:2 (-20\,-15)
DTSTART;TZID=Europe/Berlin:20260222T090000
DTEND;TZID=Europe/Berlin:20260222T110000
SUMMARY:PA-Z-3-POHAR: Tesla Pardubice-VK Choceň
END:VEVENT
BEGIN:VEVENT
UID:36366633-6439-4564-b131-386462613033
DTSTAMP:20260422T175609Z
DESCRIPTION:1/2 VK Choceň - Sokol Písečná 2:1 (16\,20\,-14)
DTSTART;TZID=Europe/Berlin:20260330T103000
DTEND;TZID=Europe/Berlin:20260330T123000
SUMMARY:PA-Z-3-POHAR-FPA: VK Choceň-Sokol Písečná
END:VEVENT
BEGIN:VEVENT
UID:61633463-3330-4332-b131-666630636138
DTSTAMP:20260422T175609Z
DESCRIPTION:1/1 Chvaletice - VK Choceň 2:1 (15\,14\,-19)
DTSTART;TZID=Europe/Berlin:20260330T090000
DTEND;TZID=Europe/Berlin:20260330T110000
SUMMARY:PA-Z-3-POHAR-FPA: Chvaletice-VK Choceň
END:VEVENT
END:VCALENDAR
