BEGIN:VCALENDAR
VERSION:2.0
PRODID:-//Sportovní klub Pedagog České Budějovice, z.s.92397//NONSGML kigkonsult.se iCalcreator 2.41.80//
CALSCALE:GREGORIAN
UID:64313832-6266-4238-b766-303930373631
BEGIN:VEVENT
UID:62383262-3364-4062-b531-653565363664
DTSTAMP:20260422T042915Z
DESCRIPTION:1/2 Tygříci - TJ Jiskra T/VL.-ml.žačkyJanoušek Vlastimil
DTSTART;TZID=Europe/Berlin:20260301T100000
DTEND;TZID=Europe/Berlin:20260301T120000
LOCATION:Sportovní hala Lomnice\, Václavské nám. 707 Lomnice nad Lužnicí
SUMMARY:CB-U16Z-1B: Tygříci-TJ Jiskra T/VL.-ml.žačky
END:VEVENT
BEGIN:VEVENT
UID:34643137-3134-4063-a333-643562313639
DTSTAMP:20260422T042915Z
DESCRIPTION:1/5 Tygříci - TJ Jiskra Třeboň\, z.s.Janoušek Vlastimil
DTSTART;TZID=Europe/Berlin:20260301T130000
DTEND;TZID=Europe/Berlin:20260301T150000
LOCATION:Sportovní hala Lomnice\, Václavské nám. 707 Lomnice nad Lužnicí
SUMMARY:CB-U16Z-1B: Tygříci-TJ Jiskra Třeboň\, z.s.
END:VEVENT
BEGIN:VEVENT
UID:32306163-3936-4263-b265-343738313835
DTSTAMP:20260422T042915Z
DESCRIPTION:1/4 SK Otava Písek\, z.s. - TygříciJanoušek Vlastimil
DTSTART;TZID=Europe/Berlin:20260301T120000
DTEND;TZID=Europe/Berlin:20260301T140000
LOCATION:Sportovní hala Lomnice\, Václavské nám. 707 Lomnice nad Lužnicí
SUMMARY:CB-U16Z-1B: SK Otava Písek\, z.s.-Tygříci
END:VEVENT
BEGIN:VEVENT
UID:61623435-6330-4936-b062-316136366263
DTSTAMP:20260422T042915Z
DESCRIPTION:1/3 Tygříci - TJ Jiskra Třeboň\, z.s. 0:2 (-12\,-23)
DTSTART;TZID=Europe/Berlin:20260322T110000
DTEND;TZID=Europe/Berlin:20260322T130000
LOCATION:Sportovní hala Týn nad Vltavou\, Tyršova 780 Týn nad Vltavou
SUMMARY:CB-U16Z-2B: Tygříci-TJ Jiskra Třeboň\, z.s.
END:VEVENT
BEGIN:VEVENT
UID:62306134-3961-4664-b731-323633393330
DTSTAMP:20260422T042915Z
DESCRIPTION:1/1 Okresky - TygříciHoleček Milan
DTSTART;TZID=Europe/Berlin:20260322T090000
DTEND;TZID=Europe/Berlin:20260322T110000
LOCATION:Sportovní hala Týn nad Vltavou\, Tyršova 780 Týn nad Vltavou
SUMMARY:CB-U16Z-2B: Okresky-Tygříci
END:VEVENT
BEGIN:VEVENT
UID:30396564-6464-4634-b438-343334653839
DTSTAMP:20260422T042915Z
DESCRIPTION:1/5 TJ Jiskra T/VL.-ml.žačky - Tygříci 2:0 (12\,16)
DTSTART;TZID=Europe/Berlin:20260322T130000
DTEND;TZID=Europe/Berlin:20260322T150000
LOCATION:Sportovní hala Týn nad Vltavou\, Tyršova 780 Týn nad Vltavou
SUMMARY:CB-U16Z-2B: TJ Jiskra T/VL.-ml.žačky-Tygříci
END:VEVENT
BEGIN:VEVENT
UID:33373335-6632-4837-a531-613733643532
DTSTAMP:20260422T042915Z
DESCRIPTION:1/6 Tygříci - Volejbal TáborJanoušek Vlastimil
DTSTART;TZID=Europe/Berlin:20260426T140000
DTEND;TZID=Europe/Berlin:20260426T160000
LOCATION:Sportovní hala Lomnice\, Václavské nám. 707 Lomnice nad Lužnicí
SUMMARY:CB-U16Z-3B: Tygříci-Volejbal Tábor
END:VEVENT
BEGIN:VEVENT
UID:31656565-3763-4865-a535-346263623934
DTSTAMP:20260422T042915Z
DESCRIPTION:1/2 TJ Jiskra Třeboň\, z.s. - TygříciJanoušek Vlastimil
DTSTART;TZID=Europe/Berlin:20260426T100000
DTEND;TZID=Europe/Berlin:20260426T120000
LOCATION:Sportovní hala Lomnice\, Václavské nám. 707 Lomnice nad Lužnicí
SUMMARY:CB-U16Z-3B: TJ Jiskra Třeboň\, z.s.-Tygříci
END:VEVENT
BEGIN:VEVENT
UID:36346335-3831-4964-b338-663135613161
DTSTAMP:20260422T042915Z
DESCRIPTION:1/3 Okresky - TygříciJanoušek Vlastimil
DTSTART;TZID=Europe/Berlin:20260426T110000
DTEND;TZID=Europe/Berlin:20260426T130000
LOCATION:Sportovní hala Lomnice\, Václavské nám. 707 Lomnice nad Lužnicí
SUMMARY:CB-U16Z-3B: Okresky-Tygříci
END:VEVENT
END:VCALENDAR
