BEGIN:VCALENDAR
VERSION:2.0
PRODID:-//Okresky92401//NONSGML kigkonsult.se iCalcreator 2.41.80//
CALSCALE:GREGORIAN
UID:61383065-6563-4261-b565-646238616239
BEGIN:VEVENT
UID:62656234-3262-4334-b365-663361353330
DTSTAMP:20260422T060649Z
DESCRIPTION:1/2 Okresky - Volejbal Tábor 0:1 (-0)
DTSTART;TZID=Europe/Berlin:20260301T100000
DTEND;TZID=Europe/Berlin:20260301T120000
LOCATION:Sportovní hala Lomnice\, Václavské nám. 707 Lomnice nad Lužnicí
SUMMARY:CB-U16Z-1A: Okresky-Volejbal Tábor
END:VEVENT
BEGIN:VEVENT
UID:34663334-6532-4263-a631-393336373264
DTSTAMP:20260422T060649Z
DESCRIPTION:1/5 Okresky - SK TŘEBÍN 0:1 (-0)
DTSTART;TZID=Europe/Berlin:20260301T130000
DTEND;TZID=Europe/Berlin:20260301T150000
LOCATION:Sportovní hala Lomnice\, Václavské nám. 707 Lomnice nad Lužnicí
SUMMARY:CB-U16Z-1A: Okresky-SK TŘEBÍN
END:VEVENT
BEGIN:VEVENT
UID:35393433-3730-4232-b865-306563643566
DTSTAMP:20260422T060649Z
DESCRIPTION:1/4 Volejbal Rudolfov\, z.s. - OkreskyPetrovič Marek
DTSTART;TZID=Europe/Berlin:20260301T120000
DTEND;TZID=Europe/Berlin:20260301T140000
LOCATION:Sportovní hala Lomnice\, Václavské nám. 707 Lomnice nad Lužnicí
SUMMARY:CB-U16Z-1A: Volejbal Rudolfov\, z.s.-Okresky
END:VEVENT
BEGIN:VEVENT
UID:34626537-3262-4533-b132-346634346265
DTSTAMP:20260422T060649Z
DESCRIPTION:1/1 Okresky - TygříciHoleček Milan
DTSTART;TZID=Europe/Berlin:20260322T090000
DTEND;TZID=Europe/Berlin:20260322T110000
LOCATION:Sportovní hala Týn nad Vltavou\, Tyršova 780 Týn nad Vltavou
SUMMARY:CB-U16Z-2B: Okresky-Tygříci
END:VEVENT
BEGIN:VEVENT
UID:61363364-3638-4265-b030-396137316132
DTSTAMP:20260422T060649Z
DESCRIPTION:1/4 Okresky - TJ Jiskra T/VL.-ml.žačkyHoleček Milan
DTSTART;TZID=Europe/Berlin:20260322T120000
DTEND;TZID=Europe/Berlin:20260322T140000
LOCATION:Sportovní hala Týn nad Vltavou\, Tyršova 780 Týn nad Vltavou
SUMMARY:CB-U16Z-2B: Okresky-TJ Jiskra T/VL.-ml.žačky
END:VEVENT
BEGIN:VEVENT
UID:39346363-3263-4035-b365-303839326133
DTSTAMP:20260422T060649Z
DESCRIPTION:1/6 TJ Jiskra Třeboň\, z.s. - OkreskyHoleček Milan
DTSTART;TZID=Europe/Berlin:20260322T140000
DTEND;TZID=Europe/Berlin:20260322T160000
LOCATION:Sportovní hala Týn nad Vltavou\, Tyršova 780 Týn nad Vltavou
SUMMARY:CB-U16Z-2B: TJ Jiskra Třeboň\, z.s.-Okresky
END:VEVENT
BEGIN:VEVENT
UID:66663961-3866-4935-b237-646434323965
DTSTAMP:20260422T060649Z
DESCRIPTION:1/3 Okresky - TygříciJanoušek Vlastimil
DTSTART;TZID=Europe/Berlin:20260426T110000
DTEND;TZID=Europe/Berlin:20260426T130000
LOCATION:Sportovní hala Lomnice\, Václavské nám. 707 Lomnice nad Lužnicí
SUMMARY:CB-U16Z-3B: Okresky-Tygříci
END:VEVENT
BEGIN:VEVENT
UID:64396630-6331-4036-a265-383839323563
DTSTAMP:20260422T060649Z
DESCRIPTION:1/4 Volejbal Tábor - OkreskyJanoušek Vlastimil
DTSTART;TZID=Europe/Berlin:20260426T120000
DTEND;TZID=Europe/Berlin:20260426T140000
LOCATION:Sportovní hala Lomnice\, Václavské nám. 707 Lomnice nad Lužnicí
SUMMARY:CB-U16Z-3B: Volejbal Tábor-Okresky
END:VEVENT
BEGIN:VEVENT
UID:36313339-6435-4636-b435-366563383030
DTSTAMP:20260422T060649Z
DESCRIPTION:1/5 TJ Jiskra Třeboň\, z.s. - OkreskyJanoušek Vlastimil
DTSTART;TZID=Europe/Berlin:20260426T130000
DTEND;TZID=Europe/Berlin:20260426T150000
LOCATION:Sportovní hala Lomnice\, Václavské nám. 707 Lomnice nad Lužnicí
SUMMARY:CB-U16Z-3B: TJ Jiskra Třeboň\, z.s.-Okresky
END:VEVENT
END:VCALENDAR
