BEGIN:VCALENDAR
VERSION:2.0
PRODID:-//TJ Pardubičky, z.s.92416//NONSGML kigkonsult.se iCalcreator 2.41.80//
CALSCALE:GREGORIAN
UID:61323566-6338-4939-b061-373735636335
BEGIN:VEVENT
UID:37313937-3861-4534-b162-333463326534
DTSTAMP:20260422T065738Z
DESCRIPTION:1/3 Pardubičky - SKV Hlinsko 1:2 (23\,-11\,-8)
DTSTART;TZID=Europe/Berlin:20260307T102000
DTEND;TZID=Europe/Berlin:20260307T122000
SUMMARY:PA-M-3-POHAR: Pardubičky-SKV Hlinsko
END:VEVENT
BEGIN:VEVENT
UID:34343531-3138-4731-b937-363166356634
DTSTAMP:20260422T065738Z
DESCRIPTION:2/9 Pardubičky - SKV Hlinsko 2:1 (20\,-19\,12)
DTSTART;TZID=Europe/Berlin:20260328T102000
DTEND;TZID=Europe/Berlin:20260328T122000
SUMMARY:PA-M-3-POHAR: Pardubičky-SKV Hlinsko
END:VEVENT
BEGIN:VEVENT
UID:62346663-3531-4164-a564-363464663638
DTSTAMP:20260422T065738Z
DESCRIPTION:1/1 VK Choceň - Pardubičky 2:1 (-24\,14\,10)
DTSTART;TZID=Europe/Berlin:20260307T090000
DTEND;TZID=Europe/Berlin:20260307T110000
SUMMARY:PA-M-3-POHAR: VK Choceň-Pardubičky
END:VEVENT
BEGIN:VEVENT
UID:32393030-3361-4238-b830-353066366638
DTSTAMP:20260422T065738Z
DESCRIPTION:1/5 Sokol Pardubice JŘI - Pardubičky 1:2 (-14\,22\,-12)
DTSTART;TZID=Europe/Berlin:20260307T114000
DTEND;TZID=Europe/Berlin:20260307T134000
SUMMARY:PA-M-3-POHAR: Sokol Pardubice JŘI-Pardubičky
END:VEVENT
BEGIN:VEVENT
UID:33376230-3264-4365-b833-343832643434
DTSTAMP:20260422T065738Z
DESCRIPTION:2/7 VK Choceň - Pardubičky 0:2 (-22\,-24)
DTSTART;TZID=Europe/Berlin:20260328T090000
DTEND;TZID=Europe/Berlin:20260328T110000
SUMMARY:PA-M-3-POHAR: VK Choceň-Pardubičky
END:VEVENT
BEGIN:VEVENT
UID:39636130-3432-4435-a232-613532633735
DTSTAMP:20260422T065738Z
DESCRIPTION:2/11 Sokol Pardubice JŘI - Pardubičky 0:2 (-17\,-11)
DTSTART;TZID=Europe/Berlin:20260328T114000
DTEND;TZID=Europe/Berlin:20260328T134000
SUMMARY:PA-M-3-POHAR: Sokol Pardubice JŘI-Pardubičky
END:VEVENT
END:VCALENDAR
