BEGIN:VCALENDAR
VERSION:2.0
PRODID:-//Kladno volejbal cz92428//NONSGML kigkonsult.se iCalcreator 2.41.80//
CALSCALE:GREGORIAN
UID:38666661-3764-4235-a638-613464646630
BEGIN:VEVENT
UID:30633538-3166-4137-a336-353138633937
DTSTAMP:20260422T233158Z
DESCRIPTION:2/3 Kladno - TJ EMĚ Mělník 2:0 (6\,23)
DTSTART;TZID=Europe/Berlin:20260321T100000
DTEND;TZID=Europe/Berlin:20260321T120000
SUMMARY:MCR-U14Z-1A: Kladno-TJ EMĚ Mělník
END:VEVENT
BEGIN:VEVENT
UID:33633664-6261-4537-b335-616265383035
DTSTAMP:20260422T233158Z
DESCRIPTION:6/12 Kladno - SK Kometa Praha 1:2 (-12\,20\,-13)
DTSTART;TZID=Europe/Berlin:20260321T153000
DTEND;TZID=Europe/Berlin:20260321T173000
SUMMARY:MCR-U14Z-1A: Kladno-SK Kometa Praha
END:VEVENT
BEGIN:VEVENT
UID:37613438-3730-4861-a662-656639396562
DTSTAMP:20260422T233158Z
DESCRIPTION:13/25 Kladno - SK Meteor Praha 2:0 (16\,13)
DTSTART;TZID=Europe/Berlin:20260322T140000
DTEND;TZID=Europe/Berlin:20260322T160000
SUMMARY:MCR-U14Z-1A: Kladno-SK Meteor Praha
END:VEVENT
BEGIN:VEVENT
UID:38373635-3866-4333-a438-376434646132
DTSTAMP:20260422T233158Z
DESCRIPTION:14/28 Kladno - VK Kralupy 0:2 (-8\,-11)
DTSTART;TZID=Europe/Berlin:20260322T153000
DTEND;TZID=Europe/Berlin:20260322T173000
SUMMARY:MCR-U14Z-1A: Kladno-VK Kralupy
END:VEVENT
BEGIN:VEVENT
UID:37333839-3437-4262-b463-646366643635
DTSTAMP:20260422T233158Z
DESCRIPTION:4/8 TJ VK Dukla Liberec - Kladno 2:1 (-18\,17\,10)
DTSTART;TZID=Europe/Berlin:20260321T130000
DTEND;TZID=Europe/Berlin:20260321T150000
LOCATION:Dukla Liberec\, Jeronýmova 558 Liberec - Liberec VII-Horní Růžodol
SUMMARY:MCR-U14Z-1A: TJ VK Dukla Liberec-Kladno
END:VEVENT
BEGIN:VEVENT
UID:32653066-3964-4666-b637-656235643836
DTSTAMP:20260422T233158Z
DESCRIPTION:8/15 SKVD Úsťí n/L - Kladno 1:2 (11\,-21\,-5)
DTSTART;TZID=Europe/Berlin:20260321T180000
DTEND;TZID=Europe/Berlin:20260321T200000
LOCATION:Základní škola Stříbrnická\, Stříbrnická 3031 Ústí nad Labem - Sev
 erní Terasa
SUMMARY:MCR-U14Z-1A: SKVD Úsťí n/L-Kladno
END:VEVENT
BEGIN:VEVENT
UID:39373962-3830-4930-b962-323330623231
DTSTAMP:20260422T233158Z
DESCRIPTION:11/21 Volejbal Vršovice B - Kladno 0:2 (-1\,-12)
DTSTART;TZID=Europe/Berlin:20260322T113000
DTEND;TZID=Europe/Berlin:20260322T133000
LOCATION:Sokolovna Vršovice\, Sportovní 111 Praha - Vršovice
SUMMARY:MCR-U14Z-1A: Volejbal Vršovice B-Kladno
END:VEVENT
END:VCALENDAR
