BEGIN:VCALENDAR
VERSION:2.0
PRODID:-//TJ Kunice92429//NONSGML kigkonsult.se iCalcreator 2.41.80//
CALSCALE:GREGORIAN
UID:65353033-3761-4961-a366-663632613936
BEGIN:VEVENT
UID:65373934-3366-4431-a539-353665373939
DTSTAMP:20260421T182150Z
DESCRIPTION:1/4 TJ Kunice - Králův Dvůr 2:1 (15\,-18\,8)
DTSTART;TZID=Europe/Berlin:20260321T113000
DTEND;TZID=Europe/Berlin:20260321T133000
LOCATION:ZŠ Strančice\, Revoluční 170 Strančice
SUMMARY:MCR-U14Z-1I: TJ Kunice-Králův Dvůr
END:VEVENT
BEGIN:VEVENT
UID:38623564-6333-4232-a137-333439363436
DTSTAMP:20260421T182150Z
DESCRIPTION:2/7 Volejbal Rudolfov - TJ Kunice 2:0 (4\,10)
DTSTART;TZID=Europe/Berlin:20260321T134000
DTEND;TZID=Europe/Berlin:20260321T154000
LOCATION:Sportovní hala Rudolfov\, Adamovská 511 Rudolfov
SUMMARY:MCR-U14Z-1I: Volejbal Rudolfov-TJ Kunice
END:VEVENT
BEGIN:VEVENT
UID:66646565-3466-4232-b661-653565613265
DTSTAMP:20260421T182150Z
DESCRIPTION:3/12 TJ Baník Příbram - TJ Kunice 0:2 (-18\,-23)
DTSTART;TZID=Europe/Berlin:20260321T161000
DTEND;TZID=Europe/Berlin:20260321T181000
LOCATION:Tělocvična ZŠ Balbínova\, Balbínova 328 Příbram - Příbram II
SUMMARY:MCR-U14Z-1I: TJ Baník Příbram-TJ Kunice
END:VEVENT
BEGIN:VEVENT
UID:39383631-6262-4965-b266-376630306430
DTSTAMP:20260421T182150Z
DESCRIPTION:4/16 SK Třebín - TJ Kunice 2:0 (17\,15)
DTSTART;TZID=Europe/Berlin:20260321T183000
DTEND;TZID=Europe/Berlin:20260321T203000
LOCATION:ZŠ Máj I\, M. Chlajna 1319 České Budějovice - České Budějovice 2
SUMMARY:MCR-U14Z-1I: SK Třebín-TJ Kunice
END:VEVENT
BEGIN:VEVENT
UID:61666335-6538-4231-a133-376361393638
DTSTAMP:20260421T182150Z
DESCRIPTION:5/19 SC Braník - TJ Kunice 0:2 (-8\,-16)
DTSTART;TZID=Europe/Berlin:20260322T090000
DTEND;TZID=Europe/Berlin:20260322T110000
LOCATION:Sokolovna Braník\, Branická 275 Praha - Braník
SUMMARY:MCR-U14Z-1I: SC Braník-TJ Kunice
END:VEVENT
BEGIN:VEVENT
UID:37666332-3833-4165-b664-316263613534
DTSTAMP:20260421T182150Z
DESCRIPTION:6/21 Loko Plzeň B - TJ Kunice 0:2 (-20\,-14)
DTSTART;TZID=Europe/Berlin:20260322T114000
DTEND;TZID=Europe/Berlin:20260322T134000
LOCATION:Městská sportovní hala  -  hala 2\, Úslavská 2357 Plzeň - Východní
  Předměstí
SUMMARY:MCR-U14Z-1I: Loko Plzeň B-TJ Kunice
END:VEVENT
BEGIN:VEVENT
UID:35666364-6138-4062-a536-643533336238
DTSTAMP:20260421T182150Z
DESCRIPTION:7/26 Španielka - TJ Kunice 2:0 (19\,18)
DTSTART;TZID=Europe/Berlin:20260322T140000
DTEND;TZID=Europe/Berlin:20260322T160000
LOCATION:Tělocvična ZŠ\, Španielova 1111 Praha - Řepy
SUMMARY:MCR-U14Z-1I: Španielka-TJ Kunice
END:VEVENT
END:VCALENDAR
