BEGIN:VCALENDAR
VERSION:2.0
PRODID:-//Tělocvičná jednota Sokol Brandýs nad Labem92435//NONSGML kigkonsult.se iCalcreator 2.41.80//
CALSCALE:GREGORIAN
UID:37643436-6164-4763-b661-653361616462
BEGIN:VEVENT
UID:62616163-3837-4566-b736-633562643337
DTSTAMP:20260421T134427Z
DESCRIPTION:1/1 Brandýs nad Labem - VK Lvi Praha 0:2 (-13\,-22)
DTSTART;TZID=Europe/Berlin:20260321T093000
DTEND;TZID=Europe/Berlin:20260321T113000
LOCATION:Sokolovna\, Zápská 329 Brandýs nad Labem-Stará Boleslav - Brandýs 
 nad Labem
SUMMARY:MCR-U14Z-1C: Brandýs nad Labem-VK Lvi Praha
END:VEVENT
BEGIN:VEVENT
UID:62363731-3833-4231-b733-333034303461
DTSTAMP:20260421T134427Z
DESCRIPTION:4/8 Brandýs nad Labem - Škola volejbalu Č. Budějovice 1:2 (-10\
 ,23\,-9)
DTSTART;TZID=Europe/Berlin:20260321T125000
DTEND;TZID=Europe/Berlin:20260321T145000
LOCATION:Sokolovna\, Zápská 329 Brandýs nad Labem-Stará Boleslav - Brandýs 
 nad Labem
SUMMARY:MCR-U14Z-1C: Brandýs nad Labem-Škola volejbalu Č. Budějovice
END:VEVENT
BEGIN:VEVENT
UID:32643534-3239-4563-b136-373935653937
DTSTAMP:20260421T134427Z
DESCRIPTION:7/17 Brandýs nad Labem - Mikulova Praha 0:2 (-4\,-10)
DTSTART;TZID=Europe/Berlin:20260322T090000
DTEND;TZID=Europe/Berlin:20260322T110000
LOCATION:Sokolovna\, Zápská 329 Brandýs nad Labem-Stará Boleslav - Brandýs 
 nad Labem
SUMMARY:MCR-U14Z-1C: Brandýs nad Labem-Mikulova Praha
END:VEVENT
BEGIN:VEVENT
UID:61326537-3265-4931-b262-313437316634
DTSTAMP:20260421T134427Z
DESCRIPTION:3/5 SK Volejbal Klatovy - Brandýs nad Labem 2:0 (16\,24)
DTSTART;TZID=Europe/Berlin:20260321T114000
DTEND;TZID=Europe/Berlin:20260321T134000
LOCATION:Sportovní hala ZŠ Čapkova\, Čapkova 136 Klatovy - Klatovy V
SUMMARY:MCR-U14Z-1C: SK Volejbal Klatovy-Brandýs nad Labem
END:VEVENT
BEGIN:VEVENT
UID:38363161-6362-4932-b061-656635633336
DTSTAMP:20260421T134427Z
DESCRIPTION:5/11 VSK Český Krumlov - Brandýs nad Labem 2:0 (20\,21)
DTSTART;TZID=Europe/Berlin:20260321T143000
DTEND;TZID=Europe/Berlin:20260321T163000
LOCATION:ZŠ Za Nádražím Český Krumlov\, Za Nádražím 222 Český Krumlov - Nád
 ražní Předměstí
SUMMARY:MCR-U14Z-1C: VSK Český Krumlov-Brandýs nad Labem
END:VEVENT
BEGIN:VEVENT
UID:63633931-6636-4263-b461-343538613935
DTSTAMP:20260421T134427Z
DESCRIPTION:9/23 Volejbal Tábor - Brandýs nad Labem 2:0 (12\,15)
DTSTART;TZID=Europe/Berlin:20260322T112000
DTEND;TZID=Europe/Berlin:20260322T132000
LOCATION:Sportovní Hala Mír\, U Stadionu Míru 1579 Tábor
SUMMARY:MCR-U14Z-1C: Volejbal Tábor-Brandýs nad Labem
END:VEVENT
BEGIN:VEVENT
UID:35646536-3036-4230-b033-316430363466
DTSTAMP:20260421T134427Z
DESCRIPTION:10/26 S V B C - Brandýs nad Labem 2:1 (-23\,20\,7)
DTSTART;TZID=Europe/Berlin:20260322T123000
DTEND;TZID=Europe/Berlin:20260322T143000
LOCATION:Sportovní hala Řevnice \, Školní 600 Řevnice
SUMMARY:MCR-U14Z-1C: S V B C-Brandýs nad Labem
END:VEVENT
END:VCALENDAR
