BEGIN:VCALENDAR
VERSION:2.0
PRODID:-//SK Volejbal Kolín, z.s.92450//NONSGML kigkonsult.se iCalcreator 2.41.80//
CALSCALE:GREGORIAN
UID:65393636-3365-4262-b532-643134316165
BEGIN:VEVENT
UID:37613039-6462-4931-b866-336561383536
DTSTAMP:20260422T065738Z
DESCRIPTION:4/10 Kolín - SK PROSEK
DTSTART;TZID=Europe/Berlin:20260425T140000
DTEND;TZID=Europe/Berlin:20260425T160000
LOCATION:Sportovní hala TJ Jiskra\, Ledečská 3028 Havlíčkův Brod
SUMMARY:MCR-U14MB: Kolín-SK PROSEK
END:VEVENT
BEGIN:VEVENT
UID:65366434-3233-4636-a234-306461323232
DTSTAMP:20260422T065738Z
DESCRIPTION:6/14 Kolín - TJ Jiskra Havlíčkův Brod
DTSTART;TZID=Europe/Berlin:20260425T170000
DTEND;TZID=Europe/Berlin:20260425T190000
LOCATION:Sportovní hala TJ Jiskra\, Ledečská 3028 Havlíčkův Brod
SUMMARY:MCR-U14MB: Kolín-TJ Jiskra Havlíčkův Brod
END:VEVENT
BEGIN:VEVENT
UID:34333966-3436-4632-b535-316665646536
DTSTAMP:20260422T065738Z
DESCRIPTION:1/2 Orion Praha - Kolín
DTSTART;TZID=Europe/Berlin:20260425T093000
DTEND;TZID=Europe/Berlin:20260425T113000
LOCATION:Sportovní hala TJ Jiskra\, Ledečská 3028 Havlíčkův Brod
SUMMARY:MCR-U14MB: Orion Praha-Kolín
END:VEVENT
BEGIN:VEVENT
UID:36363835-3365-4963-b262-313938333136
DTSTAMP:20260422T065738Z
DESCRIPTION:2/5 VK Jirkov - Kolín
DTSTART;TZID=Europe/Berlin:20260425T110000
DTEND;TZID=Europe/Berlin:20260425T130000
LOCATION:Sportovní hala TJ Jiskra\, Ledečská 3028 Havlíčkův Brod
SUMMARY:MCR-U14MB: VK Jirkov-Kolín
END:VEVENT
BEGIN:VEVENT
UID:37613664-6130-4136-b562-363938663334
DTSTAMP:20260422T065738Z
DESCRIPTION:5/12 SKV Ústí n. L. - Kolín
DTSTART;TZID=Europe/Berlin:20260425T153000
DTEND;TZID=Europe/Berlin:20260425T173000
LOCATION:Sportovní hala TJ Jiskra\, Ledečská 3028 Havlíčkův Brod
SUMMARY:MCR-U14MB: SKV Ústí n. L.-Kolín
END:VEVENT
END:VCALENDAR
