BEGIN:VCALENDAR
VERSION:2.0
PRODID:-//Volejbalový klub Příbram z.s.92451//NONSGML kigkonsult.se iCalcreator 2.41.80//
CALSCALE:GREGORIAN
UID:32376363-3736-4132-a333-323561656630
BEGIN:VEVENT
UID:31386164-6139-4831-a232-383562663436
DTSTAMP:20260425T014441Z
DESCRIPTION:1/3 Příbram - Odolena Voda
DTSTART;TZID=Europe/Berlin:20260425T093000
DTEND;TZID=Europe/Berlin:20260425T113000
LOCATION:Sportovní hala TJ Jiskra\, Ledečská 3028 Havlíčkův Brod
SUMMARY:MCR-U14MC: Příbram-Odolena Voda
END:VEVENT
BEGIN:VEVENT
UID:63623837-3332-4731-a265-323065336230
DTSTAMP:20260425T014441Z
DESCRIPTION:3/8 Příbram - Vršovice A
DTSTART;TZID=Europe/Berlin:20260425T123000
DTEND;TZID=Europe/Berlin:20260425T143000
LOCATION:Sportovní hala TJ Jiskra\, Ledečská 3028 Havlíčkův Brod
SUMMARY:MCR-U14MC: Příbram-Vršovice A
END:VEVENT
BEGIN:VEVENT
UID:38346233-6432-4761-b435-346365316232
DTSTAMP:20260425T014441Z
DESCRIPTION:5/13 Příbram - Tělovýchovná jednota Spartak Velké Meziříčí\, z.
 s.
DTSTART;TZID=Europe/Berlin:20260425T153000
DTEND;TZID=Europe/Berlin:20260425T173000
LOCATION:Sportovní hala TJ Jiskra\, Ledečská 3028 Havlíčkův Brod
SUMMARY:MCR-U14MC: Příbram-Tělovýchovná jednota Spartak Velké Meziříčí\, z.
 s.
END:VEVENT
BEGIN:VEVENT
UID:35613334-3935-4564-a265-336566326337
DTSTAMP:20260425T014441Z
DESCRIPTION:2/4 VK Lvi Praha\, z.s. - Příbram
DTSTART;TZID=Europe/Berlin:20260425T110000
DTEND;TZID=Europe/Berlin:20260425T130000
LOCATION:Sportovní hala TJ Jiskra\, Ledečská 3028 Havlíčkův Brod
SUMMARY:MCR-U14MC: VK Lvi Praha\, z.s.-Příbram
END:VEVENT
BEGIN:VEVENT
UID:31656465-3435-4639-a638-346232343166
DTSTAMP:20260425T014441Z
DESCRIPTION:4/9 Volejbalový klub Benátky nad Jizerou\, z.s. - Příbram
DTSTART;TZID=Europe/Berlin:20260425T140000
DTEND;TZID=Europe/Berlin:20260425T160000
LOCATION:Sportovní hala TJ Jiskra\, Ledečská 3028 Havlíčkův Brod
SUMMARY:MCR-U14MC: Volejbalový klub Benátky nad Jizerou\, z.s.-Příbram
END:VEVENT
END:VCALENDAR
