BEGIN:VCALENDAR
VERSION:2.0
PRODID:-//TJ Pardubičky, z.s.92471//NONSGML kigkonsult.se iCalcreator 2.41.80//
CALSCALE:GREGORIAN
UID:61333063-3434-4661-b038-343135663932
BEGIN:VEVENT
UID:36613138-3635-4031-b764-643937616639
DTSTAMP:20260422T065739Z
DESCRIPTION:1/3 TJ Pardubičky - VK Choceň 2:0 (21\,10)
DTSTART;TZID=Europe/Berlin:20260418T102000
DTEND;TZID=Europe/Berlin:20260418T122000
SUMMARY:PA-M-3-POHAR-FVP: TJ Pardubičky-VK Choceň
END:VEVENT
BEGIN:VEVENT
UID:32303865-3838-4636-b766-386437373563
DTSTAMP:20260422T065739Z
DESCRIPTION:1/1 Sokol Malšovice - TJ Pardubičky 0:2 (-25\,-23)
DTSTART;TZID=Europe/Berlin:20260418T090000
DTEND;TZID=Europe/Berlin:20260418T110000
SUMMARY:PA-M-3-POHAR-FVP: Sokol Malšovice-TJ Pardubičky
END:VEVENT
BEGIN:VEVENT
UID:39363739-6366-4963-b237-366465316430
DTSTAMP:20260422T065739Z
DESCRIPTION:1/5 Sokol Stěžery - TJ Pardubičky 2:0 (24\,21)
DTSTART;TZID=Europe/Berlin:20260418T114000
DTEND;TZID=Europe/Berlin:20260418T134000
SUMMARY:PA-M-3-POHAR-FVP: Sokol Stěžery-TJ Pardubičky
END:VEVENT
END:VCALENDAR
