BEGIN:VCALENDAR
VERSION:2.0
PRODID:-//Hronov C92478//NONSGML kigkonsult.se iCalcreator 2.41.80//
CALSCALE:GREGORIAN
UID:34656662-6162-4963-a262-623661633337
BEGIN:VEVENT
UID:31313361-6435-4339-a435-333966663031
DTSTAMP:20260422T065738Z
DESCRIPTION:1/1 Hronov C - Broumov Hol. X:2
DTSTART;TZID=Europe/Berlin:20260419T090000
DTEND;TZID=Europe/Berlin:20260419T110000
SUMMARY:NA-U16M4C: Hronov C-Broumov Hol.
END:VEVENT
BEGIN:VEVENT
UID:64376266-3866-4266-b435-616665376230
DTSTAMP:20260422T065738Z
DESCRIPTION:2/4 Hronov C - Broumov C X:2
DTSTART;TZID=Europe/Berlin:20260419T100000
DTEND;TZID=Europe/Berlin:20260419T120000
SUMMARY:NA-U16M4C: Hronov C-Broumov C
END:VEVENT
BEGIN:VEVENT
UID:30626165-3062-4235-a433-613265356438
DTSTAMP:20260422T065738Z
DESCRIPTION:3/6 VoCe - Hronov C 2:X
DTSTART;TZID=Europe/Berlin:20260419T110000
DTEND;TZID=Europe/Berlin:20260419T130000
SUMMARY:NA-U16M4C: VoCe-Hronov C
END:VEVENT
END:VCALENDAR
