BEGIN:VCALENDAR
VERSION:2.0
PRODID:-//ST-ZKYM-J2A//NONSGML kigkonsult.se iCalcreator 2.41.80//
CALSCALE:GREGORIAN
UID:66306337-6431-4231-a266-303734653836
BEGIN:VEVENT
UID:36646338-3837-4466-b565-663734663330
DTSTAMP:20260422T053858Z
DESCRIPTION:1/1 Kostomlaty nad Labem - Pečky 2:1 (-16\,16\,8)\nPořadatel: V
 K Benešovská
DTSTART;TZID=Europe/Berlin:20190428T100000
DTEND;TZID=Europe/Berlin:20190428T120000
LOCATION:Sokol Kostomlaty - antukové kurty
SUMMARY:ST-ZKYM-J2A: Kostomlaty nad Labem-Pečky
END:VEVENT
BEGIN:VEVENT
UID:66633766-3262-4238-b433-323863363031
DTSTAMP:20260422T053858Z
DESCRIPTION:1/3 Pečky - Kralupy B 0:2 (-20\,-16)
DTSTART;TZID=Europe/Berlin:20190428T100000
DTEND;TZID=Europe/Berlin:20190428T120000
LOCATION:PARKHALA
SUMMARY:ST-ZKYM-J2A: Pečky-Kralupy B
END:VEVENT
BEGIN:VEVENT
UID:65656538-3830-4931-b832-393237306166
DTSTAMP:20260422T053858Z
DESCRIPTION:1/5 Kralupy B - Kostomlaty nad Labem 2:0 (22\,23)
DTSTART;TZID=Europe/Berlin:20190428T100000
DTEND;TZID=Europe/Berlin:20190428T120000
LOCATION:ZŠ Generála Klapálka/areál Sokoliště
SUMMARY:ST-ZKYM-J2A: Kralupy B-Kostomlaty nad Labem
END:VEVENT
END:VCALENDAR
