BEGIN:VCALENDAR
VERSION:2.0
PRODID:-//MS-ZKY-KAU//NONSGML kigkonsult.se iCalcreator 2.41.80//
CALSCALE:GREGORIAN
UID:30633363-3664-4635-b136-353131323664
BEGIN:VEVENT
UID:36643262-6465-4433-a234-393530653137
DTSTAMP:20260421T161238Z
DESCRIPTION:1/1 VK Polanka n/O - SVK Nový Jičín C 0:2 (-20\,-14)
DTSTART;TZID=Europe/Berlin:20201004T133000
DTEND;TZID=Europe/Berlin:20201004T153000
LOCATION:Sportovní hala\, Heleny Salichové 1275 Ostrava - Polanka nad Odrou
SUMMARY:MS-ZKY-KAU: VK Polanka n/O-SVK Nový Jičín C
END:VEVENT
BEGIN:VEVENT
UID:39346539-6434-4263-b261-343966653430
DTSTAMP:20260421T161238Z
DESCRIPTION:2/2 VK Polanka n/O - VAM Havířov 2:1 (10\,-10\,11)
DTSTART;TZID=Europe/Berlin:20201004T150000
DTEND;TZID=Europe/Berlin:20201004T170000
LOCATION:Sportovní hala\, Heleny Salichové 1275 Ostrava - Polanka nad Odrou
SUMMARY:MS-ZKY-KAU: VK Polanka n/O-VAM Havířov
END:VEVENT
END:VCALENDAR
