BEGIN:VCALENDAR
VERSION:2.0
PRODID:-//1-KKY-T1//NONSGML kigkonsult.se iCalcreator 2.41.80//
CALSCALE:GREGORIAN
UID:63633065-3265-4763-a438-646465656433
BEGIN:VEVENT
UID:63623838-3535-4163-a432-333633313062
DTSTAMP:20260421T210040Z
DESCRIPTION:1/1 Lanškroun - Nové Veselí 3:1 (20\,14\,-12\,21)
DTSTART;TZID=Europe/Berlin:20220402T100000
DTEND;TZID=Europe/Berlin:20220402T120000
LOCATION:SOŠ a SOU Lanškroun\, Sokolská 288 Lanškroun - Ostrovské Předměstí
SUMMARY:1-KKY-T1: Lanškroun-Nové Veselí
END:VEVENT
BEGIN:VEVENT
UID:39386637-3234-4637-b264-306164316431
DTSTAMP:20260421T210040Z
DESCRIPTION:2/2 Nové Veselí - Hlincovka 3:1 (22\,-21\,13\,15)
DTSTART;TZID=Europe/Berlin:20220402T133000
DTEND;TZID=Europe/Berlin:20220402T153000
LOCATION:SOŠ a SOU Lanškroun\, Sokolská 288 Lanškroun - Ostrovské Předměstí
SUMMARY:1-KKY-T1: Nové Veselí-Hlincovka
END:VEVENT
BEGIN:VEVENT
UID:30316563-6163-4161-b661-643235376236
DTSTAMP:20260421T210040Z
DESCRIPTION:3/3 Hlincovka - Lanškroun 0:3 (-21\,-16\,-15)
DTSTART;TZID=Europe/Berlin:20220402T170000
DTEND;TZID=Europe/Berlin:20220402T190000
LOCATION:SOŠ a SOU Lanškroun\, Sokolská 288 Lanškroun - Ostrovské Předměstí
SUMMARY:1-KKY-T1: Hlincovka-Lanškroun
END:VEVENT
END:VCALENDAR
