BEGIN:VCALENDAR
VERSION:2.0
PRODID:-//MS-Z//NONSGML kigkonsult.se iCalcreator 2.41.80//
CALSCALE:GREGORIAN
UID:65383761-3962-4339-a665-326338353861
BEGIN:VEVENT
UID:36313233-6337-4539-b038-663662303564
DTSTAMP:20260422T183259Z
DESCRIPTION:1/1 VSK VŠB-TUO - Ostrava C 3:0 (23\,20\,13)
DTSTART;TZID=Europe/Berlin:20211002T100000
DTEND;TZID=Europe/Berlin:20211002T120000
LOCATION:Sportovní hala VŠB-TUO\, Studentská 6175 Ostrava - Poruba
SUMMARY:MS-Z: VSK VŠB-TUO-Ostrava C
END:VEVENT
BEGIN:VEVENT
UID:36666565-3737-4265-a364-646634346538
DTSTAMP:20260422T183259Z
DESCRIPTION:1/2 TJ Český Těšín - TJ Frenštát p.R. 0:3 (-21\,-25\,-21)
DTSTART;TZID=Europe/Berlin:20211002T100000
DTEND;TZID=Europe/Berlin:20211002T120000
LOCATION:Pink ARÉNA\, Frýdecká 690 Český Těšín
SUMMARY:MS-Z: TJ Český Těšín-TJ Frenštát p.R.
END:VEVENT
BEGIN:VEVENT
UID:61376333-3030-4561-b234-666132326466
DTSTAMP:20260422T183259Z
DESCRIPTION:1/3 TJ Hlučín - VK Kylešovice G 0:3 (-17\,-9\,-23)
DTSTART;TZID=Europe/Berlin:20211003T090000
DTEND;TZID=Europe/Berlin:20211003T110000
LOCATION:Hala Hlučín - Darkovičky\, Nový svět 402 Hlučín - Darkovičky
SUMMARY:MS-Z: TJ Hlučín-VK Kylešovice G
END:VEVENT
BEGIN:VEVENT
UID:63613237-6463-4165-b364-356666383732
DTSTAMP:20260422T183259Z
DESCRIPTION:2/4 VSK VŠB-TUO - Ostrava C 0:3 (-17\,-18\,-18)
DTSTART;TZID=Europe/Berlin:20211002T140000
DTEND;TZID=Europe/Berlin:20211002T160000
LOCATION:Sportovní hala VŠB-TUO\, Studentská 6175 Ostrava - Poruba
SUMMARY:MS-Z: VSK VŠB-TUO-Ostrava C
END:VEVENT
BEGIN:VEVENT
UID:33326633-3735-4538-a264-313532313061
DTSTAMP:20260422T183259Z
DESCRIPTION:2/5 TJ Český Těšín - TJ Frenštát p.R. 0:3 (-24\,-16\,-23)
DTSTART;TZID=Europe/Berlin:20211002T140000
DTEND;TZID=Europe/Berlin:20211002T160000
LOCATION:Pink ARÉNA\, Frýdecká 690 Český Těšín
SUMMARY:MS-Z: TJ Český Těšín-TJ Frenštát p.R.
END:VEVENT
BEGIN:VEVENT
UID:62363864-3837-4166-b338-383439656466
DTSTAMP:20260422T183259Z
DESCRIPTION:2/6 TJ Hlučín - VK Kylešovice G 1:3 (-18\,-15\,21\,-23)
DTSTART;TZID=Europe/Berlin:20211003T130000
DTEND;TZID=Europe/Berlin:20211003T150000
LOCATION:Hala Hlučín - Darkovičky\, Nový svět 402 Hlučín - Darkovičky
SUMMARY:MS-Z: TJ Hlučín-VK Kylešovice G
END:VEVENT
BEGIN:VEVENT
UID:39343535-3130-4665-a365-366465313663
DTSTAMP:20260422T183259Z
DESCRIPTION:3/7 Ostrava C - VK Kylešovice G 3:1 (11\,10\,-18\,19)
DTSTART;TZID=Europe/Berlin:20211023T110000
DTEND;TZID=Europe/Berlin:20211023T130000
LOCATION:Hala mládeže\, Gajdošova 1893 Ostrava - Moravská Ostrava
SUMMARY:MS-Z: Ostrava C-VK Kylešovice G
END:VEVENT
BEGIN:VEVENT
UID:31663366-6438-4666-b566-363436623833
DTSTAMP:20260422T183259Z
DESCRIPTION:3/8 TJ Frenštát p.R. - TJ Hlučín 3:0 (18\,12\,16)
DTSTART;TZID=Europe/Berlin:20211009T100000
DTEND;TZID=Europe/Berlin:20211009T120000
LOCATION:Frenštát p.R. - Městská sportovní hala \, Martinská čtvrť 1704 Fre
 nštát pod Radhoštěm
SUMMARY:MS-Z: TJ Frenštát p.R.-TJ Hlučín
END:VEVENT
BEGIN:VEVENT
UID:39363430-6165-4230-b934-353137643963
DTSTAMP:20260422T183259Z
DESCRIPTION:3/9 VSK VŠB-TUO - TJ Český Těšín 3:2 (16\,-19\,7\,-18\,4)
DTSTART;TZID=Europe/Berlin:20211009T100000
DTEND;TZID=Europe/Berlin:20211009T120000
LOCATION:Sportovní hala VŠB-TUO\, Studentská 6175 Ostrava - Poruba
SUMMARY:MS-Z: VSK VŠB-TUO-TJ Český Těšín
END:VEVENT
BEGIN:VEVENT
UID:31663964-3133-4937-b938-386265636162
DTSTAMP:20260422T183259Z
DESCRIPTION:4/10 Ostrava C - VK Kylešovice G 0:3 (-22\,-22\,-26)
DTSTART;TZID=Europe/Berlin:20211023T150000
DTEND;TZID=Europe/Berlin:20211023T170000
LOCATION:Hala mládeže\, Gajdošova 1893 Ostrava - Moravská Ostrava
SUMMARY:MS-Z: Ostrava C-VK Kylešovice G
END:VEVENT
BEGIN:VEVENT
UID:66343733-6132-4431-a233-333962396338
DTSTAMP:20260422T183259Z
DESCRIPTION:4/11 TJ Frenštát p.R. - TJ Hlučín 3:0 (12\,17\,6)
DTSTART;TZID=Europe/Berlin:20211009T140000
DTEND;TZID=Europe/Berlin:20211009T160000
LOCATION:Frenštát p.R. - Městská sportovní hala \, Martinská čtvrť 1704 Fre
 nštát pod Radhoštěm
SUMMARY:MS-Z: TJ Frenštát p.R.-TJ Hlučín
END:VEVENT
BEGIN:VEVENT
UID:30316130-6663-4133-a362-316131313739
DTSTAMP:20260422T183259Z
DESCRIPTION:4/12 VSK VŠB-TUO - TJ Český Těšín 3:0 (13\,5\,14)
DTSTART;TZID=Europe/Berlin:20211009T140000
DTEND;TZID=Europe/Berlin:20211009T160000
LOCATION:Sportovní hala VŠB-TUO\, Studentská 6175 Ostrava - Poruba
SUMMARY:MS-Z: VSK VŠB-TUO-TJ Český Těšín
END:VEVENT
BEGIN:VEVENT
UID:39383263-3361-4237-a636-326231623335
DTSTAMP:20260422T183259Z
DESCRIPTION:5/13 TJ Český Těšín - Ostrava C 1:3 (-20\,21\,-21\,-17)\nVložil
  Chrobák
DTSTART;TZID=Europe/Berlin:20220209T170000
DTEND;TZID=Europe/Berlin:20220209T190000
LOCATION:Pink ARÉNA\, Frýdecká 690 Český Těšín
SUMMARY:MS-Z: TJ Český Těšín-Ostrava C
END:VEVENT
BEGIN:VEVENT
UID:35393063-3031-4331-b438-386365656533
DTSTAMP:20260422T183259Z
DESCRIPTION:5/14 TJ Hlučín - VSK VŠB-TUO 0:3 (-22\,-21\,-20)\nDohrávka
DTSTART;TZID=Europe/Berlin:20220131T174500
DTEND;TZID=Europe/Berlin:20220131T194500
LOCATION:Sportovní hala\, Tyršova 1668 Hlučín
SUMMARY:MS-Z: TJ Hlučín-VSK VŠB-TUO
END:VEVENT
BEGIN:VEVENT
UID:36626339-6163-4235-a234-616638336461
DTSTAMP:20260422T183259Z
DESCRIPTION:5/15 VK Kylešovice G - TJ Frenštát p.R. 3:1 (-24\,23\,23\,22)
DTSTART;TZID=Europe/Berlin:20211016T090000
DTEND;TZID=Europe/Berlin:20211016T110000
LOCATION:SŠT Opava \, Kolofíkovo nábřeží 1062 Opava - Kateřinky
SUMMARY:MS-Z: VK Kylešovice G-TJ Frenštát p.R.
END:VEVENT
BEGIN:VEVENT
UID:33393633-3364-4964-a466-613039386137
DTSTAMP:20260422T183259Z
DESCRIPTION:6/16 TJ Český Těšín - Ostrava C 1:3 (-19\,21\,-14\,-21)\nVložil
  Chrobák
DTSTART;TZID=Europe/Berlin:20220209T190000
DTEND;TZID=Europe/Berlin:20220209T210000
LOCATION:Pink ARÉNA\, Frýdecká 690 Český Těšín
SUMMARY:MS-Z: TJ Český Těšín-Ostrava C
END:VEVENT
BEGIN:VEVENT
UID:62326562-6638-4436-b634-336133666265
DTSTAMP:20260422T183259Z
DESCRIPTION:6/17 TJ Hlučín - VSK VŠB-TUO 1:3 (-22\,-11\,21\,-23)\nDohrávka
DTSTART;TZID=Europe/Berlin:20220131T194500
DTEND;TZID=Europe/Berlin:20220131T214500
LOCATION:Sportovní hala\, Tyršova 1668 Hlučín
SUMMARY:MS-Z: TJ Hlučín-VSK VŠB-TUO
END:VEVENT
BEGIN:VEVENT
UID:66306163-3061-4663-b631-363362666232
DTSTAMP:20260422T183259Z
DESCRIPTION:6/18 VK Kylešovice G - TJ Frenštát p.R. 0:3 (-19\,-20\,-21)
DTSTART;TZID=Europe/Berlin:20211016T130000
DTEND;TZID=Europe/Berlin:20211016T150000
LOCATION:SŠT Opava \, Kolofíkovo nábřeží 1062 Opava - Kateřinky
SUMMARY:MS-Z: VK Kylešovice G-TJ Frenštát p.R.
END:VEVENT
BEGIN:VEVENT
UID:34323130-3764-4530-b934-626463343230
DTSTAMP:20260422T183259Z
DESCRIPTION:7/19 Ostrava C - TJ Frenštát p.R. 3:2 (17\,26\,-23\,-17\,8)
DTSTART;TZID=Europe/Berlin:20211127T090000
DTEND;TZID=Europe/Berlin:20211127T110000
LOCATION:Hala mládeže\, Gajdošova 1893 Ostrava - Moravská Ostrava
SUMMARY:MS-Z: Ostrava C-TJ Frenštát p.R.
END:VEVENT
BEGIN:VEVENT
UID:63376666-3933-4537-a337-393130666364
DTSTAMP:20260422T183259Z
DESCRIPTION:7/20 VSK VŠB-TUO - VK Kylešovice G 0:3 (-16\,-18\,-17)
DTSTART;TZID=Europe/Berlin:20211106T110000
DTEND;TZID=Europe/Berlin:20211106T130000
LOCATION:Sportovní hala VŠB-TUO\, Studentská 6175 Ostrava - Poruba
SUMMARY:MS-Z: VSK VŠB-TUO-VK Kylešovice G
END:VEVENT
BEGIN:VEVENT
UID:63326436-3161-4163-b438-386531323835
DTSTAMP:20260422T183259Z
DESCRIPTION:7/21 TJ Český Těšín - TJ Hlučín 1:3 (-21\,24\,-17\,-18)
DTSTART;TZID=Europe/Berlin:20220205T090000
DTEND;TZID=Europe/Berlin:20220205T110000
LOCATION:Pink ARÉNA\, Frýdecká 690 Český Těšín
SUMMARY:MS-Z: TJ Český Těšín-TJ Hlučín
END:VEVENT
BEGIN:VEVENT
UID:33633164-6366-4135-a235-613564663935
DTSTAMP:20260422T183259Z
DESCRIPTION:8/22 Ostrava C - TJ Frenštát p.R. 3:2 (-17\,-23\,17\,21\,7)
DTSTART;TZID=Europe/Berlin:20211127T130000
DTEND;TZID=Europe/Berlin:20211127T150000
LOCATION:Hala mládeže\, Gajdošova 1893 Ostrava - Moravská Ostrava
SUMMARY:MS-Z: Ostrava C-TJ Frenštát p.R.
END:VEVENT
BEGIN:VEVENT
UID:32356162-6334-4130-a162-363230646633
DTSTAMP:20260422T183259Z
DESCRIPTION:8/23 VSK VŠB-TUO - VK Kylešovice G 1:3 (21\,-20\,-16\,-20)
DTSTART;TZID=Europe/Berlin:20211106T150000
DTEND;TZID=Europe/Berlin:20211106T170000
LOCATION:Sportovní hala VŠB-TUO\, Studentská 6175 Ostrava - Poruba
SUMMARY:MS-Z: VSK VŠB-TUO-VK Kylešovice G
END:VEVENT
BEGIN:VEVENT
UID:32373736-3865-4934-b061-393739393964
DTSTAMP:20260422T183259Z
DESCRIPTION:8/24 TJ Český Těšín - TJ Hlučín 3:0 (9\,21\,22)
DTSTART;TZID=Europe/Berlin:20220205T130000
DTEND;TZID=Europe/Berlin:20220205T150000
LOCATION:Pink ARÉNA\, Frýdecká 690 Český Těšín
SUMMARY:MS-Z: TJ Český Těšín-TJ Hlučín
END:VEVENT
BEGIN:VEVENT
UID:32663439-3231-4232-b438-643537633438
DTSTAMP:20260422T183259Z
DESCRIPTION:9/25 TJ Hlučín - Ostrava C 0:3 (-8\,-20\,-15)
DTSTART;TZID=Europe/Berlin:20211017T090000
DTEND;TZID=Europe/Berlin:20211017T110000
LOCATION:Sportovní hala\, Tyršova 1668 Hlučín
SUMMARY:MS-Z: TJ Hlučín-Ostrava C
END:VEVENT
BEGIN:VEVENT
UID:36303938-3330-4864-a230-363261313233
DTSTAMP:20260422T183259Z
DESCRIPTION:9/26 VK Kylešovice G - TJ Český Těšín 3:0 (11\,20\,17)
DTSTART;TZID=Europe/Berlin:20211113T090000
DTEND;TZID=Europe/Berlin:20211113T110000
LOCATION:SŠT Opava \, Kolofíkovo nábřeží 1062 Opava - Kateřinky
SUMMARY:MS-Z: VK Kylešovice G-TJ Český Těšín
END:VEVENT
BEGIN:VEVENT
UID:33663066-6536-4433-a332-343563646134
DTSTAMP:20260422T183259Z
DESCRIPTION:9/27 TJ Frenštát p.R. - VSK VŠB-TUO 2:3 (16\,-18\,-27\,22\,-7)
DTSTART;TZID=Europe/Berlin:20211113T100000
DTEND;TZID=Europe/Berlin:20211113T120000
LOCATION:Frenštát p.R. - Městská sportovní hala \, Martinská čtvrť 1704 Fre
 nštát pod Radhoštěm
SUMMARY:MS-Z: TJ Frenštát p.R.-VSK VŠB-TUO
END:VEVENT
BEGIN:VEVENT
UID:31353932-3239-4735-b839-646530613337
DTSTAMP:20260422T183259Z
DESCRIPTION:10/28 TJ Hlučín - Ostrava C 0:3 (-11\,-11\,-23)
DTSTART;TZID=Europe/Berlin:20211017T130000
DTEND;TZID=Europe/Berlin:20211017T150000
LOCATION:Sportovní hala\, Tyršova 1668 Hlučín
SUMMARY:MS-Z: TJ Hlučín-Ostrava C
END:VEVENT
BEGIN:VEVENT
UID:66323961-3134-4538-a562-663661626337
DTSTAMP:20260422T183259Z
DESCRIPTION:10/29 VK Kylešovice G - TJ Český Těšín 3:1 (25\,9\,-18\,14)
DTSTART;TZID=Europe/Berlin:20211113T130000
DTEND;TZID=Europe/Berlin:20211113T150000
LOCATION:SŠT Opava \, Kolofíkovo nábřeží 1062 Opava - Kateřinky
SUMMARY:MS-Z: VK Kylešovice G-TJ Český Těšín
END:VEVENT
BEGIN:VEVENT
UID:34316238-3265-4833-b865-623131656632
DTSTAMP:20260422T183259Z
DESCRIPTION:10/30 TJ Frenštát p.R. - VSK VŠB-TUO 3:0 (21\,18\,17)
DTSTART;TZID=Europe/Berlin:20211113T140000
DTEND;TZID=Europe/Berlin:20211113T160000
LOCATION:Frenštát p.R. - Městská sportovní hala \, Martinská čtvrť 1704 Fre
 nštát pod Radhoštěm
SUMMARY:MS-Z: TJ Frenštát p.R.-VSK VŠB-TUO
END:VEVENT
BEGIN:VEVENT
UID:37643664-3732-4762-b964-326135666438
DTSTAMP:20260422T183259Z
DESCRIPTION:11/31 Ostrava C - VSK VŠB-TUO 3:0 (19\,9\,17)
DTSTART;TZID=Europe/Berlin:20211120T100000
DTEND;TZID=Europe/Berlin:20211120T120000
LOCATION:Hala mládeže\, Gajdošova 1893 Ostrava - Moravská Ostrava
SUMMARY:MS-Z: Ostrava C-VSK VŠB-TUO
END:VEVENT
BEGIN:VEVENT
UID:64396332-6161-4565-a239-323262366437
DTSTAMP:20260422T183259Z
DESCRIPTION:11/32 TJ Frenštát p.R. - TJ Český Těšín 3:1 (-21\,18\,15\,12)
DTSTART;TZID=Europe/Berlin:20211120T090000
DTEND;TZID=Europe/Berlin:20211120T110000
LOCATION:Frenštát p.R. - Městská sportovní hala \, Martinská čtvrť 1704 Fre
 nštát pod Radhoštěm
SUMMARY:MS-Z: TJ Frenštát p.R.-TJ Český Těšín
END:VEVENT
BEGIN:VEVENT
UID:61343065-3739-4336-a533-313234313466
DTSTAMP:20260422T183259Z
DESCRIPTION:11/33 VK Kylešovice G - TJ Hlučín 3:0 (15\,13\,17)
DTSTART;TZID=Europe/Berlin:20211120T090000
DTEND;TZID=Europe/Berlin:20211120T110000
LOCATION:SŠT Opava \, Kolofíkovo nábřeží 1062 Opava - Kateřinky
SUMMARY:MS-Z: VK Kylešovice G-TJ Hlučín
END:VEVENT
BEGIN:VEVENT
UID:34373763-3635-4230-a339-343432323565
DTSTAMP:20260422T183259Z
DESCRIPTION:12/34 Ostrava C - VSK VŠB-TUO 3:0 (19\,20\,17)
DTSTART;TZID=Europe/Berlin:20211120T140000
DTEND;TZID=Europe/Berlin:20211120T160000
LOCATION:Hala mládeže\, Gajdošova 1893 Ostrava - Moravská Ostrava
SUMMARY:MS-Z: Ostrava C-VSK VŠB-TUO
END:VEVENT
BEGIN:VEVENT
UID:32303064-3764-4436-a136-643632653533
DTSTAMP:20260422T183259Z
DESCRIPTION:12/35 TJ Frenštát p.R. - TJ Český Těšín 1:3 (-21\,-21\,18\,-21)
DTSTART;TZID=Europe/Berlin:20211120T130000
DTEND;TZID=Europe/Berlin:20211120T150000
LOCATION:Frenštát p.R. - Městská sportovní hala \, Martinská čtvrť 1704 Fre
 nštát pod Radhoštěm
SUMMARY:MS-Z: TJ Frenštát p.R.-TJ Český Těšín
END:VEVENT
BEGIN:VEVENT
UID:30373564-6538-4036-b136-333134343732
DTSTAMP:20260422T183259Z
DESCRIPTION:12/36 VK Kylešovice G - TJ Hlučín 3:0 (16\,7\,19)
DTSTART;TZID=Europe/Berlin:20211120T130000
DTEND;TZID=Europe/Berlin:20211120T150000
LOCATION:SŠT Opava \, Kolofíkovo nábřeží 1062 Opava - Kateřinky
SUMMARY:MS-Z: VK Kylešovice G-TJ Hlučín
END:VEVENT
BEGIN:VEVENT
UID:61393764-3932-4635-b734-613431393166
DTSTAMP:20260422T183259Z
DESCRIPTION:13/37 VK Kylešovice G - Ostrava C 3:0 (0\,0\,0)\nDohrávka
DTSTART;TZID=Europe/Berlin:20220205T090000
DTEND;TZID=Europe/Berlin:20220205T110000
LOCATION:SŠT Opava \, Kolofíkovo nábřeží 1062 Opava - Kateřinky
SUMMARY:MS-Z: VK Kylešovice G-Ostrava C
END:VEVENT
BEGIN:VEVENT
UID:36363335-6163-4139-a435-636261326637
DTSTAMP:20260422T183259Z
DESCRIPTION:13/38 TJ Hlučín - TJ Frenštát p.R. 1:3 (-20\,-15\,23\,-21)
DTSTART;TZID=Europe/Berlin:20211204T090000
DTEND;TZID=Europe/Berlin:20211204T110000
LOCATION:Hala Hlučín - Darkovičky\, Nový svět 402 Hlučín - Darkovičky
SUMMARY:MS-Z: TJ Hlučín-TJ Frenštát p.R.
END:VEVENT
BEGIN:VEVENT
UID:32653831-6134-4664-b736-616466343837
DTSTAMP:20260422T183259Z
DESCRIPTION:13/39 TJ Český Těšín - VSK VŠB-TUO 2:3 (-18\,-22\,20\,21\,-9)
DTSTART;TZID=Europe/Berlin:20220212T100000
DTEND;TZID=Europe/Berlin:20220212T120000
LOCATION:Pink ARÉNA\, Frýdecká 690 Český Těšín
SUMMARY:MS-Z: TJ Český Těšín-VSK VŠB-TUO
END:VEVENT
BEGIN:VEVENT
UID:35316566-3137-4333-a435-616662316139
DTSTAMP:20260422T183259Z
DESCRIPTION:14/40 VK Kylešovice G - Ostrava C 3:0 (0\,0\,0)\nDohrávka
DTSTART;TZID=Europe/Berlin:20220205T130000
DTEND;TZID=Europe/Berlin:20220205T150000
LOCATION:SŠT Opava \, Kolofíkovo nábřeží 1062 Opava - Kateřinky
SUMMARY:MS-Z: VK Kylešovice G-Ostrava C
END:VEVENT
BEGIN:VEVENT
UID:32313338-3834-4161-b438-333364363532
DTSTAMP:20260422T183259Z
DESCRIPTION:14/41 TJ Hlučín - TJ Frenštát p.R. 0:3 (-23\,-11\,-17)
DTSTART;TZID=Europe/Berlin:20211204T130000
DTEND;TZID=Europe/Berlin:20211204T150000
LOCATION:Hala Hlučín - Darkovičky\, Nový svět 402 Hlučín - Darkovičky
SUMMARY:MS-Z: TJ Hlučín-TJ Frenštát p.R.
END:VEVENT
BEGIN:VEVENT
UID:61323165-6138-4462-b832-396530356234
DTSTAMP:20260422T183259Z
DESCRIPTION:14/42 TJ Český Těšín - VSK VŠB-TUO 1:3 (-23\,23\,-19\,-22)
DTSTART;TZID=Europe/Berlin:20220212T140000
DTEND;TZID=Europe/Berlin:20220212T160000
LOCATION:Pink ARÉNA\, Frýdecká 690 Český Těšín
SUMMARY:MS-Z: TJ Český Těšín-VSK VŠB-TUO
END:VEVENT
BEGIN:VEVENT
UID:36616464-3462-4035-b362-376537613834
DTSTAMP:20260422T183259Z
DESCRIPTION:15/43 Ostrava C - TJ Český Těšín 3:0 (11\,17\,14)\nHraje se na 
 hale ZŠ Generála Píky\; ul. Generála Píky 2975
DTSTART;TZID=Europe/Berlin:20220123T090000
DTEND;TZID=Europe/Berlin:20220123T110000
LOCATION:Tělocvična ZŠ Gen. Píky \, Gen. Píky 2975 Ostrava - Moravská Ostra
 va
SUMMARY:MS-Z: Ostrava C-TJ Český Těšín
END:VEVENT
BEGIN:VEVENT
UID:64316632-3532-4539-b533-373063356666
DTSTAMP:20260422T183259Z
DESCRIPTION:15/44 VSK VŠB-TUO - TJ Hlučín 3:0 (18\,14\,18)
DTSTART;TZID=Europe/Berlin:20220115T100000
DTEND;TZID=Europe/Berlin:20220115T120000
LOCATION:Sportovní hala VŠB-TUO\, Studentská 6175 Ostrava - Poruba
SUMMARY:MS-Z: VSK VŠB-TUO-TJ Hlučín
END:VEVENT
BEGIN:VEVENT
UID:32326639-3434-4633-a437-616431336265
DTSTAMP:20260422T183259Z
DESCRIPTION:15/45 TJ Frenštát p.R. - VK Kylešovice G 0:3 (-19\,-15\,-17)
DTSTART;TZID=Europe/Berlin:20220115T100000
DTEND;TZID=Europe/Berlin:20220115T120000
LOCATION:Frenštát p.R. - Městská sportovní hala \, Martinská čtvrť 1704 Fre
 nštát pod Radhoštěm
SUMMARY:MS-Z: TJ Frenštát p.R.-VK Kylešovice G
END:VEVENT
BEGIN:VEVENT
UID:37663438-3666-4337-b636-386535613535
DTSTAMP:20260422T183259Z
DESCRIPTION:16/46 Ostrava C - TJ Český Těšín 3:1 (15\,13\,-25\,21)\nHraje s
 e na hale ZŠ Generála Píky\; ul. Generála Píky 2975
DTSTART;TZID=Europe/Berlin:20220123T130000
DTEND;TZID=Europe/Berlin:20220123T150000
LOCATION:Tělocvična ZŠ Gen. Píky \, Gen. Píky 2975 Ostrava - Moravská Ostra
 va
SUMMARY:MS-Z: Ostrava C-TJ Český Těšín
END:VEVENT
BEGIN:VEVENT
UID:32373233-3262-4435-b466-393833386265
DTSTAMP:20260422T183259Z
DESCRIPTION:16/47 VSK VŠB-TUO - TJ Hlučín 3:0 (16\,20\,15)
DTSTART;TZID=Europe/Berlin:20220115T140000
DTEND;TZID=Europe/Berlin:20220115T160000
LOCATION:Sportovní hala VŠB-TUO\, Studentská 6175 Ostrava - Poruba
SUMMARY:MS-Z: VSK VŠB-TUO-TJ Hlučín
END:VEVENT
BEGIN:VEVENT
UID:38623631-6461-4466-a636-376663393933
DTSTAMP:20260422T183259Z
DESCRIPTION:16/48 TJ Frenštát p.R. - VK Kylešovice G 0:3 (-19\,-21\,-16)
DTSTART;TZID=Europe/Berlin:20220115T140000
DTEND;TZID=Europe/Berlin:20220115T160000
LOCATION:Frenštát p.R. - Městská sportovní hala \, Martinská čtvrť 1704 Fre
 nštát pod Radhoštěm
SUMMARY:MS-Z: TJ Frenštát p.R.-VK Kylešovice G
END:VEVENT
BEGIN:VEVENT
UID:64633961-6161-4739-a232-343964303162
DTSTAMP:20260422T183259Z
DESCRIPTION:17/49 TJ Frenštát p.R. - Ostrava C 0:3 (-15\,-19\,-9)
DTSTART;TZID=Europe/Berlin:20220130T100000
DTEND;TZID=Europe/Berlin:20220130T120000
LOCATION:Frenštát p.R. - Městská sportovní hala \, Martinská čtvrť 1704 Fre
 nštát pod Radhoštěm
SUMMARY:MS-Z: TJ Frenštát p.R.-Ostrava C
END:VEVENT
BEGIN:VEVENT
UID:63303732-3437-4337-a531-646662353165
DTSTAMP:20260422T183259Z
DESCRIPTION:17/50 VK Kylešovice G - VSK VŠB-TUO 3:1 (22\,-25\,20\,17)
DTSTART;TZID=Europe/Berlin:20220123T090000
DTEND;TZID=Europe/Berlin:20220123T110000
LOCATION:SŠT Opava \, Kolofíkovo nábřeží 1062 Opava - Kateřinky
SUMMARY:MS-Z: VK Kylešovice G-VSK VŠB-TUO
END:VEVENT
BEGIN:VEVENT
UID:65336439-3434-4532-b433-666231306465
DTSTAMP:20260422T183259Z
DESCRIPTION:17/51 TJ Hlučín - TJ Český Těšín 1:3 (-18\,-17\,22\,-21)
DTSTART;TZID=Europe/Berlin:20220122T090000
DTEND;TZID=Europe/Berlin:20220122T110000
LOCATION:Sportovní hala\, Tyršova 1668 Hlučín
SUMMARY:MS-Z: TJ Hlučín-TJ Český Těšín
END:VEVENT
BEGIN:VEVENT
UID:65323433-3632-4066-a261-356338623638
DTSTAMP:20260422T183259Z
DESCRIPTION:18/52 TJ Frenštát p.R. - Ostrava C 0:3 (-22\,-16\,-10)
DTSTART;TZID=Europe/Berlin:20220130T140000
DTEND;TZID=Europe/Berlin:20220130T160000
LOCATION:Frenštát p.R. - Městská sportovní hala \, Martinská čtvrť 1704 Fre
 nštát pod Radhoštěm
SUMMARY:MS-Z: TJ Frenštát p.R.-Ostrava C
END:VEVENT
BEGIN:VEVENT
UID:62633264-3063-4233-b835-386234653764
DTSTAMP:20260422T183259Z
DESCRIPTION:18/53 VK Kylešovice G - VSK VŠB-TUO 3:1 (23\,-14\,21\,16)
DTSTART;TZID=Europe/Berlin:20220123T130000
DTEND;TZID=Europe/Berlin:20220123T150000
LOCATION:SŠT Opava \, Kolofíkovo nábřeží 1062 Opava - Kateřinky
SUMMARY:MS-Z: VK Kylešovice G-VSK VŠB-TUO
END:VEVENT
BEGIN:VEVENT
UID:37316666-6161-4465-b263-306130363466
DTSTAMP:20260422T183259Z
DESCRIPTION:18/54 TJ Hlučín - TJ Český Těšín 2:3 (15\,-14\,-11\,16\,-10)
DTSTART;TZID=Europe/Berlin:20220122T130000
DTEND;TZID=Europe/Berlin:20220122T150000
LOCATION:Sportovní hala\, Tyršova 1668 Hlučín
SUMMARY:MS-Z: TJ Hlučín-TJ Český Těšín
END:VEVENT
BEGIN:VEVENT
UID:38356632-3235-4537-a432-396263336561
DTSTAMP:20260422T183259Z
DESCRIPTION:19/55 Ostrava C - TJ Hlučín 3:0 (20\,9\,13)
DTSTART;TZID=Europe/Berlin:20220129T090000
DTEND;TZID=Europe/Berlin:20220129T110000
LOCATION:Hala mládeže\, Gajdošova 1893 Ostrava - Moravská Ostrava
SUMMARY:MS-Z: Ostrava C-TJ Hlučín
END:VEVENT
BEGIN:VEVENT
UID:62633830-3237-4062-a431-376462333461
DTSTAMP:20260422T183259Z
DESCRIPTION:19/56 TJ Český Těšín - VK Kylešovice G 1:3 (-14\,-23\,16\,-25)
DTSTART;TZID=Europe/Berlin:20220206T093000
DTEND;TZID=Europe/Berlin:20220206T113000
LOCATION:Pink ARÉNA\, Frýdecká 690 Český Těšín
SUMMARY:MS-Z: TJ Český Těšín-VK Kylešovice G
END:VEVENT
BEGIN:VEVENT
UID:35366435-3561-4136-a337-633233306632
DTSTAMP:20260422T183259Z
DESCRIPTION:19/57 VSK VŠB-TUO - TJ Frenštát p.R. 0:3 (-15\,-20\,-26)
DTSTART;TZID=Europe/Berlin:20220203T170000
DTEND;TZID=Europe/Berlin:20220203T190000
LOCATION:Sportovní hala VŠB-TUO\, Studentská 6175 Ostrava - Poruba
SUMMARY:MS-Z: VSK VŠB-TUO-TJ Frenštát p.R.
END:VEVENT
BEGIN:VEVENT
UID:37633862-3664-4334-a365-393739646230
DTSTAMP:20260422T183259Z
DESCRIPTION:20/58 Ostrava C - TJ Hlučín 3:0 (14\,12\,12)
DTSTART;TZID=Europe/Berlin:20220129T130000
DTEND;TZID=Europe/Berlin:20220129T150000
LOCATION:Hala mládeže\, Gajdošova 1893 Ostrava - Moravská Ostrava
SUMMARY:MS-Z: Ostrava C-TJ Hlučín
END:VEVENT
BEGIN:VEVENT
UID:37376132-3239-4332-b838-633963306362
DTSTAMP:20260422T183259Z
DESCRIPTION:20/59 TJ Český Těšín - VK Kylešovice G 2:3 (6\,-23\,15\,-24\,-8
 )
DTSTART;TZID=Europe/Berlin:20220206T133000
DTEND;TZID=Europe/Berlin:20220206T153000
LOCATION:Pink ARÉNA\, Frýdecká 690 Český Těšín
SUMMARY:MS-Z: TJ Český Těšín-VK Kylešovice G
END:VEVENT
BEGIN:VEVENT
UID:65353062-6436-4265-b739-373932396138
DTSTAMP:20260422T183259Z
DESCRIPTION:20/60 VSK VŠB-TUO - TJ Frenštát p.R. 1:3 (-23\,-22\,25\,-25)
DTSTART;TZID=Europe/Berlin:20220203T200000
DTEND;TZID=Europe/Berlin:20220203T220000
LOCATION:Sportovní hala VŠB-TUO\, Studentská 6175 Ostrava - Poruba
SUMMARY:MS-Z: VSK VŠB-TUO-TJ Frenštát p.R.
END:VEVENT
END:VCALENDAR
