BEGIN:VCALENDAR
VERSION:2.0
PRODID:-//JC-ZKYM-1B//NONSGML kigkonsult.se iCalcreator 2.41.80//
CALSCALE:GREGORIAN
UID:63616436-3363-4030-a432-386337316538
BEGIN:VEVENT
UID:34653335-3761-4335-a533-353335616334
DTSTAMP:20260426T042826Z
DESCRIPTION:1/1 Volejbal Tábor B - VK Madeta ČB B 0:2 (-18\,-19)
DTSTART;TZID=Europe/Berlin:20211010T090000
DTEND;TZID=Europe/Berlin:20211010T110000
SUMMARY:JC-ZKYM-1B: Volejbal Tábor B-VK Madeta ČB B
END:VEVENT
BEGIN:VEVENT
UID:30346338-3765-4439-a436-323364383865
DTSTAMP:20260426T042826Z
DESCRIPTION:1/2 TJ Tatran Prachatice - SK Třebín 2:1 (18\,-19\,14)
DTSTART;TZID=Europe/Berlin:20211010T094500
DTEND;TZID=Europe/Berlin:20211010T114500
SUMMARY:JC-ZKYM-1B: TJ Tatran Prachatice-SK Třebín
END:VEVENT
BEGIN:VEVENT
UID:36376230-3033-4462-b933-303465633865
DTSTAMP:20260426T042826Z
DESCRIPTION:1/3 Skola volejbalu - Volejbal Tábor B 2:0 (17\,18)
DTSTART;TZID=Europe/Berlin:20211010T103000
DTEND;TZID=Europe/Berlin:20211010T123000
LOCATION:TĚLOVÝCHOVNÁ JEDNOTA LOKOMOTIVA z. s.\, Třebízského 1044 České Bud
 ějovice - České Budějovice 5
SUMMARY:JC-ZKYM-1B: Skola volejbalu-Volejbal Tábor B
END:VEVENT
BEGIN:VEVENT
UID:64386630-3361-4134-a131-393763306463
DTSTAMP:20260426T042826Z
DESCRIPTION:1/4 VK Madeta ČB B - TJ Tatran Prachatice 2:1 (16\,-23\,16)
DTSTART;TZID=Europe/Berlin:20211010T111500
DTEND;TZID=Europe/Berlin:20211010T131500
LOCATION:Sportovní hala\, Stromovka 1216 České Budějovice - České Budějovic
 e 2
SUMMARY:JC-ZKYM-1B: VK Madeta ČB B-TJ Tatran Prachatice
END:VEVENT
BEGIN:VEVENT
UID:63653336-3436-4365-b763-643539343933
DTSTAMP:20260426T042826Z
DESCRIPTION:1/5 Skola volejbalu - SK Třebín 1:2 (-20\,15\,-16)
DTSTART;TZID=Europe/Berlin:20211010T120000
DTEND;TZID=Europe/Berlin:20211010T140000
LOCATION:TĚLOVÝCHOVNÁ JEDNOTA LOKOMOTIVA z. s.\, Třebízského 1044 České Bud
 ějovice - České Budějovice 5
SUMMARY:JC-ZKYM-1B: Skola volejbalu-SK Třebín
END:VEVENT
BEGIN:VEVENT
UID:65373835-3163-4661-a563-643939353136
DTSTAMP:20260426T042826Z
DESCRIPTION:1/6 Volejbal Tábor B - TJ Tatran Prachatice 0:2 (-13\,-24)
DTSTART;TZID=Europe/Berlin:20211010T124500
DTEND;TZID=Europe/Berlin:20211010T144500
SUMMARY:JC-ZKYM-1B: Volejbal Tábor B-TJ Tatran Prachatice
END:VEVENT
BEGIN:VEVENT
UID:35303363-3963-4461-a165-653065636638
DTSTAMP:20260426T042826Z
DESCRIPTION:1/7 VK Madeta ČB B - Skola volejbalu 0:2 (-22\,-17)
DTSTART;TZID=Europe/Berlin:20211010T133000
DTEND;TZID=Europe/Berlin:20211010T153000
LOCATION:Sportovní hala\, Stromovka 1216 České Budějovice - České Budějovic
 e 2
SUMMARY:JC-ZKYM-1B: VK Madeta ČB B-Skola volejbalu
END:VEVENT
BEGIN:VEVENT
UID:62613565-3865-4163-a631-373330326361
DTSTAMP:20260426T042826Z
DESCRIPTION:1/8 SK Třebín - Volejbal Tábor B 2:1 (-18\,22\,11)
DTSTART;TZID=Europe/Berlin:20211010T141500
DTEND;TZID=Europe/Berlin:20211010T161500
LOCATION:ZŠ Máj I\, M. Chlajna 1319 České Budějovice - České Budějovice 2
SUMMARY:JC-ZKYM-1B: SK Třebín-Volejbal Tábor B
END:VEVENT
BEGIN:VEVENT
UID:64393964-3630-4033-b263-333037616431
DTSTAMP:20260426T042826Z
DESCRIPTION:1/9 TJ Tatran Prachatice - Skola volejbalu 2:0 (18\,23)
DTSTART;TZID=Europe/Berlin:20211010T150000
DTEND;TZID=Europe/Berlin:20211010T170000
SUMMARY:JC-ZKYM-1B: TJ Tatran Prachatice-Skola volejbalu
END:VEVENT
BEGIN:VEVENT
UID:31303831-6638-4236-b936-663965393934
DTSTAMP:20260426T042826Z
DESCRIPTION:1/10 SK Třebín - VK Madeta ČB B 0:2 (-16\,-22)
DTSTART;TZID=Europe/Berlin:20211010T154500
DTEND;TZID=Europe/Berlin:20211010T174500
LOCATION:ZŠ Máj I\, M. Chlajna 1319 České Budějovice - České Budějovice 2
SUMMARY:JC-ZKYM-1B: SK Třebín-VK Madeta ČB B
END:VEVENT
END:VCALENDAR
