BEGIN:VCALENDAR
VERSION:2.0
PRODID:-//JM-ZKY-KVC//NONSGML kigkonsult.se iCalcreator 2.41.80//
CALSCALE:GREGORIAN
UID:64663963-6132-4539-a563-306339636631
BEGIN:VEVENT
UID:30376563-3263-4439-a666-626166393165
DTSTAMP:20260425T173105Z
DESCRIPTION:1/1 Břeclav - TJ Sokol Šlapanice 2:0 (12\,7)
DTSTART;TZID=Europe/Berlin:20210911T090000
DTEND;TZID=Europe/Berlin:20210911T110000
LOCATION:TJ Lokomotiva Břeclav\, Veslařská 2753 Břeclav
SUMMARY:JM-ZKY-KVC: Břeclav-TJ Sokol Šlapanice
END:VEVENT
BEGIN:VEVENT
UID:38326461-3033-4337-b537-366663363430
DTSTAMP:20260425T173105Z
DESCRIPTION:2/2 Loko Fosfa Břeclav - VK Brno\, z.s. 2:0 (22\,15)
DTSTART;TZID=Europe/Berlin:20210911T090000
DTEND;TZID=Europe/Berlin:20210911T110000
LOCATION:TJ Lokomotiva Břeclav\, Veslařská 2753 Břeclav
SUMMARY:JM-ZKY-KVC: Loko Fosfa Břeclav-VK Brno\, z.s.
END:VEVENT
BEGIN:VEVENT
UID:35366536-6332-4262-b964-366665633734
DTSTAMP:20260425T173105Z
DESCRIPTION:3/3 VK Brno\, z.s. - Břeclav 0:2 (-9\,-8)
DTSTART;TZID=Europe/Berlin:20210911T103000
DTEND;TZID=Europe/Berlin:20210911T123000
LOCATION:Tělocvična ZŠ Bílovice nad Svitavou\, Komenského 151 Bílovice nad 
 Svitavou
SUMMARY:JM-ZKY-KVC: VK Brno\, z.s.-Břeclav
END:VEVENT
BEGIN:VEVENT
UID:62333430-3939-4537-b139-313330613836
DTSTAMP:20260425T173105Z
DESCRIPTION:4/4 TJ Sokol Jehnice - Loko Fosfa Břeclav 2:0 (10\,14)
DTSTART;TZID=Europe/Berlin:20210911T103000
DTEND;TZID=Europe/Berlin:20210911T123000
LOCATION:TJ Sokol Jehnice\, Blanenská 1 Brno - Jehnice
SUMMARY:JM-ZKY-KVC: TJ Sokol Jehnice-Loko Fosfa Břeclav
END:VEVENT
BEGIN:VEVENT
UID:66336338-3835-4336-a463-613931643963
DTSTAMP:20260425T173105Z
DESCRIPTION:5/5 Loko Fosfa Břeclav - TJ Sokol Šlapanice 2:0 (17\,22)
DTSTART;TZID=Europe/Berlin:20210911T114500
DTEND;TZID=Europe/Berlin:20210911T134500
LOCATION:TJ Lokomotiva Břeclav\, Veslařská 2753 Břeclav
SUMMARY:JM-ZKY-KVC: Loko Fosfa Břeclav-TJ Sokol Šlapanice
END:VEVENT
BEGIN:VEVENT
UID:31336361-3939-4530-b266-363336396161
DTSTAMP:20260425T173105Z
DESCRIPTION:6/6 TJ Sokol Jehnice - VK Brno\, z.s. 2:0 (4\,8)
DTSTART;TZID=Europe/Berlin:20210911T114500
DTEND;TZID=Europe/Berlin:20210911T134500
LOCATION:TJ Sokol Jehnice\, Blanenská 1 Brno - Jehnice
SUMMARY:JM-ZKY-KVC: TJ Sokol Jehnice-VK Brno\, z.s.
END:VEVENT
BEGIN:VEVENT
UID:32383332-3134-4234-a138-633761366264
DTSTAMP:20260425T173105Z
DESCRIPTION:7/7 TJ Sokol Jehnice - Břeclav 0:2 (-14\,-12)
DTSTART;TZID=Europe/Berlin:20210911T130000
DTEND;TZID=Europe/Berlin:20210911T150000
LOCATION:TJ Sokol Jehnice\, Blanenská 1 Brno - Jehnice
SUMMARY:JM-ZKY-KVC: TJ Sokol Jehnice-Břeclav
END:VEVENT
BEGIN:VEVENT
UID:35326637-3161-4235-b264-373364653338
DTSTAMP:20260425T173105Z
DESCRIPTION:8/8 VK Brno\, z.s. - TJ Sokol Šlapanice 2:0 (15\,22)
DTSTART;TZID=Europe/Berlin:20210911T130000
DTEND;TZID=Europe/Berlin:20210911T150000
LOCATION:Tělocvična ZŠ Bílovice nad Svitavou\, Komenského 151 Bílovice nad 
 Svitavou
SUMMARY:JM-ZKY-KVC: VK Brno\, z.s.-TJ Sokol Šlapanice
END:VEVENT
BEGIN:VEVENT
UID:65656333-3832-4364-b761-363964346664
DTSTAMP:20260425T173105Z
DESCRIPTION:9/9 TJ Sokol Šlapanice - TJ Sokol Jehnice 0:2 (-5\,-6)
DTSTART;TZID=Europe/Berlin:20210911T141500
DTEND;TZID=Europe/Berlin:20210911T161500
LOCATION:Tělocvična ZŠ Šlapanice\, Masarykovo náměstí 1594 Šlapanice
SUMMARY:JM-ZKY-KVC: TJ Sokol Šlapanice-TJ Sokol Jehnice
END:VEVENT
BEGIN:VEVENT
UID:34666263-3165-4230-b135-626134616137
DTSTAMP:20260425T173105Z
DESCRIPTION:10/10 Břeclav - Loko Fosfa Břeclav 2:0 (23\,17)
DTSTART;TZID=Europe/Berlin:20210911T141500
DTEND;TZID=Europe/Berlin:20210911T161500
LOCATION:TJ Lokomotiva Břeclav\, Veslařská 2753 Břeclav
SUMMARY:JM-ZKY-KVC: Břeclav-Loko Fosfa Břeclav
END:VEVENT
END:VCALENDAR
