BEGIN:VCALENDAR
VERSION:2.0
PRODID:-//JM-ZKY-KVEF//NONSGML kigkonsult.se iCalcreator 2.41.80//
CALSCALE:GREGORIAN
UID:31383365-3864-4339-b962-313764356466
BEGIN:VEVENT
UID:30303134-6564-4564-b962-353139326637
DTSTAMP:20260425T173309Z
DESCRIPTION:1/1 VOLEJBAL VYŠKOV\, z.s. C - VOLEJBAL VYŠKOV\, z.s. B 0:2 (-1
 3\,-3)\n3E vs 3F\, Kurt 1
DTSTART;TZID=Europe/Berlin:20210911T130000
DTEND;TZID=Europe/Berlin:20210911T150000
LOCATION:Tělocvična ZŠ Nádražní\, Nádražní 5 Vyškov - Vyškov-Město
SUMMARY:JM-ZKY-KVEF: VOLEJBAL VYŠKOV\, z.s. C-VOLEJBAL VYŠKOV\, z.s. B
END:VEVENT
BEGIN:VEVENT
UID:36373164-3938-4636-b831-613065383063
DTSTAMP:20260425T173309Z
DESCRIPTION:2/2 PFN Znojmo - VS Drásov 0:2 (-9\,-20)\n2E vs 2F\, Kurt 2
DTSTART;TZID=Europe/Berlin:20210911T130000
DTEND;TZID=Europe/Berlin:20210911T150000
LOCATION:Tělocvična ZŠ Prokopa Diviše a MŠ\, Ke Škole 569 Znojmo - Přímětic
 e
SUMMARY:JM-ZKY-KVEF: PFN Znojmo-VS Drásov
END:VEVENT
BEGIN:VEVENT
UID:65356365-3138-4636-b533-336564396135
DTSTAMP:20260425T173309Z
DESCRIPTION:3/3 VOLEJBAL VYŠKOV - Znojmo 2:1 (-22\,18\,13)\n1E vs 1F\, Kurt
  1
DTSTART;TZID=Europe/Berlin:20210911T141500
DTEND;TZID=Europe/Berlin:20210911T161500
LOCATION:Tělocvična ZŠ Nádražní\, Nádražní 5 Vyškov - Vyškov-Město
SUMMARY:JM-ZKY-KVEF: VOLEJBAL VYŠKOV-Znojmo
END:VEVENT
END:VCALENDAR
