BEGIN:VCALENDAR
VERSION:2.0
PRODID:-//JM-ZKY-KVG//NONSGML kigkonsult.se iCalcreator 2.41.80//
CALSCALE:GREGORIAN
UID:62376235-6431-4436-b164-303432643162
BEGIN:VEVENT
UID:35306339-3562-4034-a639-333334383937
DTSTAMP:20260425T173312Z
DESCRIPTION:1/1 TJ JUNIOR Brno A - VK Vejrostova B 2:0 (10\,15)
DTSTART;TZID=Europe/Berlin:20210911T090000
DTEND;TZID=Europe/Berlin:20210911T110000
LOCATION:tělocvičny ZŠ Novolíšeňská\, Brno\, Novolíšeňská 2411 Brno - Líšeň
SUMMARY:JM-ZKY-KVG: TJ JUNIOR Brno A-VK Vejrostova B
END:VEVENT
BEGIN:VEVENT
UID:31343063-3064-4662-a433-636466366635
DTSTAMP:20260425T173312Z
DESCRIPTION:2/2 VK Vejrostova B - Tělocvičná jednota Sokol Předklášteří 0:2
  (-9\,-9)
DTSTART;TZID=Europe/Berlin:20210911T103000
DTEND;TZID=Europe/Berlin:20210911T123000
LOCATION:ZŠ Vejrostova\, Vejrostova 1066 Brno - Bystrc
SUMMARY:JM-ZKY-KVG: VK Vejrostova B-Tělocvičná jednota Sokol Předklášteří
END:VEVENT
BEGIN:VEVENT
UID:37353964-3239-4131-b964-663137313232
DTSTAMP:20260425T173312Z
DESCRIPTION:3/3 Tělocvičná jednota Sokol Předklášteří - TJ JUNIOR Brno A 2:
 0 (16\,22)
DTSTART;TZID=Europe/Berlin:20210911T114500
DTEND;TZID=Europe/Berlin:20210911T134500
LOCATION:ZŠ Předklášteří\, Komenského 1097 Předklášteří
SUMMARY:JM-ZKY-KVG: Tělocvičná jednota Sokol Předklášteří-TJ JUNIOR Brno A
END:VEVENT
END:VCALENDAR
