BEGIN:VCALENDAR
VERSION:2.0
PRODID:-//CP-ZKY-D//NONSGML kigkonsult.se iCalcreator 2.41.80//
CALSCALE:GREGORIAN
UID:32396630-6139-4161-b134-396632343330
BEGIN:VEVENT
UID:62323339-6264-4334-a530-656337376639
DTSTAMP:20260424T162114Z
DESCRIPTION:1/1 VSK Spartak Děčín - TJ Slovan Varnsdorf 2:0 (6\,8)
DTSTART;TZID=Europe/Berlin:20210918T090000
DTEND;TZID=Europe/Berlin:20210918T110000
LOCATION:SH ZŠ Dr M. Tyrše\, Vrchlického 630 Děčín - Děčín II-Nové Město
SUMMARY:CP-ZKY-D: VSK Spartak Děčín-TJ Slovan Varnsdorf
END:VEVENT
BEGIN:VEVENT
UID:62353131-3661-4038-b032-613735323433
DTSTAMP:20260424T162114Z
DESCRIPTION:1/2 Plzeň - Mělník 0:2 (-19\,-21)
DTSTART;TZID=Europe/Berlin:20210918T090000
DTEND;TZID=Europe/Berlin:20210918T110000
LOCATION:Tělocvična 15.ZŠ\, Terezie Brzkové 863 Plzeň - Skvrňany
SUMMARY:CP-ZKY-D: Plzeň-Mělník
END:VEVENT
BEGIN:VEVENT
UID:62383837-6464-4262-b861-616138633936
DTSTAMP:20260424T162114Z
DESCRIPTION:2/3 Olymp - Meteor 0:2 (-13\,-10)
DTSTART;TZID=Europe/Berlin:20210918T100000
DTEND;TZID=Europe/Berlin:20210918T120000
LOCATION:PVK Olymp Praha Přípotoční 300\, 101 00 Praha 10
SUMMARY:CP-ZKY-D: Olymp-Meteor
END:VEVENT
BEGIN:VEVENT
UID:36656164-3338-4531-a165-393537363162
DTSTAMP:20260424T162114Z
DESCRIPTION:2/4 Sokolov - Karlovy Vary 1:2 (20\,-20\,-13)
DTSTART;TZID=Europe/Berlin:20210918T100000
DTEND;TZID=Europe/Berlin:20210918T120000
LOCATION:Jiskra\, Maxima Gorkého 280 Sokolov
SUMMARY:CP-ZKY-D: Sokolov-Karlovy Vary
END:VEVENT
BEGIN:VEVENT
UID:62303233-3739-4230-b535-333061376338
DTSTAMP:20260424T162114Z
DESCRIPTION:3/5 VSK Spartak Děčín - Meteor 1:2 (15\,-17\,-6)
DTSTART;TZID=Europe/Berlin:20210918T110000
DTEND;TZID=Europe/Berlin:20210918T130000
LOCATION:SH ZŠ Dr M. Tyrše\, Vrchlického 630 Děčín - Děčín II-Nové Město
SUMMARY:CP-ZKY-D: VSK Spartak Děčín-Meteor
END:VEVENT
BEGIN:VEVENT
UID:33326430-3461-4636-b265-386230306130
DTSTAMP:20260424T162114Z
DESCRIPTION:3/6 Karlovy Vary - Plzeň 2:0 (10\,25)
DTSTART;TZID=Europe/Berlin:20210918T110000
DTEND;TZID=Europe/Berlin:20210918T130000
LOCATION:Mattoni Arena Hala míčových sportů\, Západní 1812 Karlovy Vary
SUMMARY:CP-ZKY-D: Karlovy Vary-Plzeň
END:VEVENT
BEGIN:VEVENT
UID:39396338-3930-4336-a661-303037646234
DTSTAMP:20260424T162114Z
DESCRIPTION:4/7 TJ Slovan Varnsdorf - Olymp 0:2 (-10\,-15)
DTSTART;TZID=Europe/Berlin:20210918T120000
DTEND;TZID=Europe/Berlin:20210918T140000
LOCATION:Sportovní hala Varnsdorf\, Západní 2984 Varnsdorf
SUMMARY:CP-ZKY-D: TJ Slovan Varnsdorf-Olymp
END:VEVENT
BEGIN:VEVENT
UID:62336164-3334-4064-a535-356339353835
DTSTAMP:20260424T162114Z
DESCRIPTION:4/8 Mělník - Sokolov 2:1 (18\,-13\,14)
DTSTART;TZID=Europe/Berlin:20210918T120000
DTEND;TZID=Europe/Berlin:20210918T140000
LOCATION:Tělocvična ZŠ J. Matiegky\, Pražská 2817 Mělník
SUMMARY:CP-ZKY-D: Mělník-Sokolov
END:VEVENT
BEGIN:VEVENT
UID:62613837-6131-4337-b238-633731363934
DTSTAMP:20260424T162114Z
DESCRIPTION:5/9 Olymp - VSK Spartak Děčín 2:0 (18\,15)
DTSTART;TZID=Europe/Berlin:20210918T130000
DTEND;TZID=Europe/Berlin:20210918T150000
LOCATION:PVK Olymp Praha Přípotoční 300\, 101 00 Praha 10
SUMMARY:CP-ZKY-D: Olymp-VSK Spartak Děčín
END:VEVENT
BEGIN:VEVENT
UID:62393161-3465-4264-a165-623464663836
DTSTAMP:20260424T162114Z
DESCRIPTION:5/10 Sokolov - Plzeň 0:2 (-20\,-28)
DTSTART;TZID=Europe/Berlin:20210918T130000
DTEND;TZID=Europe/Berlin:20210918T150000
LOCATION:Jiskra\, Maxima Gorkého 280 Sokolov
SUMMARY:CP-ZKY-D: Sokolov-Plzeň
END:VEVENT
BEGIN:VEVENT
UID:63303235-6264-4537-b739-353264626536
DTSTAMP:20260424T162114Z
DESCRIPTION:6/11 TJ Slovan Varnsdorf - Meteor 0:2 (-9\,-6)
DTSTART;TZID=Europe/Berlin:20210918T140000
DTEND;TZID=Europe/Berlin:20210918T160000
LOCATION:Sportovní hala Varnsdorf\, Západní 2984 Varnsdorf
SUMMARY:CP-ZKY-D: TJ Slovan Varnsdorf-Meteor
END:VEVENT
BEGIN:VEVENT
UID:64396632-3666-4839-a136-383764336131
DTSTAMP:20260424T162114Z
DESCRIPTION:6/12 Karlovy Vary - Mělník 1:2 (-22\,24\,-7)
DTSTART;TZID=Europe/Berlin:20210918T140000
DTEND;TZID=Europe/Berlin:20210918T160000
LOCATION:Mattoni Arena Hala míčových sportů\, Západní 1812 Karlovy Vary
SUMMARY:CP-ZKY-D: Karlovy Vary-Mělník
END:VEVENT
BEGIN:VEVENT
UID:62306238-3537-4232-b162-313763626531
DTSTAMP:20260424T162114Z
DESCRIPTION:7/13 Sokolov - VSK Spartak Děčín 2:0 (17\,14)
DTSTART;TZID=Europe/Berlin:20210918T150000
DTEND;TZID=Europe/Berlin:20210918T170000
LOCATION:Jiskra\, Maxima Gorkého 280 Sokolov
SUMMARY:CP-ZKY-D: Sokolov-VSK Spartak Děčín
END:VEVENT
BEGIN:VEVENT
UID:30343439-3030-4230-b463-303335393835
DTSTAMP:20260424T162114Z
DESCRIPTION:7/14 Mělník - Olymp 2:1 (13\,-21\,7)
DTSTART;TZID=Europe/Berlin:20210918T150000
DTEND;TZID=Europe/Berlin:20210918T170000
LOCATION:Tělocvična ZŠ J. Matiegky\, Pražská 2817 Mělník
SUMMARY:CP-ZKY-D: Mělník-Olymp
END:VEVENT
BEGIN:VEVENT
UID:35383636-3362-4837-b334-326538613161
DTSTAMP:20260424T162114Z
DESCRIPTION:8/15 TJ Slovan Varnsdorf - Karlovy Vary 0:2 (-6\,-9)
DTSTART;TZID=Europe/Berlin:20210918T160000
DTEND;TZID=Europe/Berlin:20210918T180000
LOCATION:Sportovní hala Varnsdorf\, Západní 2984 Varnsdorf
SUMMARY:CP-ZKY-D: TJ Slovan Varnsdorf-Karlovy Vary
END:VEVENT
BEGIN:VEVENT
UID:33326435-6137-4561-b539-353131653331
DTSTAMP:20260424T162114Z
DESCRIPTION:8/16 Meteor - Plzeň 2:1 (-23\,15\,12)
DTSTART;TZID=Europe/Berlin:20210918T160000
DTEND;TZID=Europe/Berlin:20210918T180000
LOCATION:ZŠ Žernosecká Žernosecká 3/1597\, Praha 8
SUMMARY:CP-ZKY-D: Meteor-Plzeň
END:VEVENT
BEGIN:VEVENT
UID:64356438-6432-4961-a135-636630333335
DTSTAMP:20260424T162114Z
DESCRIPTION:9/17 Sokolov - TJ Slovan Varnsdorf 2:0 (5\,5)
DTSTART;TZID=Europe/Berlin:20210918T170000
DTEND;TZID=Europe/Berlin:20210918T190000
LOCATION:Jiskra\, Maxima Gorkého 280 Sokolov
SUMMARY:CP-ZKY-D: Sokolov-TJ Slovan Varnsdorf
END:VEVENT
BEGIN:VEVENT
UID:30623162-6135-4461-a564-353461646435
DTSTAMP:20260424T162114Z
DESCRIPTION:9/18 Plzeň - Olymp 1:2 (-25\,11\,-10)
DTSTART;TZID=Europe/Berlin:20210918T170000
DTEND;TZID=Europe/Berlin:20210918T190000
LOCATION:Tělocvična 15.ZŠ\, Terezie Brzkové 863 Plzeň - Skvrňany
SUMMARY:CP-ZKY-D: Plzeň-Olymp
END:VEVENT
BEGIN:VEVENT
UID:30346337-6139-4430-a239-666634383366
DTSTAMP:20260424T162114Z
DESCRIPTION:10/19 Karlovy Vary - VSK Spartak Děčín 2:1 (-12\,10\,13)
DTSTART;TZID=Europe/Berlin:20210918T180000
DTEND;TZID=Europe/Berlin:20210918T200000
LOCATION:Mattoni Arena Hala míčových sportů\, Západní 1812 Karlovy Vary
SUMMARY:CP-ZKY-D: Karlovy Vary-VSK Spartak Děčín
END:VEVENT
BEGIN:VEVENT
UID:32333962-3731-4731-b734-313931643032
DTSTAMP:20260424T162114Z
DESCRIPTION:10/20 Mělník - Meteor 2:0 (19\,13)
DTSTART;TZID=Europe/Berlin:20210918T180000
DTEND;TZID=Europe/Berlin:20210918T200000
LOCATION:Tělocvična ZŠ J. Matiegky\, Pražská 2817 Mělník
SUMMARY:CP-ZKY-D: Mělník-Meteor
END:VEVENT
BEGIN:VEVENT
UID:30326330-3663-4534-b831-333437613138
DTSTAMP:20260424T162114Z
DESCRIPTION:11/21 VSK Spartak Děčín - Mělník 0:2 (-16\,-20)
DTSTART;TZID=Europe/Berlin:20210919T090000
DTEND;TZID=Europe/Berlin:20210919T110000
LOCATION:SH ZŠ Dr M. Tyrše\, Vrchlického 630 Děčín - Děčín II-Nové Město
SUMMARY:CP-ZKY-D: VSK Spartak Děčín-Mělník
END:VEVENT
BEGIN:VEVENT
UID:39373830-3935-4664-b832-323433343234
DTSTAMP:20260424T162114Z
DESCRIPTION:11/22 Olymp - Karlovy Vary 0:2 (-15\,-15)
DTSTART;TZID=Europe/Berlin:20210919T090000
DTEND;TZID=Europe/Berlin:20210919T110000
LOCATION:PVK Olymp Praha Přípotoční 300\, 101 00 Praha 10
SUMMARY:CP-ZKY-D: Olymp-Karlovy Vary
END:VEVENT
BEGIN:VEVENT
UID:32633039-6139-4433-a638-623038663232
DTSTAMP:20260424T162114Z
DESCRIPTION:12/23 Plzeň - TJ Slovan Varnsdorf 2:0 (16\,18)
DTSTART;TZID=Europe/Berlin:20210919T100000
DTEND;TZID=Europe/Berlin:20210919T120000
LOCATION:Tělocvična 15.ZŠ\, Terezie Brzkové 863 Plzeň - Skvrňany
SUMMARY:CP-ZKY-D: Plzeň-TJ Slovan Varnsdorf
END:VEVENT
BEGIN:VEVENT
UID:36383332-3437-4935-b265-343064376463
DTSTAMP:20260424T162114Z
DESCRIPTION:12/24 Meteor - Sokolov 2:1 (-23\,11\,7)
DTSTART;TZID=Europe/Berlin:20210919T100000
DTEND;TZID=Europe/Berlin:20210919T120000
LOCATION:ZŠ Žernosecká Žernosecká 3/1597\, Praha 8
SUMMARY:CP-ZKY-D: Meteor-Sokolov
END:VEVENT
BEGIN:VEVENT
UID:64396233-3335-4662-b464-383837366261
DTSTAMP:20260424T162114Z
DESCRIPTION:13/25 Mělník - TJ Slovan Varnsdorf 2:0 (9\,8)
DTSTART;TZID=Europe/Berlin:20210919T110000
DTEND;TZID=Europe/Berlin:20210919T130000
LOCATION:Tělocvična ZŠ J. Matiegky\, Pražská 2817 Mělník
SUMMARY:CP-ZKY-D: Mělník-TJ Slovan Varnsdorf
END:VEVENT
BEGIN:VEVENT
UID:32366134-6135-4231-b931-643536666138
DTSTAMP:20260424T162114Z
DESCRIPTION:13/26 Olymp - Sokolov 0:2 (-24\,-12)
DTSTART;TZID=Europe/Berlin:20210919T110000
DTEND;TZID=Europe/Berlin:20210919T130000
LOCATION:PVK Olymp Praha Přípotoční 300\, 101 00 Praha 10
SUMMARY:CP-ZKY-D: Olymp-Sokolov
END:VEVENT
BEGIN:VEVENT
UID:30343339-6238-4539-a437-333634366633
DTSTAMP:20260424T162114Z
DESCRIPTION:14/27 VSK Spartak Děčín - Plzeň 0:2 (-20\,-21)
DTSTART;TZID=Europe/Berlin:20210919T120000
DTEND;TZID=Europe/Berlin:20210919T140000
LOCATION:SH ZŠ Dr M. Tyrše\, Vrchlického 630 Děčín - Děčín II-Nové Město
SUMMARY:CP-ZKY-D: VSK Spartak Děčín-Plzeň
END:VEVENT
BEGIN:VEVENT
UID:39633363-3362-4332-a166-643333636662
DTSTAMP:20260424T162114Z
DESCRIPTION:14/28 Meteor - Karlovy Vary 2:0 (19\,12)
DTSTART;TZID=Europe/Berlin:20210919T120000
DTEND;TZID=Europe/Berlin:20210919T140000
LOCATION:ZŠ Žernosecká Žernosecká 3/1597\, Praha 8
SUMMARY:CP-ZKY-D: Meteor-Karlovy Vary
END:VEVENT
END:VCALENDAR
