BEGIN:VCALENDAR
VERSION:2.0
PRODID:-//T-JRI-B//NONSGML kigkonsult.se iCalcreator 2.41.80//
CALSCALE:GREGORIAN
UID:31383862-6464-4264-a564-643063323931
BEGIN:VEVENT
UID:31636537-3832-4530-b466-633765663961
DTSTAMP:20260424T075807Z
DESCRIPTION:1/1 Karlovarsko - Blue Ostrava 2:1 (19\,-18\,7)
DTSTART;TZID=Europe/Berlin:20210910T133000
DTEND;TZID=Europe/Berlin:20210910T153000
LOCATION:Mattoni Arena Hala míčových sportů\, Západní 1812 Karlovy Vary
SUMMARY:T-JRI-B: Karlovarsko-Blue Ostrava
END:VEVENT
BEGIN:VEVENT
UID:32303734-3865-4336-a266-626334373733
DTSTAMP:20260424T075807Z
DESCRIPTION:1/2 Č. Budějovice - Zlín 2:0 (7\,8)
DTSTART;TZID=Europe/Berlin:20210910T133000
DTEND;TZID=Europe/Berlin:20210910T153000
LOCATION:ZŠ Oskara Nedbala České Budějovice\, O. Nedbala 882 České Budějovi
 ce - České Budějovice 2
SUMMARY:T-JRI-B: Č. Budějovice-Zlín
END:VEVENT
BEGIN:VEVENT
UID:31646434-6565-4565-b063-666330323332
DTSTAMP:20260424T075807Z
DESCRIPTION:2/3 Blue Ostrava - Č. Budějovice 1:2 (24\,-16\,-12)
DTSTART;TZID=Europe/Berlin:20210910T145000
DTEND;TZID=Europe/Berlin:20210910T165000
LOCATION:Hala Sportovního gymnázia\, Plzeňská 2627 Ostrava - Zábřeh
SUMMARY:T-JRI-B: Blue Ostrava-Č. Budějovice
END:VEVENT
BEGIN:VEVENT
UID:35626338-6666-4836-a165-306564633266
DTSTAMP:20260424T075807Z
DESCRIPTION:2/4 Příbram - Karlovarsko 2:0 (20\,14)
DTSTART;TZID=Europe/Berlin:20210910T145000
DTEND;TZID=Europe/Berlin:20210910T165000
LOCATION:sportovní hala Příbram\, Legionářů 378 Příbram - Příbram VII
SUMMARY:T-JRI-B: Příbram-Karlovarsko
END:VEVENT
BEGIN:VEVENT
UID:34313737-6265-4431-b137-316639623636
DTSTAMP:20260424T075807Z
DESCRIPTION:3/5 Č. Budějovice - Příbram 0:2 (-22\,-21)
DTSTART;TZID=Europe/Berlin:20210910T173000
DTEND;TZID=Europe/Berlin:20210910T193000
LOCATION:ZŠ Oskara Nedbala České Budějovice\, O. Nedbala 882 České Budějovi
 ce - České Budějovice 2
SUMMARY:T-JRI-B: Č. Budějovice-Příbram
END:VEVENT
BEGIN:VEVENT
UID:61616663-3334-4463-b938-373035343932
DTSTAMP:20260424T075807Z
DESCRIPTION:3/6 Zlín - Blue Ostrava 2:1 (23\,-21\,15)
DTSTART;TZID=Europe/Berlin:20210910T173000
DTEND;TZID=Europe/Berlin:20210910T193000
LOCATION:Sportovní hala Datart Zlín\, U Zimního stadionu 4286 Zlín
SUMMARY:T-JRI-B: Zlín-Blue Ostrava
END:VEVENT
BEGIN:VEVENT
UID:30623234-3732-4264-a438-623531353431
DTSTAMP:20260424T075807Z
DESCRIPTION:4/7 Příbram - Zlín 2:0 (15\,17)
DTSTART;TZID=Europe/Berlin:20210911T090000
DTEND;TZID=Europe/Berlin:20210911T110000
LOCATION:sportovní hala Příbram\, Legionářů 378 Příbram - Příbram VII
SUMMARY:T-JRI-B: Příbram-Zlín
END:VEVENT
BEGIN:VEVENT
UID:33623333-6264-4730-b861-393232333336
DTSTAMP:20260424T075807Z
DESCRIPTION:4/8 Karlovarsko - Č. Budějovice 1:2 (-23\,24\,-17)
DTSTART;TZID=Europe/Berlin:20210911T090000
DTEND;TZID=Europe/Berlin:20210911T110000
LOCATION:Mattoni Arena Hala míčových sportů\, Západní 1812 Karlovy Vary
SUMMARY:T-JRI-B: Karlovarsko-Č. Budějovice
END:VEVENT
BEGIN:VEVENT
UID:34333039-6534-4436-b065-336365636533
DTSTAMP:20260424T075807Z
DESCRIPTION:5/9 Zlín - Karlovarsko 2:1 (21\,-23\,15)
DTSTART;TZID=Europe/Berlin:20210911T113500
DTEND;TZID=Europe/Berlin:20210911T133500
LOCATION:Sportovní hala Datart Zlín\, U Zimního stadionu 4286 Zlín
SUMMARY:T-JRI-B: Zlín-Karlovarsko
END:VEVENT
BEGIN:VEVENT
UID:34393339-3532-4635-a636-666537623735
DTSTAMP:20260424T075807Z
DESCRIPTION:5/10 Blue Ostrava - Příbram 2:1 (-20\,20\,10)
DTSTART;TZID=Europe/Berlin:20210911T113500
DTEND;TZID=Europe/Berlin:20210911T133500
LOCATION:Hala Sportovního gymnázia\, Plzeňská 2627 Ostrava - Zábřeh
SUMMARY:T-JRI-B: Blue Ostrava-Příbram
END:VEVENT
END:VCALENDAR
