BEGIN:VCALENDAR
VERSION:2.0
PRODID:-//CP-ZKY-Z1A//NONSGML kigkonsult.se iCalcreator 2.41.80//
CALSCALE:GREGORIAN
UID:66646163-3036-4536-b565-366233643866
BEGIN:VEVENT
UID:62376533-3866-4736-b939-303233643963
DTSTAMP:20260425T161824Z
DESCRIPTION:1/1 Orion A - Mělník 2:1 (-16\,15\,14)\nZŠ Žernosecká
DTSTART;TZID=Europe/Berlin:20211016T083000
DTEND;TZID=Europe/Berlin:20211016T103000
LOCATION:Dolní Břežany Na Vršku 290
SUMMARY:CP-ZKY-Z1A: Orion A-Mělník
END:VEVENT
BEGIN:VEVENT
UID:35313132-6464-4132-b464-663231623635
DTSTAMP:20260425T161824Z
DESCRIPTION:2/2 Mikulova - Kralupy 2:1 (-19\,20\,13)\nGymnázium J.Keplera
DTSTART;TZID=Europe/Berlin:20211016T090000
DTEND;TZID=Europe/Berlin:20211016T110000
LOCATION:ZŠ Mikulova Mikulova 1594
SUMMARY:CP-ZKY-Z1A: Mikulova-Kralupy
END:VEVENT
BEGIN:VEVENT
UID:62353334-6330-4236-a431-356538343963
DTSTAMP:20260425T161824Z
DESCRIPTION:3/3 Orion A - Meteor 0:2 (-17\,-21)\nZŠ Žernosecká
DTSTART;TZID=Europe/Berlin:20211016T094000
DTEND;TZID=Europe/Berlin:20211016T114000
LOCATION:Dolní Břežany Na Vršku 290
SUMMARY:CP-ZKY-Z1A: Orion A-Meteor
END:VEVENT
BEGIN:VEVENT
UID:66396333-3035-4538-b934-333865616466
DTSTAMP:20260425T161824Z
DESCRIPTION:4/4 Mikulova - Dansport 2:0 (23\,22)\nGymnázium J.Keplera
DTSTART;TZID=Europe/Berlin:20211016T101000
DTEND;TZID=Europe/Berlin:20211016T121000
LOCATION:ZŠ Mikulova Mikulova 1594
SUMMARY:CP-ZKY-Z1A: Mikulova-Dansport
END:VEVENT
BEGIN:VEVENT
UID:32643534-3730-4231-b433-373136343831
DTSTAMP:20260425T161824Z
DESCRIPTION:5/5 Tábor - Mělník 2:1 (20\,-16\,6)\nZŠ Žernosecká
DTSTART;TZID=Europe/Berlin:20211016T105000
DTEND;TZID=Europe/Berlin:20211016T125000
LOCATION:Tělocvična ZŠ Husova\, Husova 1570 Tábor
SUMMARY:CP-ZKY-Z1A: Tábor-Mělník
END:VEVENT
BEGIN:VEVENT
UID:36646534-3737-4733-b062-663464396334
DTSTAMP:20260425T161824Z
DESCRIPTION:6/6 Hlincovka - Kralupy 0:2 (-25\,-23)\nGymnázium J.Keplera
DTSTART;TZID=Europe/Berlin:20211016T112000
DTEND;TZID=Europe/Berlin:20211016T132000
LOCATION:Sportovní hala Rudolfov\, Adamovská 511 Rudolfov
SUMMARY:CP-ZKY-Z1A: Hlincovka-Kralupy
END:VEVENT
BEGIN:VEVENT
UID:63663862-6232-4436-a535-303739346465
DTSTAMP:20260425T161824Z
DESCRIPTION:7/7 Orion A - Tábor 1:2 (-18\,19\,-4)\nZŠ Žernosecká
DTSTART;TZID=Europe/Berlin:20211016T120000
DTEND;TZID=Europe/Berlin:20211016T140000
LOCATION:Dolní Břežany Na Vršku 290
SUMMARY:CP-ZKY-Z1A: Orion A-Tábor
END:VEVENT
BEGIN:VEVENT
UID:36616264-3561-4665-b832-346162643563
DTSTAMP:20260425T161824Z
DESCRIPTION:8/8 Mikulova - Hlincovka 0:2 (-22\,-21)\nGymnázium J.Keplera
DTSTART;TZID=Europe/Berlin:20211016T123000
DTEND;TZID=Europe/Berlin:20211016T143000
LOCATION:ZŠ Mikulova Mikulova 1594
SUMMARY:CP-ZKY-Z1A: Mikulova-Hlincovka
END:VEVENT
BEGIN:VEVENT
UID:61383731-6463-4536-b038-326436333930
DTSTAMP:20260425T161824Z
DESCRIPTION:9/9 Meteor - Mělník 0:2 (-21\,-14)\nZŠ Žernosecká
DTSTART;TZID=Europe/Berlin:20211016T131000
DTEND;TZID=Europe/Berlin:20211016T151000
LOCATION:ZŠ Žernosecká Žernosecká 3/1597\, Praha 8
SUMMARY:CP-ZKY-Z1A: Meteor-Mělník
END:VEVENT
BEGIN:VEVENT
UID:37626464-3236-4236-b062-346239646661
DTSTAMP:20260425T161824Z
DESCRIPTION:10/10 Dansport - Kralupy 0:2 (-9\,-13)\nGymnázium J.Keplera
DTSTART;TZID=Europe/Berlin:20211016T134000
DTEND;TZID=Europe/Berlin:20211016T154000
LOCATION:Sportovní hala Gymnázia Jana Keplera Parléřova 118\, Praha - Hradč
 any
SUMMARY:CP-ZKY-Z1A: Dansport-Kralupy
END:VEVENT
BEGIN:VEVENT
UID:62313330-6333-4435-b034-396630393561
DTSTAMP:20260425T161824Z
DESCRIPTION:11/11 Meteor - Tábor 0:2 (-14\,-21)\nZŠ Žernosecká
DTSTART;TZID=Europe/Berlin:20211016T142000
DTEND;TZID=Europe/Berlin:20211016T162000
LOCATION:ZŠ Žernosecká Žernosecká 3/1597\, Praha 8
SUMMARY:CP-ZKY-Z1A: Meteor-Tábor
END:VEVENT
BEGIN:VEVENT
UID:31633834-6432-4362-a264-306330653236
DTSTAMP:20260425T161824Z
DESCRIPTION:12/12 Dansport - Hlincovka 1:2 (19\,-16\,-8)\nGymnázium J.Keple
 ra
DTSTART;TZID=Europe/Berlin:20211016T145000
DTEND;TZID=Europe/Berlin:20211016T165000
LOCATION:Sportovní hala Gymnázia Jana Keplera Parléřova 118\, Praha - Hradč
 any
SUMMARY:CP-ZKY-Z1A: Dansport-Hlincovka
END:VEVENT
BEGIN:VEVENT
UID:61343761-3336-4662-b663-623464373531
DTSTAMP:20260425T161824Z
DESCRIPTION:13/13 Mikulova - Tábor 0:2 (-16\,-17)\nZŠ Žernosecká
DTSTART;TZID=Europe/Berlin:20211016T153000
DTEND;TZID=Europe/Berlin:20211016T173000
LOCATION:ZŠ Mikulova Mikulova 1594
SUMMARY:CP-ZKY-Z1A: Mikulova-Tábor
END:VEVENT
BEGIN:VEVENT
UID:64316633-3036-4062-b834-646636306532
DTSTAMP:20260425T161824Z
DESCRIPTION:14/14 Orion A - Hlincovka 2:1 (11\,-17\,10)\nGymnázium J.Kepler
 a
DTSTART;TZID=Europe/Berlin:20211016T160000
DTEND;TZID=Europe/Berlin:20211016T180000
LOCATION:Dolní Břežany Na Vršku 290
SUMMARY:CP-ZKY-Z1A: Orion A-Hlincovka
END:VEVENT
BEGIN:VEVENT
UID:63356365-3831-4163-a635-343165373135
DTSTAMP:20260425T161824Z
DESCRIPTION:15/15 Kralupy - Meteor 1:2 (-24\,18\,-14)\nZŠ Žernosecká
DTSTART;TZID=Europe/Berlin:20211016T164000
DTEND;TZID=Europe/Berlin:20211016T184000
LOCATION:TJ KRALUPY\, z.s.\, Gen. Klapálka 1029 Kralupy nad Vltavou
SUMMARY:CP-ZKY-Z1A: Kralupy-Meteor
END:VEVENT
BEGIN:VEVENT
UID:61666231-3365-4664-a662-323064353131
DTSTAMP:20260425T161824Z
DESCRIPTION:16/16 Mělník - Dansport 2:1 (17\,-24\,6)\nGymnázium J.Keplera
DTSTART;TZID=Europe/Berlin:20211016T171000
DTEND;TZID=Europe/Berlin:20211016T191000
LOCATION:Tělocvična ZŠ J. Matiegky Pražská 2817 Mělník
SUMMARY:CP-ZKY-Z1A: Mělník-Dansport
END:VEVENT
BEGIN:VEVENT
UID:65313438-3933-4164-b539-336632623264
DTSTAMP:20260425T161824Z
DESCRIPTION:17/17 Tábor - Hlincovka 2:1 (-22\,18\,12)\nhala TJ JM Chodov
DTSTART;TZID=Europe/Berlin:20211017T083000
DTEND;TZID=Europe/Berlin:20211017T103000
LOCATION:Tělocvična ZŠ Husova\, Husova 1570 Tábor
SUMMARY:CP-ZKY-Z1A: Tábor-Hlincovka
END:VEVENT
BEGIN:VEVENT
UID:33333863-3166-4463-b464-303435666165
DTSTAMP:20260425T161824Z
DESCRIPTION:17/18 Orion A - Dansport 2:0 (19\,18)\nhala TJ JM Chodov
DTSTART;TZID=Europe/Berlin:20211017T083000
DTEND;TZID=Europe/Berlin:20211017T103000
LOCATION:Dolní Břežany Na Vršku 290
SUMMARY:CP-ZKY-Z1A: Orion A-Dansport
END:VEVENT
BEGIN:VEVENT
UID:36616439-3333-4336-b461-303266386431
DTSTAMP:20260425T161824Z
DESCRIPTION:17/19 Meteor - Mikulova 0:2 (-23\,-18)\nhala TJ JM Chodov
DTSTART;TZID=Europe/Berlin:20211017T083000
DTEND;TZID=Europe/Berlin:20211017T103000
LOCATION:ZŠ Žernosecká Žernosecká 3/1597\, Praha 8
SUMMARY:CP-ZKY-Z1A: Meteor-Mikulova
END:VEVENT
BEGIN:VEVENT
UID:64373534-3835-4731-a338-336136623131
DTSTAMP:20260425T161824Z
DESCRIPTION:18/20 Meteor - Hlincovka 0:2 (-20\,-14)\nhala TJ JM Chodov
DTSTART;TZID=Europe/Berlin:20211017T094500
DTEND;TZID=Europe/Berlin:20211017T114500
LOCATION:ZŠ Žernosecká Žernosecká 3/1597\, Praha 8
SUMMARY:CP-ZKY-Z1A: Meteor-Hlincovka
END:VEVENT
BEGIN:VEVENT
UID:31633133-3732-4261-a335-386336363664
DTSTAMP:20260425T161824Z
DESCRIPTION:18/21 Tábor - Kralupy 1:2 (23\,-16\,-9)\nhala TJ JM Chodov
DTSTART;TZID=Europe/Berlin:20211017T094500
DTEND;TZID=Europe/Berlin:20211017T114500
LOCATION:Tělocvična ZŠ Husova\, Husova 1570 Tábor
SUMMARY:CP-ZKY-Z1A: Tábor-Kralupy
END:VEVENT
BEGIN:VEVENT
UID:32316433-6661-4834-a337-613230316634
DTSTAMP:20260425T161824Z
DESCRIPTION:18/22 Mělník - Mikulova 2:0 (20\,14)\nhala TJ JM Chodov
DTSTART;TZID=Europe/Berlin:20211017T094500
DTEND;TZID=Europe/Berlin:20211017T114500
LOCATION:Tělocvična ZŠ J. Matiegky Pražská 2817 Mělník
SUMMARY:CP-ZKY-Z1A: Mělník-Mikulova
END:VEVENT
BEGIN:VEVENT
UID:39306266-3565-4330-b335-333039636466
DTSTAMP:20260425T161824Z
DESCRIPTION:19/23 Mělník - Hlincovka 2:1 (19\,-19\,10)\nhala TJ JM Chodov
DTSTART;TZID=Europe/Berlin:20211017T110000
DTEND;TZID=Europe/Berlin:20211017T130000
LOCATION:Tělocvična ZŠ J. Matiegky Pražská 2817 Mělník
SUMMARY:CP-ZKY-Z1A: Mělník-Hlincovka
END:VEVENT
BEGIN:VEVENT
UID:30633165-6637-4039-b037-336139666330
DTSTAMP:20260425T161824Z
DESCRIPTION:19/24 Tábor - Dansport 2:0 (18\,8)\nhala TJ JM Chodov
DTSTART;TZID=Europe/Berlin:20211017T110000
DTEND;TZID=Europe/Berlin:20211017T130000
LOCATION:Tělocvična ZŠ Husova\, Husova 1570 Tábor
SUMMARY:CP-ZKY-Z1A: Tábor-Dansport
END:VEVENT
BEGIN:VEVENT
UID:39343663-6639-4530-a162-653761306663
DTSTAMP:20260425T161824Z
DESCRIPTION:19/25 Orion A - Kralupy 0:2 (-23\,-18)\nhala TJ JM Chodov
DTSTART;TZID=Europe/Berlin:20211017T110000
DTEND;TZID=Europe/Berlin:20211017T130000
LOCATION:Dolní Břežany Na Vršku 290
SUMMARY:CP-ZKY-Z1A: Orion A-Kralupy
END:VEVENT
BEGIN:VEVENT
UID:35363866-6535-4461-a431-373130626665
DTSTAMP:20260425T161824Z
DESCRIPTION:20/26 Meteor - Dansport 2:1 (20\,-19\,9)\nhala TJ JM Chodov
DTSTART;TZID=Europe/Berlin:20211017T121500
DTEND;TZID=Europe/Berlin:20211017T141500
LOCATION:ZŠ Žernosecká Žernosecká 3/1597\, Praha 8
SUMMARY:CP-ZKY-Z1A: Meteor-Dansport
END:VEVENT
BEGIN:VEVENT
UID:61313434-3239-4538-a337-666430353835
DTSTAMP:20260425T161824Z
DESCRIPTION:20/27 Orion A - Mikulova 2:1 (-21\,20\,11)\nhala TJ JM Chodov
DTSTART;TZID=Europe/Berlin:20211017T121500
DTEND;TZID=Europe/Berlin:20211017T141500
LOCATION:Dolní Břežany Na Vršku 290
SUMMARY:CP-ZKY-Z1A: Orion A-Mikulova
END:VEVENT
BEGIN:VEVENT
UID:63613965-6238-4461-a665-336233376132
DTSTAMP:20260425T161824Z
DESCRIPTION:20/28 Mělník - Kralupy 0:2 (-25\,-11)\nhala TJ JM Chodov
DTSTART;TZID=Europe/Berlin:20211017T121500
DTEND;TZID=Europe/Berlin:20211017T141500
LOCATION:Tělocvična ZŠ J. Matiegky Pražská 2817 Mělník
SUMMARY:CP-ZKY-Z1A: Mělník-Kralupy
END:VEVENT
END:VCALENDAR
