BEGIN:VCALENDAR
VERSION:2.0
PRODID:-//CP-ZKY-V1B//NONSGML kigkonsult.se iCalcreator 2.41.80//
CALSCALE:GREGORIAN
UID:35633739-3866-4464-a332-616638643465
BEGIN:VEVENT
UID:33613766-3262-4963-b232-356333383764
DTSTAMP:20260424T033718Z
DESCRIPTION:1/1 Opava - Prostějov 2:1 (25\,-21\,15)
DTSTART;TZID=Europe/Berlin:20211016T090000
DTEND;TZID=Europe/Berlin:20211016T110000
LOCATION:Sportovní hala Slezského gymnázia v Opavě\, Zámecký okruh 461 Opav
 a - Město
SUMMARY:CP-ZKY-V1B: Opava-Prostějov
END:VEVENT
BEGIN:VEVENT
UID:66366336-6662-4335-b335-386235333637
DTSTAMP:20260424T033718Z
DESCRIPTION:1/2 Svitavy - VK UP Olomouc A 2:1 (-14\,25\,15)
DTSTART;TZID=Europe/Berlin:20211016T090000
DTEND;TZID=Europe/Berlin:20211016T110000
LOCATION:Tělocvična ZŠ\, Felberova 669 Svitavy - Lány
SUMMARY:CP-ZKY-V1B: Svitavy-VK UP Olomouc A
END:VEVENT
BEGIN:VEVENT
UID:35666638-6265-4732-b831-663436306330
DTSTAMP:20260424T033718Z
DESCRIPTION:2/3 Dolní Újezd - Loko Fosfa Břeclav 1:2 (-18\,26\,-13)
DTSTART;TZID=Europe/Berlin:20211016T101500
DTEND;TZID=Europe/Berlin:20211016T121500
LOCATION:tělocvična Základní školy\,  Dolní Újezd342
SUMMARY:CP-ZKY-V1B: Dolní Újezd-Loko Fosfa Břeclav
END:VEVENT
BEGIN:VEVENT
UID:37383235-6635-4337-a538-353365326137
DTSTAMP:20260424T033718Z
DESCRIPTION:2/4 RÉMA - Hronov 0:2 (-23\,-13)
DTSTART;TZID=Europe/Berlin:20211016T101500
DTEND;TZID=Europe/Berlin:20211016T121500
LOCATION:Hala VOŠ a SPŠS\, U Stadionu 1166 Rychnov nad Kněžnou
SUMMARY:CP-ZKY-V1B: RÉMA-Hronov
END:VEVENT
BEGIN:VEVENT
UID:36313266-6530-4436-a134-656461343761
DTSTAMP:20260424T033718Z
DESCRIPTION:3/5 Opava - Svitavy 2:0 (23\,20)
DTSTART;TZID=Europe/Berlin:20211016T113000
DTEND;TZID=Europe/Berlin:20211016T133000
LOCATION:Sportovní hala Slezského gymnázia v Opavě\, Zámecký okruh 461 Opav
 a - Město
SUMMARY:CP-ZKY-V1B: Opava-Svitavy
END:VEVENT
BEGIN:VEVENT
UID:35626366-3531-4230-a539-323438353463
DTSTAMP:20260424T033718Z
DESCRIPTION:3/6 VK UP Olomouc A - Prostějov 0:2 (-25\,-16)
DTSTART;TZID=Europe/Berlin:20211016T113000
DTEND;TZID=Europe/Berlin:20211016T133000
LOCATION:Čajkaréna\, Čajkovského 68 Olomouc - Nová Ulice
SUMMARY:CP-ZKY-V1B: VK UP Olomouc A-Prostějov
END:VEVENT
BEGIN:VEVENT
UID:39373639-3037-4537-a638-343435363937
DTSTAMP:20260424T033718Z
DESCRIPTION:4/7 Hronov - Dolní Újezd 2:0 (13\,10)
DTSTART;TZID=Europe/Berlin:20211016T124500
DTEND;TZID=Europe/Berlin:20211016T144500
LOCATION:ZŠ Hronov\, Palackého 162 Hronov
SUMMARY:CP-ZKY-V1B: Hronov-Dolní Újezd
END:VEVENT
BEGIN:VEVENT
UID:61326138-6136-4363-a433-616537336432
DTSTAMP:20260424T033718Z
DESCRIPTION:4/8 RÉMA - Loko Fosfa Břeclav 1:2 (22\,-24\,-10)
DTSTART;TZID=Europe/Berlin:20211016T124500
DTEND;TZID=Europe/Berlin:20211016T144500
LOCATION:Hala VOŠ a SPŠS\, U Stadionu 1166 Rychnov nad Kněžnou
SUMMARY:CP-ZKY-V1B: RÉMA-Loko Fosfa Břeclav
END:VEVENT
BEGIN:VEVENT
UID:38336561-6333-4664-b465-383733353866
DTSTAMP:20260424T033718Z
DESCRIPTION:5/9 Opava - VK UP Olomouc A 2:1 (22\,-19\,13)
DTSTART;TZID=Europe/Berlin:20211016T140000
DTEND;TZID=Europe/Berlin:20211016T160000
LOCATION:Sportovní hala Slezského gymnázia v Opavě\, Zámecký okruh 461 Opav
 a - Město
SUMMARY:CP-ZKY-V1B: Opava-VK UP Olomouc A
END:VEVENT
BEGIN:VEVENT
UID:39363262-3866-4331-b231-303565343239
DTSTAMP:20260424T033718Z
DESCRIPTION:5/10 Svitavy - Prostějov 2:0 (24\,21)
DTSTART;TZID=Europe/Berlin:20211016T140000
DTEND;TZID=Europe/Berlin:20211016T160000
LOCATION:Tělocvična ZŠ\, Felberova 669 Svitavy - Lány
SUMMARY:CP-ZKY-V1B: Svitavy-Prostějov
END:VEVENT
BEGIN:VEVENT
UID:65366434-6238-4966-a433-323766646339
DTSTAMP:20260424T033718Z
DESCRIPTION:6/11 RÉMA - Dolní Újezd 0:2 (-16\,-26)
DTSTART;TZID=Europe/Berlin:20211016T151500
DTEND;TZID=Europe/Berlin:20211016T171500
LOCATION:Hala VOŠ a SPŠS\, U Stadionu 1166 Rychnov nad Kněžnou
SUMMARY:CP-ZKY-V1B: RÉMA-Dolní Újezd
END:VEVENT
BEGIN:VEVENT
UID:38343835-3462-4564-b132-383863666663
DTSTAMP:20260424T033718Z
DESCRIPTION:6/12 Hronov - Loko Fosfa Břeclav 2:0 (20\,20)
DTSTART;TZID=Europe/Berlin:20211016T151500
DTEND;TZID=Europe/Berlin:20211016T171500
LOCATION:ZŠ Hronov\, Palackého 162 Hronov
SUMMARY:CP-ZKY-V1B: Hronov-Loko Fosfa Břeclav
END:VEVENT
BEGIN:VEVENT
UID:66373630-6231-4364-b334-373230376466
DTSTAMP:20260424T033718Z
DESCRIPTION:7/13 RÉMA - Prostějov 1:2 (16\,-14\,-12)
DTSTART;TZID=Europe/Berlin:20211016T163000
DTEND;TZID=Europe/Berlin:20211016T183000
LOCATION:Hala VOŠ a SPŠS\, U Stadionu 1166 Rychnov nad Kněžnou
SUMMARY:CP-ZKY-V1B: RÉMA-Prostějov
END:VEVENT
BEGIN:VEVENT
UID:39396361-6439-4262-b965-643363656564
DTSTAMP:20260424T033718Z
DESCRIPTION:7/14 Hronov - VK UP Olomouc A 2:0 (21\,20)
DTSTART;TZID=Europe/Berlin:20211016T163000
DTEND;TZID=Europe/Berlin:20211016T183000
LOCATION:ZŠ Hronov\, Palackého 162 Hronov
SUMMARY:CP-ZKY-V1B: Hronov-VK UP Olomouc A
END:VEVENT
BEGIN:VEVENT
UID:35376364-3833-4737-b366-396363616662
DTSTAMP:20260424T033718Z
DESCRIPTION:8/15 Opava - Loko Fosfa Břeclav 2:1 (-18\,21\,14)
DTSTART;TZID=Europe/Berlin:20211016T174500
DTEND;TZID=Europe/Berlin:20211016T194500
LOCATION:Sportovní hala Slezského gymnázia v Opavě\, Zámecký okruh 461 Opav
 a - Město
SUMMARY:CP-ZKY-V1B: Opava-Loko Fosfa Břeclav
END:VEVENT
BEGIN:VEVENT
UID:64363264-6638-4334-b636-656263386165
DTSTAMP:20260424T033718Z
DESCRIPTION:8/16 Dolní Újezd - Svitavy 2:1 (-14\,21\,11)
DTSTART;TZID=Europe/Berlin:20211016T174500
DTEND;TZID=Europe/Berlin:20211016T194500
LOCATION:tělocvična Základní školy\,  Dolní Újezd342
SUMMARY:CP-ZKY-V1B: Dolní Újezd-Svitavy
END:VEVENT
BEGIN:VEVENT
UID:64356130-6438-4036-b063-303239623136
DTSTAMP:20260424T033718Z
DESCRIPTION:9/17 Hronov - Prostějov 2:0 (10\,21)
DTSTART;TZID=Europe/Berlin:20211016T190000
DTEND;TZID=Europe/Berlin:20211016T210000
LOCATION:ZŠ Hronov\, Palackého 162 Hronov
SUMMARY:CP-ZKY-V1B: Hronov-Prostějov
END:VEVENT
BEGIN:VEVENT
UID:38316232-6166-4562-a636-353863303064
DTSTAMP:20260424T033718Z
DESCRIPTION:9/18 RÉMA - VK UP Olomouc A 1:2 (-24\,22\,-6)
DTSTART;TZID=Europe/Berlin:20211016T190000
DTEND;TZID=Europe/Berlin:20211016T210000
LOCATION:Hala VOŠ a SPŠS\, U Stadionu 1166 Rychnov nad Kněžnou
SUMMARY:CP-ZKY-V1B: RÉMA-VK UP Olomouc A
END:VEVENT
BEGIN:VEVENT
UID:35393532-3332-4961-b363-363137336536
DTSTAMP:20260424T033718Z
DESCRIPTION:10/19 Opava - Hronov 2:0 (14\,16)
DTSTART;TZID=Europe/Berlin:20211017T090000
DTEND;TZID=Europe/Berlin:20211017T110000
LOCATION:Sportovní hala Slezského gymnázia v Opavě\, Zámecký okruh 461 Opav
 a - Město
SUMMARY:CP-ZKY-V1B: Opava-Hronov
END:VEVENT
BEGIN:VEVENT
UID:62356535-6534-4463-b732-643933636535
DTSTAMP:20260424T033718Z
DESCRIPTION:10/20 Dolní Újezd - VK UP Olomouc A 2:0 (19\,20)
DTSTART;TZID=Europe/Berlin:20211017T090000
DTEND;TZID=Europe/Berlin:20211017T110000
LOCATION:tělocvična Základní školy\,  Dolní Újezd342
SUMMARY:CP-ZKY-V1B: Dolní Újezd-VK UP Olomouc A
END:VEVENT
BEGIN:VEVENT
UID:34333362-6639-4531-b232-343462646437
DTSTAMP:20260424T033718Z
DESCRIPTION:11/21 RÉMA - Svitavy 0:2 (-23\,-23)
DTSTART;TZID=Europe/Berlin:20211017T101500
DTEND;TZID=Europe/Berlin:20211017T121500
LOCATION:Hala VOŠ a SPŠS\, U Stadionu 1166 Rychnov nad Kněžnou
SUMMARY:CP-ZKY-V1B: RÉMA-Svitavy
END:VEVENT
BEGIN:VEVENT
UID:35343863-6432-4466-b839-643634666139
DTSTAMP:20260424T033718Z
DESCRIPTION:11/22 Loko Fosfa Břeclav - Prostějov 0:2 (-22\,-19)
DTSTART;TZID=Europe/Berlin:20211017T101500
DTEND;TZID=Europe/Berlin:20211017T121500
LOCATION:TJ Lokomotiva Břeclav\, Veslařská 2753 Břeclav
SUMMARY:CP-ZKY-V1B: Loko Fosfa Břeclav-Prostějov
END:VEVENT
BEGIN:VEVENT
UID:37666635-3534-4538-b366-383639623661
DTSTAMP:20260424T033718Z
DESCRIPTION:12/23 VK UP Olomouc A - Loko Fosfa Břeclav 2:1 (-23\,16\,12)
DTSTART;TZID=Europe/Berlin:20211017T113000
DTEND;TZID=Europe/Berlin:20211017T133000
LOCATION:Čajkaréna\, Čajkovského 68 Olomouc - Nová Ulice
SUMMARY:CP-ZKY-V1B: VK UP Olomouc A-Loko Fosfa Břeclav
END:VEVENT
BEGIN:VEVENT
UID:36643738-6537-4539-a234-613435643064
DTSTAMP:20260424T033718Z
DESCRIPTION:12/24 Opava - Dolní Újezd 2:0 (14\,22)
DTSTART;TZID=Europe/Berlin:20211017T113000
DTEND;TZID=Europe/Berlin:20211017T133000
LOCATION:Sportovní hala Slezského gymnázia v Opavě\, Zámecký okruh 461 Opav
 a - Město
SUMMARY:CP-ZKY-V1B: Opava-Dolní Újezd
END:VEVENT
BEGIN:VEVENT
UID:65326364-3137-4039-a536-363636646536
DTSTAMP:20260424T033718Z
DESCRIPTION:13/25 Hronov - Svitavy 2:0 (19\,19)
DTSTART;TZID=Europe/Berlin:20211017T124500
DTEND;TZID=Europe/Berlin:20211017T144500
LOCATION:ZŠ Hronov\, Palackého 162 Hronov
SUMMARY:CP-ZKY-V1B: Hronov-Svitavy
END:VEVENT
BEGIN:VEVENT
UID:64323065-6465-4562-b938-323562653636
DTSTAMP:20260424T033718Z
DESCRIPTION:13/26 Dolní Újezd - Prostějov 0:2 (-19\,-21)
DTSTART;TZID=Europe/Berlin:20211017T124500
DTEND;TZID=Europe/Berlin:20211017T144500
LOCATION:tělocvična Základní školy\,  Dolní Újezd342
SUMMARY:CP-ZKY-V1B: Dolní Újezd-Prostějov
END:VEVENT
BEGIN:VEVENT
UID:35613931-6639-4437-b131-343531383830
DTSTAMP:20260424T033718Z
DESCRIPTION:14/27 Opava - RÉMA 2:0 (16\,18)
DTSTART;TZID=Europe/Berlin:20211017T140000
DTEND;TZID=Europe/Berlin:20211017T160000
LOCATION:Sportovní hala Slezského gymnázia v Opavě\, Zámecký okruh 461 Opav
 a - Město
SUMMARY:CP-ZKY-V1B: Opava-RÉMA
END:VEVENT
BEGIN:VEVENT
UID:30326465-3664-4363-a362-386363383231
DTSTAMP:20260424T033718Z
DESCRIPTION:14/28 Svitavy - Loko Fosfa Břeclav 2:0 (23\,12)
DTSTART;TZID=Europe/Berlin:20211017T140000
DTEND;TZID=Europe/Berlin:20211017T160000
LOCATION:Tělocvična ZŠ\, Felberova 669 Svitavy - Lány
SUMMARY:CP-ZKY-V1B: Svitavy-Loko Fosfa Břeclav
END:VEVENT
END:VCALENDAR
