BEGIN:VCALENDAR
VERSION:2.0
PRODID:-//CP-ZKY-V1D//NONSGML kigkonsult.se iCalcreator 2.41.80//
CALSCALE:GREGORIAN
UID:34316263-3032-4861-b162-313238346438
BEGIN:VEVENT
UID:61353239-3964-4131-b135-383233316337
DTSTAMP:20260425T161736Z
DESCRIPTION:1/1 VK Litomyšl - Kladno 1:2 (-19\,25\,-9)
DTSTART;TZID=Europe/Berlin:20211016T090000
DTEND;TZID=Europe/Berlin:20211016T110000
LOCATION:Městská sportovní hala\, T. G. Masaryka 1145 Litomyšl - Litomyšl-M
 ěsto
SUMMARY:CP-ZKY-V1D: VK Litomyšl-Kladno
END:VEVENT
BEGIN:VEVENT
UID:63366139-6362-4536-b662-366539373338
DTSTAMP:20260425T161736Z
DESCRIPTION:1/2 VK Valašské Meziříčí - DUKLA Liberec 0:2 (-17\,-18)
DTSTART;TZID=Europe/Berlin:20211016T090000
DTEND;TZID=Europe/Berlin:20211016T110000
LOCATION:ZŠ Šafaříkova\, Šafaříkova 726 Valašské Meziříčí
SUMMARY:CP-ZKY-V1D: VK Valašské Meziříčí-DUKLA Liberec
END:VEVENT
BEGIN:VEVENT
UID:34336264-6536-4966-b065-393664376333
DTSTAMP:20260425T161736Z
DESCRIPTION:2/3 Chlumec - VK Vejrostova 1:2 (-22\,20\,-13)
DTSTART;TZID=Europe/Berlin:20211016T103000
DTEND;TZID=Europe/Berlin:20211016T123000
LOCATION:Slavíčkova hala\, Sokolská 795 Chlumec nad Cidlinou - Chlumec nad 
 Cidlinou IV
SUMMARY:CP-ZKY-V1D: Chlumec-VK Vejrostova
END:VEVENT
BEGIN:VEVENT
UID:63386164-3163-4032-a661-633334646236
DTSTAMP:20260425T161736Z
DESCRIPTION:2/4 VO TJ Lanškroun B - DUKLA Liberec 0:2 (-10\,-14)
DTSTART;TZID=Europe/Berlin:20211016T103000
DTEND;TZID=Europe/Berlin:20211016T123000
LOCATION:SOŠ a SOU Lanškroun\, Sokolská 288 Lanškroun - Ostrovské Předměstí
SUMMARY:CP-ZKY-V1D: VO TJ Lanškroun B-DUKLA Liberec
END:VEVENT
BEGIN:VEVENT
UID:30376338-6664-4736-a361-303339306663
DTSTAMP:20260425T161736Z
DESCRIPTION:3/5 VK Vejrostova - Kladno 0:2 (-22\,-29)
DTSTART;TZID=Europe/Berlin:20211016T120000
DTEND;TZID=Europe/Berlin:20211016T140000
LOCATION:ZŠ Vejrostova\, Vejrostova 1066 Brno - Bystrc
SUMMARY:CP-ZKY-V1D: VK Vejrostova-Kladno
END:VEVENT
BEGIN:VEVENT
UID:33373438-3963-4431-b666-643631323739
DTSTAMP:20260425T161736Z
DESCRIPTION:3/6 VK Litomyšl - VK Valašské Meziříčí 2:0 (16\,24)
DTSTART;TZID=Europe/Berlin:20211016T120000
DTEND;TZID=Europe/Berlin:20211016T140000
LOCATION:Městská sportovní hala\, T. G. Masaryka 1145 Litomyšl - Litomyšl-M
 ěsto
SUMMARY:CP-ZKY-V1D: VK Litomyšl-VK Valašské Meziříčí
END:VEVENT
BEGIN:VEVENT
UID:36643364-6465-4734-a265-333865376336
DTSTAMP:20260425T161736Z
DESCRIPTION:4/7 Kladno - Chlumec 2:0 (17\,20)
DTSTART;TZID=Europe/Berlin:20211016T133000
DTEND;TZID=Europe/Berlin:20211016T153000
LOCATION:Kladenská sportovní hala\, Sportovců 817 Kladno - Rozdělov
SUMMARY:CP-ZKY-V1D: Kladno-Chlumec
END:VEVENT
BEGIN:VEVENT
UID:61623539-6333-4633-a463-343338613462
DTSTAMP:20260425T161736Z
DESCRIPTION:4/8 VO TJ Lanškroun B - VK Litomyšl 2:1 (22\,-17\,10)
DTSTART;TZID=Europe/Berlin:20211016T133000
DTEND;TZID=Europe/Berlin:20211016T153000
LOCATION:SOŠ a SOU Lanškroun\, Sokolská 288 Lanškroun - Ostrovské Předměstí
SUMMARY:CP-ZKY-V1D: VO TJ Lanškroun B-VK Litomyšl
END:VEVENT
BEGIN:VEVENT
UID:35396234-3337-4931-b137-306632303039
DTSTAMP:20260425T161736Z
DESCRIPTION:5/9 VK Valašské Meziříčí - Chlumec 0:2 (-13\,-20)
DTSTART;TZID=Europe/Berlin:20211016T143000
DTEND;TZID=Europe/Berlin:20211016T163000
LOCATION:ZŠ Šafaříkova\, Šafaříkova 726 Valašské Meziříčí
SUMMARY:CP-ZKY-V1D: VK Valašské Meziříčí-Chlumec
END:VEVENT
BEGIN:VEVENT
UID:61383233-3839-4734-a565-396263646232
DTSTAMP:20260425T161736Z
DESCRIPTION:5/10 DUKLA Liberec - VK Vejrostova 2:1 (22\,-21\,12)
DTSTART;TZID=Europe/Berlin:20211016T143000
DTEND;TZID=Europe/Berlin:20211016T163000
LOCATION:Dukla Liberec\, Jeronýmova 558 Liberec - Liberec VII-Horní Růžodol
SUMMARY:CP-ZKY-V1D: DUKLA Liberec-VK Vejrostova
END:VEVENT
BEGIN:VEVENT
UID:37646432-3762-4635-b038-376261346261
DTSTAMP:20260425T161736Z
DESCRIPTION:6/11 Kladno - VK Valašské Meziříčí 2:0 (22\,19)
DTSTART;TZID=Europe/Berlin:20211016T160000
DTEND;TZID=Europe/Berlin:20211016T180000
LOCATION:Kladenská sportovní hala\, Sportovců 817 Kladno - Rozdělov
SUMMARY:CP-ZKY-V1D: Kladno-VK Valašské Meziříčí
END:VEVENT
BEGIN:VEVENT
UID:35333834-6563-4932-b733-643161396339
DTSTAMP:20260425T161736Z
DESCRIPTION:6/12 VO TJ Lanškroun B - VK Vejrostova 0:2 (-16\,-23)
DTSTART;TZID=Europe/Berlin:20211016T160000
DTEND;TZID=Europe/Berlin:20211016T180000
LOCATION:SOŠ a SOU Lanškroun\, Sokolská 288 Lanškroun - Ostrovské Předměstí
SUMMARY:CP-ZKY-V1D: VO TJ Lanškroun B-VK Vejrostova
END:VEVENT
BEGIN:VEVENT
UID:37666534-6166-4635-b235-306665326335
DTSTAMP:20260425T161736Z
DESCRIPTION:7/13 Chlumec - VO TJ Lanškroun B 2:0 (14\,12)
DTSTART;TZID=Europe/Berlin:20211016T173000
DTEND;TZID=Europe/Berlin:20211016T193000
LOCATION:Slavíčkova hala\, Sokolská 795 Chlumec nad Cidlinou - Chlumec nad 
 Cidlinou IV
SUMMARY:CP-ZKY-V1D: Chlumec-VO TJ Lanškroun B
END:VEVENT
BEGIN:VEVENT
UID:37396364-3531-4963-b339-613863333832
DTSTAMP:20260425T161736Z
DESCRIPTION:7/14 DUKLA Liberec - VK Litomyšl 2:0 (24\,19)
DTSTART;TZID=Europe/Berlin:20211016T173000
DTEND;TZID=Europe/Berlin:20211016T193000
LOCATION:Dukla Liberec\, Jeronýmova 558 Liberec - Liberec VII-Horní Růžodol
SUMMARY:CP-ZKY-V1D: DUKLA Liberec-VK Litomyšl
END:VEVENT
BEGIN:VEVENT
UID:61396531-3361-4438-a635-326265336334
DTSTAMP:20260425T161736Z
DESCRIPTION:8/15 Kladno - VO TJ Lanškroun B 2:0 (14\,9)
DTSTART;TZID=Europe/Berlin:20211017T083000
DTEND;TZID=Europe/Berlin:20211017T103000
LOCATION:Kladenská sportovní hala\, Sportovců 817 Kladno - Rozdělov
SUMMARY:CP-ZKY-V1D: Kladno-VO TJ Lanškroun B
END:VEVENT
BEGIN:VEVENT
UID:33386438-3333-4435-b762-656236346439
DTSTAMP:20260425T161736Z
DESCRIPTION:8/16 VK Litomyšl - Chlumec 0:2 (-22\,-14)
DTSTART;TZID=Europe/Berlin:20211017T083000
DTEND;TZID=Europe/Berlin:20211017T103000
LOCATION:Městská sportovní hala\, T. G. Masaryka 1145 Litomyšl - Litomyšl-M
 ěsto
SUMMARY:CP-ZKY-V1D: VK Litomyšl-Chlumec
END:VEVENT
BEGIN:VEVENT
UID:61346236-3037-4638-b633-373430666433
DTSTAMP:20260425T161736Z
DESCRIPTION:9/17 DUKLA Liberec - Kladno 1:2 (20\,-11\,-7)
DTSTART;TZID=Europe/Berlin:20211017T100000
DTEND;TZID=Europe/Berlin:20211017T120000
LOCATION:Dukla Liberec\, Jeronýmova 558 Liberec - Liberec VII-Horní Růžodol
SUMMARY:CP-ZKY-V1D: DUKLA Liberec-Kladno
END:VEVENT
BEGIN:VEVENT
UID:31393036-3264-4066-b235-646561663937
DTSTAMP:20260425T161736Z
DESCRIPTION:9/18 VK Vejrostova - VK Valašské Meziříčí 2:0 (18\,17)
DTSTART;TZID=Europe/Berlin:20211017T100000
DTEND;TZID=Europe/Berlin:20211017T120000
LOCATION:ZŠ Vejrostova\, Vejrostova 1066 Brno - Bystrc
SUMMARY:CP-ZKY-V1D: VK Vejrostova-VK Valašské Meziříčí
END:VEVENT
BEGIN:VEVENT
UID:66623065-3331-4035-b262-653466383736
DTSTAMP:20260425T161736Z
DESCRIPTION:10/19 Chlumec - DUKLA Liberec 2:1 (19\,-10\,10)
DTSTART;TZID=Europe/Berlin:20211017T113000
DTEND;TZID=Europe/Berlin:20211017T133000
LOCATION:Slavíčkova hala\, Sokolská 795 Chlumec nad Cidlinou - Chlumec nad 
 Cidlinou IV
SUMMARY:CP-ZKY-V1D: Chlumec-DUKLA Liberec
END:VEVENT
BEGIN:VEVENT
UID:30313037-3537-4965-b534-626132613439
DTSTAMP:20260425T161736Z
DESCRIPTION:10/20 VK Valašské Meziříčí - VO TJ Lanškroun B 2:1 (-18\,19\,13
 )
DTSTART;TZID=Europe/Berlin:20211017T113000
DTEND;TZID=Europe/Berlin:20211017T133000
LOCATION:ZŠ Šafaříkova\, Šafaříkova 726 Valašské Meziříčí
SUMMARY:CP-ZKY-V1D: VK Valašské Meziříčí-VO TJ Lanškroun B
END:VEVENT
BEGIN:VEVENT
UID:30326433-6161-4939-b737-646436356539
DTSTAMP:20260425T161736Z
DESCRIPTION:11/21 VK Vejrostova - VK Litomyšl 1:2 (17\,-22\,-11)
DTSTART;TZID=Europe/Berlin:20211017T124500
DTEND;TZID=Europe/Berlin:20211017T144500
LOCATION:ZŠ Vejrostova\, Vejrostova 1066 Brno - Bystrc
SUMMARY:CP-ZKY-V1D: VK Vejrostova-VK Litomyšl
END:VEVENT
END:VCALENDAR
