BEGIN:VCALENDAR
VERSION:2.0
PRODID:-//HK-ZKY-1C//NONSGML kigkonsult.se iCalcreator 2.41.80//
CALSCALE:GREGORIAN
UID:36613235-6336-4831-a236-366363663330
BEGIN:VEVENT
UID:62393962-6361-4263-b131-386436626532
DTSTAMP:20260424T201755Z
DESCRIPTION:1/1 VKM N.Paka - Dvůr Kr. B 2:0 (8\,12)\npoř.:N.Paka - ZŠ Husit
 ská
DTSTART;TZID=Europe/Berlin:20211010T090000
DTEND;TZID=Europe/Berlin:20211010T110000
LOCATION:ZŠ Husitská\, O. Číly 1933 Nová Paka
SUMMARY:HK-ZKY-1C: VKM N.Paka-Dvůr Kr. B
END:VEVENT
BEGIN:VEVENT
UID:65613662-6335-4663-b162-613336353537
DTSTAMP:20260424T201755Z
DESCRIPTION:2/2 Chlumec - Hradec Králové 1:2 (-18\,19\,-11)
DTSTART;TZID=Europe/Berlin:20211010T100000
DTEND;TZID=Europe/Berlin:20211010T120000
LOCATION:Slavíčkova hala\, Sokolská 795 Chlumec nad Cidlinou - Chlumec nad 
 Cidlinou IV
SUMMARY:HK-ZKY-1C: Chlumec-Hradec Králové
END:VEVENT
BEGIN:VEVENT
UID:66616136-6232-4431-a666-346138386238
DTSTAMP:20260424T201755Z
DESCRIPTION:3/3 VKM N.Paka - Chlumec 0:2 (-18\,-22)
DTSTART;TZID=Europe/Berlin:20211010T110000
DTEND;TZID=Europe/Berlin:20211010T130000
LOCATION:ZŠ Husitská\, O. Číly 1933 Nová Paka
SUMMARY:HK-ZKY-1C: VKM N.Paka-Chlumec
END:VEVENT
BEGIN:VEVENT
UID:34356539-3534-4564-b336-323338633631
DTSTAMP:20260424T201755Z
DESCRIPTION:4/4 Hradec Králové - Dvůr Kr. B 2:0 (13\,11)
DTSTART;TZID=Europe/Berlin:20211010T120000
DTEND;TZID=Europe/Berlin:20211010T140000
LOCATION:TJ Slavia Hradec Králové\, Víta Nejedlého 1216 Hradec Králové
SUMMARY:HK-ZKY-1C: Hradec Králové-Dvůr Kr. B
END:VEVENT
BEGIN:VEVENT
UID:66393931-3933-4138-b037-373439663330
DTSTAMP:20260424T201755Z
DESCRIPTION:5/5 Chlumec - Dvůr Kr. B 2:0 (17\,10)
DTSTART;TZID=Europe/Berlin:20211010T130000
DTEND;TZID=Europe/Berlin:20211010T150000
LOCATION:Slavíčkova hala\, Sokolská 795 Chlumec nad Cidlinou - Chlumec nad 
 Cidlinou IV
SUMMARY:HK-ZKY-1C: Chlumec-Dvůr Kr. B
END:VEVENT
BEGIN:VEVENT
UID:35636165-6263-4335-a232-626637656539
DTSTAMP:20260424T201755Z
DESCRIPTION:6/6 VKM N.Paka - Hradec Králové 0:2 (-19\,-18)
DTSTART;TZID=Europe/Berlin:20211010T140000
DTEND;TZID=Europe/Berlin:20211010T160000
LOCATION:ZŠ Husitská\, O. Číly 1933 Nová Paka
SUMMARY:HK-ZKY-1C: VKM N.Paka-Hradec Králové
END:VEVENT
END:VCALENDAR
