BEGIN:VCALENDAR
VERSION:2.0
PRODID:-//CP-KKY-D//NONSGML kigkonsult.se iCalcreator 2.41.80//
CALSCALE:GREGORIAN
UID:30393938-3035-4332-b536-366238383430
BEGIN:VEVENT
UID:61663966-6238-4735-b931-303831336333
DTSTAMP:20260424T075749Z
DESCRIPTION:1/1 Mělník - Polička 0:2 (-5\,-16)
DTSTART;TZID=Europe/Berlin:20211016T103000
DTEND;TZID=Europe/Berlin:20211016T123000
LOCATION:Tělocvična ZŠ J. Matiegky\, Pražská 2817 Mělník
SUMMARY:CP-KKY-D: Mělník-Polička
END:VEVENT
BEGIN:VEVENT
UID:34653539-3066-4533-b664-623135336162
DTSTAMP:20260424T075749Z
DESCRIPTION:1/2 Mikulova B - Plzeň 0:2 (-9\,-15)
DTSTART;TZID=Europe/Berlin:20211016T103000
DTEND;TZID=Europe/Berlin:20211016T123000
LOCATION:ZŠ Mikulova Mikulova 1594
SUMMARY:CP-KKY-D: Mikulova B-Plzeň
END:VEVENT
BEGIN:VEVENT
UID:64636465-6434-4331-b930-616438356134
DTSTAMP:20260424T075749Z
DESCRIPTION:1/3 Kolín - VSK Spartak Děčín 2:0 (23\,21)
DTSTART;TZID=Europe/Berlin:20211016T103000
DTEND;TZID=Europe/Berlin:20211016T123000
LOCATION:hala STAV\, SOŠ Kolín\, Brankovická 1417 Kolín - Kolín V
SUMMARY:CP-KKY-D: Kolín-VSK Spartak Děčín
END:VEVENT
BEGIN:VEVENT
UID:39323632-3264-4937-b839-666662393034
DTSTAMP:20260424T075749Z
DESCRIPTION:2/4 Polička - VSK Spartak Děčín 2:0 (18\,13)
DTSTART;TZID=Europe/Berlin:20211016T133000
DTEND;TZID=Europe/Berlin:20211016T153000
LOCATION:TJ Spartak Polička\, z.s. \, nábř. Svobody 447 Polička - Horní Pře
 dměstí
SUMMARY:CP-KKY-D: Polička-VSK Spartak Děčín
END:VEVENT
BEGIN:VEVENT
UID:62306636-6238-4562-a565-313737613538
DTSTAMP:20260424T075749Z
DESCRIPTION:2/5 Plzeň - Kolín 2:0 (11\,13)
DTSTART;TZID=Europe/Berlin:20211016T133000
DTEND;TZID=Europe/Berlin:20211016T153000
LOCATION:Sportovní hala - SG Plzeň\, Vejprnická 663 Plzeň - Skvrňany
SUMMARY:CP-KKY-D: Plzeň-Kolín
END:VEVENT
BEGIN:VEVENT
UID:37336462-3539-4535-b436-356232326635
DTSTAMP:20260424T075749Z
DESCRIPTION:2/6 Mělník - Mikulova B 0:2 (-14\,-19)
DTSTART;TZID=Europe/Berlin:20211016T133000
DTEND;TZID=Europe/Berlin:20211016T153000
LOCATION:Tělocvična ZŠ J. Matiegky\, Pražská 2817 Mělník
SUMMARY:CP-KKY-D: Mělník-Mikulova B
END:VEVENT
BEGIN:VEVENT
UID:31323361-3965-4461-b633-653234306434
DTSTAMP:20260424T075749Z
DESCRIPTION:3/7 Mikulova B - Polička 0:2 (-13\,-17)
DTSTART;TZID=Europe/Berlin:20211016T163000
DTEND;TZID=Europe/Berlin:20211016T183000
LOCATION:ZŠ Mikulova Mikulova 1594
SUMMARY:CP-KKY-D: Mikulova B-Polička
END:VEVENT
BEGIN:VEVENT
UID:36613561-3832-4363-b930-633361613535
DTSTAMP:20260424T075749Z
DESCRIPTION:3/8 Kolín - Mělník 2:0 (20\,23)
DTSTART;TZID=Europe/Berlin:20211016T163000
DTEND;TZID=Europe/Berlin:20211016T183000
LOCATION:hala STAV\, SOŠ Kolín\, Brankovická 1417 Kolín - Kolín V
SUMMARY:CP-KKY-D: Kolín-Mělník
END:VEVENT
BEGIN:VEVENT
UID:62343639-3461-4265-a163-646164383663
DTSTAMP:20260424T075749Z
DESCRIPTION:3/9 VSK Spartak Děčín - Plzeň 0:2 (-13\,-8)
DTSTART;TZID=Europe/Berlin:20211016T163000
DTEND;TZID=Europe/Berlin:20211016T183000
LOCATION:ZŠ Dr .Míroslava Tyrše Vokolkova ul. Děčín 2
SUMMARY:CP-KKY-D: VSK Spartak Děčín-Plzeň
END:VEVENT
BEGIN:VEVENT
UID:61343534-3934-4063-a435-313439616330
DTSTAMP:20260424T075749Z
DESCRIPTION:4/10 Polička - Plzeň 1:2 (23\,-24\,-5)
DTSTART;TZID=Europe/Berlin:20211016T190000
DTEND;TZID=Europe/Berlin:20211016T210000
LOCATION:TJ Spartak Polička\, z.s. \, nábř. Svobody 447 Polička - Horní Pře
 dměstí
SUMMARY:CP-KKY-D: Polička-Plzeň
END:VEVENT
BEGIN:VEVENT
UID:36333436-6134-4463-b934-633565623837
DTSTAMP:20260424T075749Z
DESCRIPTION:4/11 Mělník - VSK Spartak Děčín 1:2 (22\,-17\,-7)
DTSTART;TZID=Europe/Berlin:20211016T190000
DTEND;TZID=Europe/Berlin:20211016T210000
LOCATION:Tělocvična ZŠ J. Matiegky\, Pražská 2817 Mělník
SUMMARY:CP-KKY-D: Mělník-VSK Spartak Děčín
END:VEVENT
BEGIN:VEVENT
UID:61353533-6465-4737-b033-656534306235
DTSTAMP:20260424T075749Z
DESCRIPTION:4/12 Mikulova B - Kolín 0:2 (-6\,-16)
DTSTART;TZID=Europe/Berlin:20211016T190000
DTEND;TZID=Europe/Berlin:20211016T210000
LOCATION:ZŠ Mikulova Mikulova 1594
SUMMARY:CP-KKY-D: Mikulova B-Kolín
END:VEVENT
BEGIN:VEVENT
UID:61616338-6332-4961-b133-623733313166
DTSTAMP:20260424T075749Z
DESCRIPTION:5/13 Kolín - Polička 2:0 (21\,21)
DTSTART;TZID=Europe/Berlin:20211017T090000
DTEND;TZID=Europe/Berlin:20211017T110000
LOCATION:hala STAV\, SOŠ Kolín\, Brankovická 1417 Kolín - Kolín V
SUMMARY:CP-KKY-D: Kolín-Polička
END:VEVENT
BEGIN:VEVENT
UID:33333062-3430-4331-a264-653633373433
DTSTAMP:20260424T075749Z
DESCRIPTION:5/14 VSK Spartak Děčín - Mikulova B 1:2 (14\,-11\,-12)
DTSTART;TZID=Europe/Berlin:20211017T090000
DTEND;TZID=Europe/Berlin:20211017T110000
LOCATION:ZŠ Dr .Míroslava Tyrše Vokolkova ul. Děčín 2
SUMMARY:CP-KKY-D: VSK Spartak Děčín-Mikulova B
END:VEVENT
BEGIN:VEVENT
UID:63336234-3465-4538-b631-313962343530
DTSTAMP:20260424T075749Z
DESCRIPTION:5/15 Plzeň - Mělník 2:0 (9\,10)
DTSTART;TZID=Europe/Berlin:20211017T090000
DTEND;TZID=Europe/Berlin:20211017T110000
LOCATION:Sportovní hala - SG Plzeň\, Vejprnická 663 Plzeň - Skvrňany
SUMMARY:CP-KKY-D: Plzeň-Mělník
END:VEVENT
END:VCALENDAR
