BEGIN:VCALENDAR
VERSION:2.0
PRODID:-//CP-KKY-1B//NONSGML kigkonsult.se iCalcreator 2.41.80//
CALSCALE:GREGORIAN
UID:37323134-3837-4134-b537-366263656264
BEGIN:VEVENT
UID:34323766-3061-4464-a133-653861643932
DTSTAMP:20260424T075752Z
DESCRIPTION:1/1 Braník - Chlumec 2:X
DTSTART;TZID=Europe/Berlin:20211120T090000
DTEND;TZID=Europe/Berlin:20211120T110000
LOCATION:TJ ABC Braník Branická 275/93\, 147 00 Praha 4
SUMMARY:CP-KKY-1B: Braník-Chlumec
END:VEVENT
BEGIN:VEVENT
UID:39666163-3366-4537-b938-663266363235
DTSTAMP:20260424T075752Z
DESCRIPTION:1/2 Mikulova - Sokol H. Brod 2:0 (17\,20)
DTSTART;TZID=Europe/Berlin:20211120T090000
DTEND;TZID=Europe/Berlin:20211120T110000
LOCATION:Sportovní hala DDM Praha 12 - Monet\, Herrmannova 2016 Praha - Mod
 řany
SUMMARY:CP-KKY-1B: Mikulova-Sokol H. Brod
END:VEVENT
BEGIN:VEVENT
UID:61646337-3632-4266-a139-653039313366
DTSTAMP:20260424T075752Z
DESCRIPTION:2/3 TJ Žďár nad Sázavou - Rtyně 2:0 (27\,15)
DTSTART;TZID=Europe/Berlin:20211120T100000
DTEND;TZID=Europe/Berlin:20211120T120000
LOCATION:ZŠ Palachova\, Palachova 1757 Žďár nad Sázavou - Žďár nad Sázavou 
 6
SUMMARY:CP-KKY-1B: TJ Žďár nad Sázavou-Rtyně
END:VEVENT
BEGIN:VEVENT
UID:30366233-3831-4532-b533-626434623162
DTSTAMP:20260424T075752Z
DESCRIPTION:2/4 Č. Třebová 'A' - Polička 2:0 (15\,20)
DTSTART;TZID=Europe/Berlin:20211120T100000
DTEND;TZID=Europe/Berlin:20211120T120000
LOCATION:Základní škola Česká Třebová Habrmanova\, Na Skále\, Na Skále 566 
 Česká Třebová
SUMMARY:CP-KKY-1B: Č. Třebová 'A'-Polička
END:VEVENT
BEGIN:VEVENT
UID:63643531-3537-4465-b538-616431313761
DTSTAMP:20260424T075752Z
DESCRIPTION:3/5 Braník - Rtyně 2:0 (19\,21)
DTSTART;TZID=Europe/Berlin:20211120T110000
DTEND;TZID=Europe/Berlin:20211120T130000
LOCATION:TJ ABC Braník Branická 275/93\, 147 00 Praha 4
SUMMARY:CP-KKY-1B: Braník-Rtyně
END:VEVENT
BEGIN:VEVENT
UID:37663638-3637-4163-b565-336339373462
DTSTAMP:20260424T075752Z
DESCRIPTION:3/6 Mikulova - Polička 2:1 (23\,-18\,10)
DTSTART;TZID=Europe/Berlin:20211120T110000
DTEND;TZID=Europe/Berlin:20211120T130000
LOCATION:Sportovní hala DDM Praha 12 - Monet\, Herrmannova 2016 Praha - Mod
 řany
SUMMARY:CP-KKY-1B: Mikulova-Polička
END:VEVENT
BEGIN:VEVENT
UID:32643937-6561-4333-b161-353965656436
DTSTAMP:20260424T075752Z
DESCRIPTION:4/7 TJ Žďár nad Sázavou - Chlumec 2:X
DTSTART;TZID=Europe/Berlin:20211120T120000
DTEND;TZID=Europe/Berlin:20211120T140000
LOCATION:ZŠ Palachova\, Palachova 1757 Žďár nad Sázavou - Žďár nad Sázavou 
 6
SUMMARY:CP-KKY-1B: TJ Žďár nad Sázavou-Chlumec
END:VEVENT
BEGIN:VEVENT
UID:62613230-6534-4737-a265-383632353433
DTSTAMP:20260424T075752Z
DESCRIPTION:4/8 Č. Třebová 'A' - Sokol H. Brod 2:0 (14\,15)
DTSTART;TZID=Europe/Berlin:20211120T120000
DTEND;TZID=Europe/Berlin:20211120T140000
LOCATION:Základní škola Česká Třebová Habrmanova\, Na Skále\, Na Skále 566 
 Česká Třebová
SUMMARY:CP-KKY-1B: Č. Třebová 'A'-Sokol H. Brod
END:VEVENT
BEGIN:VEVENT
UID:35363535-3766-4836-b037-623561666434
DTSTAMP:20260424T075752Z
DESCRIPTION:5/9 TJ Žďár nad Sázavou - Braník 2:0 (23\,15)
DTSTART;TZID=Europe/Berlin:20211120T130000
DTEND;TZID=Europe/Berlin:20211120T150000
LOCATION:ZŠ Palachova\, Palachova 1757 Žďár nad Sázavou - Žďár nad Sázavou 
 6
SUMMARY:CP-KKY-1B: TJ Žďár nad Sázavou-Braník
END:VEVENT
BEGIN:VEVENT
UID:34326138-3665-4837-b935-333637366464
DTSTAMP:20260424T075752Z
DESCRIPTION:5/10 Č. Třebová 'A' - Mikulova 2:1 (15\,-18\,9)
DTSTART;TZID=Europe/Berlin:20211120T130000
DTEND;TZID=Europe/Berlin:20211120T150000
LOCATION:Základní škola Česká Třebová Habrmanova\, Na Skále\, Na Skále 566 
 Česká Třebová
SUMMARY:CP-KKY-1B: Č. Třebová 'A'-Mikulova
END:VEVENT
BEGIN:VEVENT
UID:30323366-6334-4731-a438-363036643239
DTSTAMP:20260424T075752Z
DESCRIPTION:6/11 Chlumec - Rtyně X:2
DTSTART;TZID=Europe/Berlin:20211120T140000
DTEND;TZID=Europe/Berlin:20211120T160000
LOCATION:školní tělocvična\, Kozelkova 123 Chlumec nad Cidlinou - Chlumec n
 ad Cidlinou IV
SUMMARY:CP-KKY-1B: Chlumec-Rtyně
END:VEVENT
BEGIN:VEVENT
UID:37336363-3766-4931-b564-386538363838
DTSTAMP:20260424T075752Z
DESCRIPTION:6/12 Sokol H. Brod - Polička 0:2 (-17\,-11)
DTSTART;TZID=Europe/Berlin:20211120T140000
DTEND;TZID=Europe/Berlin:20211120T160000
LOCATION:Střední zdravotnická škola Havlíčkův Brod\, Masarykova 2033 Havlíč
 kův Brod
SUMMARY:CP-KKY-1B: Sokol H. Brod-Polička
END:VEVENT
BEGIN:VEVENT
UID:34353530-3134-4563-b739-363538363538
DTSTAMP:20260424T075752Z
DESCRIPTION:7/13 Braník - Č. Třebová 'A' 0:2 (-17\,-20)
DTSTART;TZID=Europe/Berlin:20211120T150000
DTEND;TZID=Europe/Berlin:20211120T170000
LOCATION:TJ ABC Braník Branická 275/93\, 147 00 Praha 4
SUMMARY:CP-KKY-1B: Braník-Č. Třebová 'A'
END:VEVENT
BEGIN:VEVENT
UID:33353437-3861-4433-b562-666464616162
DTSTAMP:20260424T075752Z
DESCRIPTION:7/14 Mikulova - TJ Žďár nad Sázavou 0:2 (-23\,-23)
DTSTART;TZID=Europe/Berlin:20211120T150000
DTEND;TZID=Europe/Berlin:20211120T170000
LOCATION:Sportovní hala DDM Praha 12 - Monet\, Herrmannova 2016 Praha - Mod
 řany
SUMMARY:CP-KKY-1B: Mikulova-TJ Žďár nad Sázavou
END:VEVENT
BEGIN:VEVENT
UID:34636139-3865-4434-a431-326430316136
DTSTAMP:20260424T075752Z
DESCRIPTION:8/15 Rtyně - Sokol H. Brod 1:2 (25\,-14\,-9)
DTSTART;TZID=Europe/Berlin:20211120T160000
DTEND;TZID=Europe/Berlin:20211120T180000
LOCATION:Tělocvična ZŠ Zbečník\,  Hronov - Zbečník210
SUMMARY:CP-KKY-1B: Rtyně-Sokol H. Brod
END:VEVENT
BEGIN:VEVENT
UID:38646661-6638-4736-a561-346632363866
DTSTAMP:20260424T075752Z
DESCRIPTION:8/16 Chlumec - Polička X:2
DTSTART;TZID=Europe/Berlin:20211120T160000
DTEND;TZID=Europe/Berlin:20211120T180000
LOCATION:školní tělocvična\, Kozelkova 123 Chlumec nad Cidlinou - Chlumec n
 ad Cidlinou IV
SUMMARY:CP-KKY-1B: Chlumec-Polička
END:VEVENT
BEGIN:VEVENT
UID:37613661-6537-4635-b335-373733666135
DTSTAMP:20260424T075752Z
DESCRIPTION:9/17 Sokol H. Brod - Braník 1:2 (-17\,23\,-13)
DTSTART;TZID=Europe/Berlin:20211120T170000
DTEND;TZID=Europe/Berlin:20211120T190000
LOCATION:Střední zdravotnická škola Havlíčkův Brod\, Masarykova 2033 Havlíč
 kův Brod
SUMMARY:CP-KKY-1B: Sokol H. Brod-Braník
END:VEVENT
BEGIN:VEVENT
UID:61336330-3438-4335-b132-663166343837
DTSTAMP:20260424T075752Z
DESCRIPTION:9/18 Mikulova - Chlumec 2:X
DTSTART;TZID=Europe/Berlin:20211120T170000
DTEND;TZID=Europe/Berlin:20211120T190000
LOCATION:Sportovní hala DDM Praha 12 - Monet\, Herrmannova 2016 Praha - Mod
 řany
SUMMARY:CP-KKY-1B: Mikulova-Chlumec
END:VEVENT
BEGIN:VEVENT
UID:61333031-6561-4430-b034-623934633635
DTSTAMP:20260424T075752Z
DESCRIPTION:10/19 Rtyně - Č. Třebová 'A' 2:1 (11\,-20\,12)
DTSTART;TZID=Europe/Berlin:20211120T180000
DTEND;TZID=Europe/Berlin:20211120T200000
LOCATION:Tělocvična ZŠ Zbečník\,  Hronov - Zbečník210
SUMMARY:CP-KKY-1B: Rtyně-Č. Třebová 'A'
END:VEVENT
BEGIN:VEVENT
UID:64376265-6535-4436-b936-646136613839
DTSTAMP:20260424T075752Z
DESCRIPTION:10/20 Polička - TJ Žďár nad Sázavou 0:2 (-21\,-13)
DTSTART;TZID=Europe/Berlin:20211120T180000
DTEND;TZID=Europe/Berlin:20211120T200000
LOCATION:TJ Spartak Polička\, z.s. \, nábř. Svobody 447 Polička - Horní Pře
 dměstí
SUMMARY:CP-KKY-1B: Polička-TJ Žďár nad Sázavou
END:VEVENT
BEGIN:VEVENT
UID:38316132-6439-4538-b763-633361653433
DTSTAMP:20260424T075752Z
DESCRIPTION:11/21 Polička - Rtyně 2:1 (-16\,20\,12)
DTSTART;TZID=Europe/Berlin:20211121T090000
DTEND;TZID=Europe/Berlin:20211121T110000
LOCATION:TJ Spartak Polička\, z.s. \, nábř. Svobody 447 Polička - Horní Pře
 dměstí
SUMMARY:CP-KKY-1B: Polička-Rtyně
END:VEVENT
BEGIN:VEVENT
UID:33306565-6364-4261-a433-663838326162
DTSTAMP:20260424T075752Z
DESCRIPTION:11/22 TJ Žďár nad Sázavou - Č. Třebová 'A' 2:0 (22\,17)
DTSTART;TZID=Europe/Berlin:20211121T090000
DTEND;TZID=Europe/Berlin:20211121T110000
LOCATION:ZŠ Palachova\, Palachova 1757 Žďár nad Sázavou - Žďár nad Sázavou 
 6
SUMMARY:CP-KKY-1B: TJ Žďár nad Sázavou-Č. Třebová 'A'
END:VEVENT
BEGIN:VEVENT
UID:34633563-6337-4461-a632-303731613931
DTSTAMP:20260424T075752Z
DESCRIPTION:12/23 Polička - Braník 1:2 (-15\,23\,-7)
DTSTART;TZID=Europe/Berlin:20211121T100000
DTEND;TZID=Europe/Berlin:20211121T120000
LOCATION:TJ Spartak Polička\, z.s. \, nábř. Svobody 447 Polička - Horní Pře
 dměstí
SUMMARY:CP-KKY-1B: Polička-Braník
END:VEVENT
BEGIN:VEVENT
UID:35653061-6535-4032-b634-333536346637
DTSTAMP:20260424T075752Z
DESCRIPTION:12/24 Č. Třebová 'A' - Chlumec 2:X
DTSTART;TZID=Europe/Berlin:20211121T100000
DTEND;TZID=Europe/Berlin:20211121T120000
LOCATION:Základní škola Česká Třebová Habrmanova\, Na Skále\, Na Skále 566 
 Česká Třebová
SUMMARY:CP-KKY-1B: Č. Třebová 'A'-Chlumec
END:VEVENT
BEGIN:VEVENT
UID:36323234-3530-4665-b736-303730623166
DTSTAMP:20260424T075752Z
DESCRIPTION:13/25 Rtyně - Mikulova 0:2 (-22\,-27)
DTSTART;TZID=Europe/Berlin:20211121T110000
DTEND;TZID=Europe/Berlin:20211121T130000
LOCATION:Tělocvična ZŠ Zbečník\,  Hronov - Zbečník210
SUMMARY:CP-KKY-1B: Rtyně-Mikulova
END:VEVENT
BEGIN:VEVENT
UID:34313634-6133-4865-b835-396532633932
DTSTAMP:20260424T075752Z
DESCRIPTION:13/26 Sokol H. Brod - TJ Žďár nad Sázavou 0:2 (-9\,-23)
DTSTART;TZID=Europe/Berlin:20211121T110000
DTEND;TZID=Europe/Berlin:20211121T130000
LOCATION:Střední zdravotnická škola Havlíčkův Brod\, Masarykova 2033 Havlíč
 kův Brod
SUMMARY:CP-KKY-1B: Sokol H. Brod-TJ Žďár nad Sázavou
END:VEVENT
BEGIN:VEVENT
UID:63336562-6565-4338-a533-653537626533
DTSTAMP:20260424T075752Z
DESCRIPTION:14/27 Braník - Mikulova 0:2 (-19\,-22)
DTSTART;TZID=Europe/Berlin:20211121T120000
DTEND;TZID=Europe/Berlin:20211121T140000
LOCATION:TJ ABC Braník Branická 275/93\, 147 00 Praha 4
SUMMARY:CP-KKY-1B: Braník-Mikulova
END:VEVENT
BEGIN:VEVENT
UID:63306138-3237-4533-b134-666164323633
DTSTAMP:20260424T075752Z
DESCRIPTION:14/28 Chlumec - Sokol H. Brod X:2
DTSTART;TZID=Europe/Berlin:20211121T120000
DTEND;TZID=Europe/Berlin:20211121T140000
LOCATION:školní tělocvična\, Kozelkova 123 Chlumec nad Cidlinou - Chlumec n
 ad Cidlinou IV
SUMMARY:CP-KKY-1B: Chlumec-Sokol H. Brod
END:VEVENT
END:VCALENDAR
