BEGIN:VCALENDAR
VERSION:2.0
PRODID:-//HK-ZKY-4B//NONSGML kigkonsult.se iCalcreator 2.41.80//
CALSCALE:GREGORIAN
UID:31373236-6264-4935-b637-343230313839
BEGIN:VEVENT
UID:31636338-6265-4161-b538-623664313466
DTSTAMP:20260424T233447Z
DESCRIPTION:1/1 Jičín - VKM N.Paka 2:1 (11\,-21\,8)\npoř.Jičín
DTSTART;TZID=Europe/Berlin:20211205T090000
DTEND;TZID=Europe/Berlin:20211205T110000
LOCATION:hala Masarykovy obchodní akademie\, 17. listopadu 220 Jičín - Vald
 ické Předměstí
SUMMARY:HK-ZKY-4B: Jičín-VKM N.Paka
END:VEVENT
BEGIN:VEVENT
UID:63663733-6334-4834-b063-646461623734
DTSTAMP:20260424T233447Z
DESCRIPTION:2/2 RÉMA B - RÉMA 0:2 (-15\,-14)
DTSTART;TZID=Europe/Berlin:20211205T100000
DTEND;TZID=Europe/Berlin:20211205T120000
LOCATION:Hala VOŠ a SPŠS\, U Stadionu 1166 Rychnov nad Kněžnou
SUMMARY:HK-ZKY-4B: RÉMA B-RÉMA
END:VEVENT
BEGIN:VEVENT
UID:65363135-3461-4535-a432-353330633736
DTSTAMP:20260424T233447Z
DESCRIPTION:3/3 Jičín - RÉMA B 0:2 (-22\,-22)
DTSTART;TZID=Europe/Berlin:20211205T110000
DTEND;TZID=Europe/Berlin:20211205T130000
LOCATION:hala Masarykovy obchodní akademie\, 17. listopadu 220 Jičín - Vald
 ické Předměstí
SUMMARY:HK-ZKY-4B: Jičín-RÉMA B
END:VEVENT
BEGIN:VEVENT
UID:37386335-6638-4536-b634-633062346336
DTSTAMP:20260424T233447Z
DESCRIPTION:4/4 RÉMA - VKM N.Paka 2:0 (12\,19)
DTSTART;TZID=Europe/Berlin:20211205T120000
DTEND;TZID=Europe/Berlin:20211205T140000
LOCATION:Hala VOŠ a SPŠS\, U Stadionu 1166 Rychnov nad Kněžnou
SUMMARY:HK-ZKY-4B: RÉMA-VKM N.Paka
END:VEVENT
BEGIN:VEVENT
UID:66306636-6363-4035-b262-386162363864
DTSTAMP:20260424T233447Z
DESCRIPTION:5/5 RÉMA B - VKM N.Paka 2:0 (21\,18)
DTSTART;TZID=Europe/Berlin:20211205T130000
DTEND;TZID=Europe/Berlin:20211205T150000
LOCATION:Hala VOŠ a SPŠS\, U Stadionu 1166 Rychnov nad Kněžnou
SUMMARY:HK-ZKY-4B: RÉMA B-VKM N.Paka
END:VEVENT
BEGIN:VEVENT
UID:61333834-3765-4231-a564-363863306339
DTSTAMP:20260424T233447Z
DESCRIPTION:6/6 Jičín - RÉMA 1:2 (20\,-21\,-8)
DTSTART;TZID=Europe/Berlin:20211205T140000
DTEND;TZID=Europe/Berlin:20211205T160000
LOCATION:hala Masarykovy obchodní akademie\, 17. listopadu 220 Jičín - Vald
 ické Předměstí
SUMMARY:HK-ZKY-4B: Jičín-RÉMA
END:VEVENT
END:VCALENDAR
