BEGIN:VCALENDAR
VERSION:2.0
PRODID:-//JM-ZKY-VD//NONSGML kigkonsult.se iCalcreator 2.41.80//
CALSCALE:GREGORIAN
UID:62313634-3135-4236-b933-336630393033
BEGIN:VEVENT
UID:39623061-6661-4639-a634-353965333561
DTSTAMP:20260425T173111Z
DESCRIPTION:1/1 VOLEJBAL VYŠKOV\, z.s. B - VK Brno\, z.s. 0:2 (-16\,-15)
DTSTART;TZID=Europe/Berlin:20211218T090000
DTEND;TZID=Europe/Berlin:20211218T110000
LOCATION:Tělocvična ZŠ Nádražní\, Nádražní 5 Vyškov - Vyškov-Město
SUMMARY:JM-ZKY-VD: VOLEJBAL VYŠKOV\, z.s. B-VK Brno\, z.s.
END:VEVENT
BEGIN:VEVENT
UID:65616361-3538-4836-a539-333761386262
DTSTAMP:20260425T173111Z
DESCRIPTION:2/2 Orel Křenovice - Loko Fosfa Břeclav 2:0 (0\,16)
DTSTART;TZID=Europe/Berlin:20211218T103000
DTEND;TZID=Europe/Berlin:20211218T123000
LOCATION:Sportovní hala Křenovice \, Bratří Mrázků 635 Křenovice
SUMMARY:JM-ZKY-VD: Orel Křenovice-Loko Fosfa Břeclav
END:VEVENT
BEGIN:VEVENT
UID:37386161-3531-4163-a136-633435373134
DTSTAMP:20260425T173111Z
DESCRIPTION:3/3 VK Brno\, z.s. - Loko Fosfa Břeclav 2:0 (19\,10)
DTSTART;TZID=Europe/Berlin:20211218T114500
DTEND;TZID=Europe/Berlin:20211218T134500
LOCATION:Tělocvična ZŠ Bílovice nad Svitavou\, Komenského 151 Bílovice nad 
 Svitavou
SUMMARY:JM-ZKY-VD: VK Brno\, z.s.-Loko Fosfa Břeclav
END:VEVENT
BEGIN:VEVENT
UID:38383932-6235-4835-b739-333236373061
DTSTAMP:20260425T173111Z
DESCRIPTION:4/4 VOLEJBAL VYŠKOV\, z.s. B - Orel Křenovice 2:1 (14\,-21\,12)
DTSTART;TZID=Europe/Berlin:20211218T130000
DTEND;TZID=Europe/Berlin:20211218T150000
LOCATION:Tělocvična ZŠ Nádražní\, Nádražní 5 Vyškov - Vyškov-Město
SUMMARY:JM-ZKY-VD: VOLEJBAL VYŠKOV\, z.s. B-Orel Křenovice
END:VEVENT
BEGIN:VEVENT
UID:65646635-3661-4465-b866-636332306364
DTSTAMP:20260425T173111Z
DESCRIPTION:5/5 Orel Křenovice - VK Brno\, z.s. 1:2 (16\,-13\,-6)
DTSTART;TZID=Europe/Berlin:20211218T141500
DTEND;TZID=Europe/Berlin:20211218T161500
LOCATION:Sportovní hala Křenovice \, Bratří Mrázků 635 Křenovice
SUMMARY:JM-ZKY-VD: Orel Křenovice-VK Brno\, z.s.
END:VEVENT
BEGIN:VEVENT
UID:61663666-3531-4563-a236-323135363337
DTSTAMP:20260425T173111Z
DESCRIPTION:6/6 Loko Fosfa Břeclav - VOLEJBAL VYŠKOV\, z.s. B 1:2 (25\,-12\
 ,-12)
DTSTART;TZID=Europe/Berlin:20211218T153000
DTEND;TZID=Europe/Berlin:20211218T173000
LOCATION:TJ Lokomotiva Břeclav\, Veslařská 2753 Břeclav
SUMMARY:JM-ZKY-VD: Loko Fosfa Břeclav-VOLEJBAL VYŠKOV\, z.s. B
END:VEVENT
END:VCALENDAR
