BEGIN:VCALENDAR
VERSION:2.0
PRODID:-//JM-ZKY-VIC//NONSGML kigkonsult.se iCalcreator 2.41.80//
CALSCALE:GREGORIAN
UID:36633061-3939-4034-a563-633231373832
BEGIN:VEVENT
UID:39613433-3639-4733-a631-346430363565
DTSTAMP:20260425T173252Z
DESCRIPTION:1/1 Tělocvičná jednota Sokol Předklášteří - VK Brno\, z.s. 2:1 
 (-23\,13\,10)
DTSTART;TZID=Europe/Berlin:20220115T090000
DTEND;TZID=Europe/Berlin:20220115T110000
LOCATION:ZŠ Předklášteří\, Komenského 1097 Předklášteří
SUMMARY:JM-ZKY-VIC: Tělocvičná jednota Sokol Předklášteří-VK Brno\, z.s.
END:VEVENT
BEGIN:VEVENT
UID:65393966-6332-4131-a634-346438363166
DTSTAMP:20260425T173252Z
DESCRIPTION:2/2 TJ Slovan Ivančice\, z.s. - VS Drásov 2:0 (16\,22)
DTSTART;TZID=Europe/Berlin:20220115T103000
DTEND;TZID=Europe/Berlin:20220115T123000
LOCATION:sokolovna Ivančice\, Rybářská 1052 Ivančice
SUMMARY:JM-ZKY-VIC: TJ Slovan Ivančice\, z.s.-VS Drásov
END:VEVENT
BEGIN:VEVENT
UID:35326464-3864-4334-b866-346235626332
DTSTAMP:20260425T173252Z
DESCRIPTION:3/3 VK Brno\, z.s. - VS Drásov 0:2 (-20\,-19)
DTSTART;TZID=Europe/Berlin:20220115T114500
DTEND;TZID=Europe/Berlin:20220115T134500
LOCATION:Tělocvična ZŠ Bílovice nad Svitavou\, Komenského 151 Bílovice nad 
 Svitavou
SUMMARY:JM-ZKY-VIC: VK Brno\, z.s.-VS Drásov
END:VEVENT
BEGIN:VEVENT
UID:63373236-6130-4335-a532-653832383438
DTSTAMP:20260425T173252Z
DESCRIPTION:4/4 Tělocvičná jednota Sokol Předklášteří - TJ Slovan Ivančice\
 , z.s. 2:0 (22\,14)
DTSTART;TZID=Europe/Berlin:20220115T130000
DTEND;TZID=Europe/Berlin:20220115T150000
LOCATION:ZŠ Předklášteří\, Komenského 1097 Předklášteří
SUMMARY:JM-ZKY-VIC: Tělocvičná jednota Sokol Předklášteří-TJ Slovan Ivančic
 e\, z.s.
END:VEVENT
BEGIN:VEVENT
UID:61383563-3066-4063-b266-663365313866
DTSTAMP:20260425T173252Z
DESCRIPTION:5/5 TJ Slovan Ivančice\, z.s. - VK Brno\, z.s. 2:1 (-22\,16\,11
 )
DTSTART;TZID=Europe/Berlin:20220115T141500
DTEND;TZID=Europe/Berlin:20220115T161500
LOCATION:sokolovna Ivančice\, Rybářská 1052 Ivančice
SUMMARY:JM-ZKY-VIC: TJ Slovan Ivančice\, z.s.-VK Brno\, z.s.
END:VEVENT
BEGIN:VEVENT
UID:31393734-6661-4638-b339-653665306531
DTSTAMP:20260425T173252Z
DESCRIPTION:6/6 VS Drásov - Tělocvičná jednota Sokol Předklášteří 2:0 (16\,
 16)
DTSTART;TZID=Europe/Berlin:20220115T153000
DTEND;TZID=Europe/Berlin:20220115T173000
LOCATION:Hala u ZŠ TGM Drásov\, Školní 167 Drásov
SUMMARY:JM-ZKY-VIC: VS Drásov-Tělocvičná jednota Sokol Předklášteří
END:VEVENT
END:VCALENDAR
