BEGIN:VCALENDAR
VERSION:2.0
PRODID:-//CP-ZKY-F2A//NONSGML kigkonsult.se iCalcreator 2.41.80//
CALSCALE:GREGORIAN
UID:39313939-6463-4661-b536-316136336563
BEGIN:VEVENT
UID:62303537-3031-4735-b537-343938333331
DTSTAMP:20260424T165344Z
DESCRIPTION:1/1 Tábor - Ostrava 2:1 (16\,-20\,7)
DTSTART;TZID=Europe/Berlin:20220319T090000
DTEND;TZID=Europe/Berlin:20220319T110000
LOCATION:Tělocvična ZŠ Husova\, Husova 1570 Tábor
SUMMARY:CP-ZKY-F2A: Tábor-Ostrava
END:VEVENT
BEGIN:VEVENT
UID:63613335-3638-4434-a432-373962616631
DTSTAMP:20260424T165345Z
DESCRIPTION:2/2 Lanškroun - TJ Sokol F. - Místek 2:0 (19\,20)
DTSTART;TZID=Europe/Berlin:20220319T102000
DTEND;TZID=Europe/Berlin:20220319T122000
LOCATION:SOŠ a SOU Lanškroun\, Sokolská 288 Lanškroun - Ostrovské Předměstí
SUMMARY:CP-ZKY-F2A: Lanškroun-TJ Sokol F. - Místek
END:VEVENT
BEGIN:VEVENT
UID:61383930-6536-4438-b238-313966313330
DTSTAMP:20260424T165345Z
DESCRIPTION:2/3 Hlincovka - Mikulova 2:0 (16\,12)
DTSTART;TZID=Europe/Berlin:20220319T102000
DTEND;TZID=Europe/Berlin:20220319T122000
LOCATION:Sportovní hala Rudolfov\, Adamovská 511 Rudolfov
SUMMARY:CP-ZKY-F2A: Hlincovka-Mikulova
END:VEVENT
BEGIN:VEVENT
UID:36643130-6331-4564-a662-666135666535
DTSTAMP:20260424T165345Z
DESCRIPTION:2/4 Tábor - KP Brno 0:2 (-21\,-14)
DTSTART;TZID=Europe/Berlin:20220319T102000
DTEND;TZID=Europe/Berlin:20220319T122000
LOCATION:Tělocvična ZŠ Husova\, Husova 1570 Tábor
SUMMARY:CP-ZKY-F2A: Tábor-KP Brno
END:VEVENT
BEGIN:VEVENT
UID:39623762-3330-4664-b339-396239343736
DTSTAMP:20260424T165345Z
DESCRIPTION:3/5 Ostrava - Kralupy 0:2 (-20\,-17)
DTSTART;TZID=Europe/Berlin:20220319T114000
DTEND;TZID=Europe/Berlin:20220319T134000
LOCATION:Hala mládeže\, Gajdošova 1893 Ostrava - Moravská Ostrava
SUMMARY:CP-ZKY-F2A: Ostrava-Kralupy
END:VEVENT
BEGIN:VEVENT
UID:31663035-3232-4230-a662-323866306463
DTSTAMP:20260424T165345Z
DESCRIPTION:3/6 Mikulova - KP Brno 1:2 (21\,-18\,-9)
DTSTART;TZID=Europe/Berlin:20220319T114000
DTEND;TZID=Europe/Berlin:20220319T134000
LOCATION:ZŠ Mikulova Mikulova 1594
SUMMARY:CP-ZKY-F2A: Mikulova-KP Brno
END:VEVENT
BEGIN:VEVENT
UID:65393333-6130-4430-a634-666163353330
DTSTAMP:20260424T165345Z
DESCRIPTION:4/7 TJ Sokol F. - Místek - Hlincovka 2:1 (-14\,18\,12)
DTSTART;TZID=Europe/Berlin:20220319T130000
DTEND;TZID=Europe/Berlin:20220319T150000
LOCATION:ZŠ Jiřího z Poděbrad Frýdek-Místek\, Jiřího z Poděbrad 3109 Frýdek
 -Místek - Frýdek
SUMMARY:CP-ZKY-F2A: TJ Sokol F. - Místek-Hlincovka
END:VEVENT
BEGIN:VEVENT
UID:31346165-3661-4634-b136-383735653631
DTSTAMP:20260424T165345Z
DESCRIPTION:4/8 Tábor - Lanškroun 2:0 (20\,25)
DTSTART;TZID=Europe/Berlin:20220319T130000
DTEND;TZID=Europe/Berlin:20220319T150000
LOCATION:Tělocvična ZŠ Husova\, Husova 1570 Tábor
SUMMARY:CP-ZKY-F2A: Tábor-Lanškroun
END:VEVENT
BEGIN:VEVENT
UID:33633838-6362-4163-a238-356366653164
DTSTAMP:20260424T165345Z
DESCRIPTION:5/9 KP Brno - TJ Sokol F. - Místek 2:0 (21\,12)
DTSTART;TZID=Europe/Berlin:20220319T142000
DTEND;TZID=Europe/Berlin:20220319T162000
LOCATION:Sportovní gymnázium Ludvíka Daňka\, Botanická 63 Brno - Ponava
SUMMARY:CP-ZKY-F2A: KP Brno-TJ Sokol F. - Místek
END:VEVENT
BEGIN:VEVENT
UID:64373832-6534-4264-b365-353933656336
DTSTAMP:20260424T165345Z
DESCRIPTION:5/10 Kralupy - Mikulova 0:2 (-18\,-19)
DTSTART;TZID=Europe/Berlin:20220319T142000
DTEND;TZID=Europe/Berlin:20220319T162000
LOCATION:TJ KRALUPY\, z.s.\, Gen. Klapálka 1029 Kralupy nad Vltavou
SUMMARY:CP-ZKY-F2A: Kralupy-Mikulova
END:VEVENT
BEGIN:VEVENT
UID:34393531-6263-4861-b264-316233393138
DTSTAMP:20260424T165345Z
DESCRIPTION:6/11 Lanškroun - Hlincovka 2:0 (21\,21)
DTSTART;TZID=Europe/Berlin:20220319T154000
DTEND;TZID=Europe/Berlin:20220319T174000
LOCATION:SOŠ a SOU Lanškroun\, Sokolská 288 Lanškroun - Ostrovské Předměstí
SUMMARY:CP-ZKY-F2A: Lanškroun-Hlincovka
END:VEVENT
BEGIN:VEVENT
UID:36353138-6561-4337-a136-333663326261
DTSTAMP:20260424T165345Z
DESCRIPTION:6/12 KP Brno - Kralupy 2:1 (21\,-22\,8)
DTSTART;TZID=Europe/Berlin:20220319T154000
DTEND;TZID=Europe/Berlin:20220319T174000
LOCATION:Sportovní gymnázium Ludvíka Daňka\, Botanická 63 Brno - Ponava
SUMMARY:CP-ZKY-F2A: KP Brno-Kralupy
END:VEVENT
BEGIN:VEVENT
UID:35343531-3138-4331-b831-373235633464
DTSTAMP:20260424T165345Z
DESCRIPTION:6/13 Ostrava - Mikulova 2:1 (-15\,27\,14)
DTSTART;TZID=Europe/Berlin:20220319T154000
DTEND;TZID=Europe/Berlin:20220319T174000
LOCATION:Hala mládeže\, Gajdošova 1893 Ostrava - Moravská Ostrava
SUMMARY:CP-ZKY-F2A: Ostrava-Mikulova
END:VEVENT
BEGIN:VEVENT
UID:32623665-3833-4363-b034-623561316230
DTSTAMP:20260424T165345Z
DESCRIPTION:7/14 TJ Sokol F. - Místek - Kralupy 1:2 (-26\,21\,-11)
DTSTART;TZID=Europe/Berlin:20220319T170000
DTEND;TZID=Europe/Berlin:20220319T190000
LOCATION:ZŠ Jiřího z Poděbrad Frýdek-Místek\, Jiřího z Poděbrad 3109 Frýdek
 -Místek - Frýdek
SUMMARY:CP-ZKY-F2A: TJ Sokol F. - Místek-Kralupy
END:VEVENT
BEGIN:VEVENT
UID:32656136-3730-4163-a637-313630323338
DTSTAMP:20260424T165345Z
DESCRIPTION:7/15 Hlincovka - Tábor 2:0 (24\,15)
DTSTART;TZID=Europe/Berlin:20220319T170000
DTEND;TZID=Europe/Berlin:20220319T190000
LOCATION:Sportovní hala Rudolfov\, Adamovská 511 Rudolfov
SUMMARY:CP-ZKY-F2A: Hlincovka-Tábor
END:VEVENT
BEGIN:VEVENT
UID:31373063-3831-4632-a430-323838366138
DTSTAMP:20260424T165345Z
DESCRIPTION:7/16 Lanškroun - Ostrava 2:0 (20\,21)
DTSTART;TZID=Europe/Berlin:20220319T170000
DTEND;TZID=Europe/Berlin:20220319T190000
LOCATION:SOŠ a SOU Lanškroun\, Sokolská 288 Lanškroun - Ostrovské Předměstí
SUMMARY:CP-ZKY-F2A: Lanškroun-Ostrava
END:VEVENT
BEGIN:VEVENT
UID:62383839-3034-4433-b433-653532373531
DTSTAMP:20260424T165345Z
DESCRIPTION:8/17 Hlincovka - Ostrava 2:0 (21\,21)
DTSTART;TZID=Europe/Berlin:20220320T090000
DTEND;TZID=Europe/Berlin:20220320T110000
LOCATION:Sportovní hala Rudolfov\, Adamovská 511 Rudolfov
SUMMARY:CP-ZKY-F2A: Hlincovka-Ostrava
END:VEVENT
BEGIN:VEVENT
UID:33323166-3265-4766-a334-386463643730
DTSTAMP:20260424T165345Z
DESCRIPTION:8/18 KP Brno - Lanškroun 2:0 (19\,19)
DTSTART;TZID=Europe/Berlin:20220320T090000
DTEND;TZID=Europe/Berlin:20220320T110000
LOCATION:Sportovní gymnázium Ludvíka Daňka\, Botanická 63 Brno - Ponava
SUMMARY:CP-ZKY-F2A: KP Brno-Lanškroun
END:VEVENT
BEGIN:VEVENT
UID:30626137-3630-4233-b739-626666363765
DTSTAMP:20260424T165345Z
DESCRIPTION:8/19 Kralupy - Tábor 0:2 (-23\,-17)
DTSTART;TZID=Europe/Berlin:20220320T090000
DTEND;TZID=Europe/Berlin:20220320T110000
LOCATION:TJ KRALUPY\, z.s.\, Gen. Klapálka 1029 Kralupy nad Vltavou
SUMMARY:CP-ZKY-F2A: Kralupy-Tábor
END:VEVENT
BEGIN:VEVENT
UID:38393861-6138-4437-b563-633535656664
DTSTAMP:20260424T165345Z
DESCRIPTION:9/20 Mikulova - TJ Sokol F. - Místek 2:1 (19\,-20\,10)
DTSTART;TZID=Europe/Berlin:20220320T102000
DTEND;TZID=Europe/Berlin:20220320T122000
LOCATION:ZŠ Mikulova Mikulova 1594
SUMMARY:CP-ZKY-F2A: Mikulova-TJ Sokol F. - Místek
END:VEVENT
BEGIN:VEVENT
UID:33366232-3938-4364-a636-646439653966
DTSTAMP:20260424T165345Z
DESCRIPTION:9/21 Lanškroun - Kralupy 2:0 (15\,21)
DTSTART;TZID=Europe/Berlin:20220320T102000
DTEND;TZID=Europe/Berlin:20220320T122000
LOCATION:SOŠ a SOU Lanškroun\, Sokolská 288 Lanškroun - Ostrovské Předměstí
SUMMARY:CP-ZKY-F2A: Lanškroun-Kralupy
END:VEVENT
BEGIN:VEVENT
UID:65303766-6130-4162-b634-303565663161
DTSTAMP:20260424T165345Z
DESCRIPTION:9/22 Hlincovka - KP Brno 2:1 (19\,-20\,11)
DTSTART;TZID=Europe/Berlin:20220320T102000
DTEND;TZID=Europe/Berlin:20220320T122000
LOCATION:Sportovní hala Rudolfov\, Adamovská 511 Rudolfov
SUMMARY:CP-ZKY-F2A: Hlincovka-KP Brno
END:VEVENT
BEGIN:VEVENT
UID:64343138-3238-4966-b761-323435616335
DTSTAMP:20260424T165345Z
DESCRIPTION:10/23 Ostrava - TJ Sokol F. - Místek 2:1 (10\,-16\,8)
DTSTART;TZID=Europe/Berlin:20220320T114000
DTEND;TZID=Europe/Berlin:20220320T134000
LOCATION:Hala mládeže\, Gajdošova 1893 Ostrava - Moravská Ostrava
SUMMARY:CP-ZKY-F2A: Ostrava-TJ Sokol F. - Místek
END:VEVENT
BEGIN:VEVENT
UID:63343839-6438-4539-b734-306166323630
DTSTAMP:20260424T165345Z
DESCRIPTION:10/24 Tábor - Mikulova 1:2 (-17\,20\,-11)
DTSTART;TZID=Europe/Berlin:20220320T114000
DTEND;TZID=Europe/Berlin:20220320T134000
LOCATION:Tělocvična ZŠ Husova\, Husova 1570 Tábor
SUMMARY:CP-ZKY-F2A: Tábor-Mikulova
END:VEVENT
BEGIN:VEVENT
UID:33306535-6366-4166-a262-626364396662
DTSTAMP:20260424T165345Z
DESCRIPTION:10/25 Kralupy - Hlincovka 2:1 (-11\,14\,13)
DTSTART;TZID=Europe/Berlin:20220320T114000
DTEND;TZID=Europe/Berlin:20220320T134000
LOCATION:TJ KRALUPY\, z.s.\, Gen. Klapálka 1029 Kralupy nad Vltavou
SUMMARY:CP-ZKY-F2A: Kralupy-Hlincovka
END:VEVENT
BEGIN:VEVENT
UID:64373539-3931-4661-b139-323366306334
DTSTAMP:20260424T165345Z
DESCRIPTION:11/26 KP Brno - Ostrava 2:0 (22\,18)
DTSTART;TZID=Europe/Berlin:20220320T130000
DTEND;TZID=Europe/Berlin:20220320T150000
LOCATION:Sportovní gymnázium Ludvíka Daňka\, Botanická 63 Brno - Ponava
SUMMARY:CP-ZKY-F2A: KP Brno-Ostrava
END:VEVENT
BEGIN:VEVENT
UID:61363564-3633-4539-b234-616539323661
DTSTAMP:20260424T165345Z
DESCRIPTION:11/27 Mikulova - Lanškroun 1:2 (-25\,15\,-12)
DTSTART;TZID=Europe/Berlin:20220320T130000
DTEND;TZID=Europe/Berlin:20220320T150000
LOCATION:ZŠ Mikulova Mikulova 1594
SUMMARY:CP-ZKY-F2A: Mikulova-Lanškroun
END:VEVENT
BEGIN:VEVENT
UID:30323465-6630-4239-a236-666537656334
DTSTAMP:20260424T165345Z
DESCRIPTION:11/28 TJ Sokol F. - Místek - Tábor 0:2 (-21\,-21)
DTSTART;TZID=Europe/Berlin:20220320T130000
DTEND;TZID=Europe/Berlin:20220320T150000
LOCATION:ZŠ Jiřího z Poděbrad Frýdek-Místek\, Jiřího z Poděbrad 3109 Frýdek
 -Místek - Frýdek
SUMMARY:CP-ZKY-F2A: TJ Sokol F. - Místek-Tábor
END:VEVENT
END:VCALENDAR
