BEGIN:VCALENDAR
VERSION:2.0
PRODID:-//ST-ZKYM-F4//NONSGML kigkonsult.se iCalcreator 2.41.80//
CALSCALE:GREGORIAN
UID:30376136-3238-4230-b531-616666646136
BEGIN:VEVENT
UID:36333032-6133-4032-b336-626132386463
DTSTAMP:20260421T210050Z
DESCRIPTION:1/1 Komárov - Tuchlovice 0:2 (-18\,-12)\nPořadatel: TJ Sokol Ko
 márov
DTSTART;TZID=Europe/Berlin:20220410T100000
DTEND;TZID=Europe/Berlin:20220410T120000
LOCATION:Sokolovna Komárov\, Sokolská 230 Komárov
SUMMARY:ST-ZKYM-F4: Komárov-Tuchlovice
END:VEVENT
BEGIN:VEVENT
UID:31363664-3736-4130-a663-396661653936
DTSTAMP:20260421T210050Z
DESCRIPTION:1/2 Kolín B - Kladno B 2:0 (17\,19)
DTSTART;TZID=Europe/Berlin:20220410T100000
DTEND;TZID=Europe/Berlin:20220410T120000
LOCATION:hala STAV\, SOŠ Kolín\, Brankovická 1417 Kolín - Kolín V
SUMMARY:ST-ZKYM-F4: Kolín B-Kladno B
END:VEVENT
BEGIN:VEVENT
UID:66323366-3761-4864-b366-393564313163
DTSTAMP:20260421T210050Z
DESCRIPTION:1/3 Kolín B - Tuchlovice 0:2 (-22\,-14)
DTSTART;TZID=Europe/Berlin:20220410T100000
DTEND;TZID=Europe/Berlin:20220410T120000
LOCATION:hala STAV\, SOŠ Kolín\, Brankovická 1417 Kolín - Kolín V
SUMMARY:ST-ZKYM-F4: Kolín B-Tuchlovice
END:VEVENT
BEGIN:VEVENT
UID:63333164-3165-4035-a139-303836316365
DTSTAMP:20260421T210050Z
DESCRIPTION:1/4 Kladno B - Komárov 2:1 (-20\,13\,12)
DTSTART;TZID=Europe/Berlin:20220410T100000
DTEND;TZID=Europe/Berlin:20220410T120000
LOCATION:Kladenská sportovní hala\, Sportovců 817 Kladno - Rozdělov
SUMMARY:ST-ZKYM-F4: Kladno B-Komárov
END:VEVENT
BEGIN:VEVENT
UID:35343832-3734-4565-b436-386166353537
DTSTAMP:20260421T210050Z
DESCRIPTION:1/5 Tuchlovice - Kladno B 2:0 (23\,23)
DTSTART;TZID=Europe/Berlin:20220410T100000
DTEND;TZID=Europe/Berlin:20220410T120000
LOCATION:ZŠ Tuchlovice\, Školní 277 Tuchlovice
SUMMARY:ST-ZKYM-F4: Tuchlovice-Kladno B
END:VEVENT
BEGIN:VEVENT
UID:39303032-3333-4363-a566-326366643066
DTSTAMP:20260421T210050Z
DESCRIPTION:1/6 Komárov - Kolín B 2:1 (26\,-18\,12)
DTSTART;TZID=Europe/Berlin:20220410T100000
DTEND;TZID=Europe/Berlin:20220410T120000
LOCATION:Sokolovna Komárov\, Sokolská 230 Komárov
SUMMARY:ST-ZKYM-F4: Komárov-Kolín B
END:VEVENT
END:VCALENDAR
