BEGIN:VCALENDAR
VERSION:2.0
PRODID:-//2-Z-KC//NONSGML kigkonsult.se iCalcreator 2.41.80//
CALSCALE:GREGORIAN
UID:61353533-3463-4065-b062-346166316461
BEGIN:VEVENT
UID:61343664-3264-4636-a639-623238346463
DTSTAMP:20260424T080942Z
DESCRIPTION:1/1 Vsetín - Uherské Hradiště 3:1 (-22\,16\,18\,15)
DTSTART;TZID=Europe/Berlin:20220423T100000
DTEND;TZID=Europe/Berlin:20220423T120000
LOCATION:Sportovní hala Na Lapači\, Na Lapači 247 Vsetín - Rokytnice
SUMMARY:2-Z-KC: Vsetín-Uherské Hradiště
END:VEVENT
BEGIN:VEVENT
UID:37343265-3362-4961-a532-656234316566
DTSTAMP:20260424T080942Z
DESCRIPTION:1/2 Újezd u Brna - Brno-Juliánov 0:3 (-19\,-7\,-17)
DTSTART;TZID=Europe/Berlin:20220423T120000
DTEND;TZID=Europe/Berlin:20220423T140000
LOCATION:Sportovní hala Na Lapači\, Na Lapači 247 Vsetín - Rokytnice
SUMMARY:2-Z-KC: Újezd u Brna-Brno-Juliánov
END:VEVENT
BEGIN:VEVENT
UID:61353465-3736-4730-a335-613035656266
DTSTAMP:20260424T080942Z
DESCRIPTION:2/3 Uherské Hradiště - Brno-Juliánov 0:3 (-22\,-24\,-11)
DTSTART;TZID=Europe/Berlin:20220423T160000
DTEND;TZID=Europe/Berlin:20220423T180000
LOCATION:Sportovní hala Na Lapači\, Na Lapači 247 Vsetín - Rokytnice
SUMMARY:2-Z-KC: Uherské Hradiště-Brno-Juliánov
END:VEVENT
BEGIN:VEVENT
UID:33666430-3530-4266-b165-306331333639
DTSTAMP:20260424T080942Z
DESCRIPTION:2/4 Vsetín - Újezd u Brna 3:1 (14\,-20\,16\,21)
DTSTART;TZID=Europe/Berlin:20220423T180000
DTEND;TZID=Europe/Berlin:20220423T200000
LOCATION:Sportovní hala Na Lapači\, Na Lapači 247 Vsetín - Rokytnice
SUMMARY:2-Z-KC: Vsetín-Újezd u Brna
END:VEVENT
BEGIN:VEVENT
UID:35643739-3733-4234-a134-356534346464
DTSTAMP:20260424T080942Z
DESCRIPTION:3/5 Újezd u Brna - Uherské Hradiště 3:2 (24\,-21\,-19\,23\,11)
DTSTART;TZID=Europe/Berlin:20220424T100000
DTEND;TZID=Europe/Berlin:20220424T120000
LOCATION:Sportovní hala Na Lapači\, Na Lapači 247 Vsetín - Rokytnice
SUMMARY:2-Z-KC: Újezd u Brna-Uherské Hradiště
END:VEVENT
BEGIN:VEVENT
UID:66313435-3231-4638-b037-356566303038
DTSTAMP:20260424T080942Z
DESCRIPTION:3/6 Brno-Juliánov - Vsetín 3:1 (18\,23\,-17\,25)
DTSTART;TZID=Europe/Berlin:20220424T120000
DTEND;TZID=Europe/Berlin:20220424T140000
LOCATION:Sportovní hala Na Lapači\, Na Lapači 247 Vsetín - Rokytnice
SUMMARY:2-Z-KC: Brno-Juliánov-Vsetín
END:VEVENT
END:VCALENDAR
