BEGIN:VCALENDAR
VERSION:2.0
PRODID:-//EX-U20Z-1B//NONSGML kigkonsult.se iCalcreator 2.41.80//
CALSCALE:GREGORIAN
UID:39663338-3233-4464-b733-313239373865
BEGIN:VEVENT
UID:66303639-3439-4166-b832-363236333932
DTSTAMP:20260421T151521Z
DESCRIPTION:1/1 Liberec - Střešovice 3:1 (-20\,11\,10\,17)
DTSTART;TZID=Europe/Berlin:20220924T100000
DTEND;TZID=Europe/Berlin:20220924T120000
LOCATION:Městská sportovní hala\, U Přehrady 4747 Jablonec nad Nisou
SUMMARY:EX-U20Z-1B: Liberec-Střešovice
END:VEVENT
BEGIN:VEVENT
UID:64653961-3961-4532-b738-306130303733
DTSTAMP:20260421T151521Z
DESCRIPTION:2/2 Ostrava - Č. Budějovice 3:2 (-22\,22\,-25\,18\,13)
DTSTART;TZID=Europe/Berlin:20220924T120000
DTEND;TZID=Europe/Berlin:20220924T140000
LOCATION:Městská sportovní hala\, U Přehrady 4747 Jablonec nad Nisou
SUMMARY:EX-U20Z-1B: Ostrava-Č. Budějovice
END:VEVENT
BEGIN:VEVENT
UID:64653733-6139-4662-a666-656539353666
DTSTAMP:20260421T151521Z
DESCRIPTION:3/3 Střešovice - Č. Budějovice 2:3 (22\,-17\,-16\,23\,-10)
DTSTART;TZID=Europe/Berlin:20220924T160000
DTEND;TZID=Europe/Berlin:20220924T180000
LOCATION:Městská sportovní hala\, U Přehrady 4747 Jablonec nad Nisou
SUMMARY:EX-U20Z-1B: Střešovice-Č. Budějovice
END:VEVENT
BEGIN:VEVENT
UID:36626462-3137-4336-b732-383137393630
DTSTAMP:20260421T151521Z
DESCRIPTION:4/4 Liberec - Ostrava 3:1 (-17\,13\,17\,18)
DTSTART;TZID=Europe/Berlin:20220924T180000
DTEND;TZID=Europe/Berlin:20220924T200000
LOCATION:Městská sportovní hala\, U Přehrady 4747 Jablonec nad Nisou
SUMMARY:EX-U20Z-1B: Liberec-Ostrava
END:VEVENT
BEGIN:VEVENT
UID:36613563-6632-4562-a134-626663313230
DTSTAMP:20260421T151521Z
DESCRIPTION:5/5 Ostrava - Střešovice 3:0 (13\,16\,21)
DTSTART;TZID=Europe/Berlin:20220925T100000
DTEND;TZID=Europe/Berlin:20220925T120000
LOCATION:Městská sportovní hala\, U Přehrady 4747 Jablonec nad Nisou
SUMMARY:EX-U20Z-1B: Ostrava-Střešovice
END:VEVENT
BEGIN:VEVENT
UID:66313837-6339-4233-a333-366165333133
DTSTAMP:20260421T151521Z
DESCRIPTION:6/6 Č. Budějovice - Liberec 0:3 (-17\,-15\,-19)
DTSTART;TZID=Europe/Berlin:20220925T120000
DTEND;TZID=Europe/Berlin:20220925T140000
LOCATION:Městská sportovní hala\, U Přehrady 4747 Jablonec nad Nisou
SUMMARY:EX-U20Z-1B: Č. Budějovice-Liberec
END:VEVENT
END:VCALENDAR
