BEGIN:VCALENDAR
VERSION:2.0
PRODID:-//EX-U18Z-1C//NONSGML kigkonsult.se iCalcreator 2.41.80//
CALSCALE:GREGORIAN
UID:64353062-3363-4463-a432-613435323634
BEGIN:VEVENT
UID:38393661-6233-4637-b737-653939346563
DTSTAMP:20260421T210130Z
DESCRIPTION:1/1 Liberec - Mikulova 3:0 (5\,17\,14)
DTSTART;TZID=Europe/Berlin:20220917T100000
DTEND;TZID=Europe/Berlin:20220917T120000
LOCATION:Městská sportovní hala\, U Přehrady 4747 Jablonec nad Nisou
SUMMARY:EX-U18Z-1C: Liberec-Mikulova
END:VEVENT
BEGIN:VEVENT
UID:34383666-6632-4462-a335-323035373630
DTSTAMP:20260421T210130Z
DESCRIPTION:2/2 Frýdek - Místek - Kralupy 0:3 (-13\,-17\,-18)
DTSTART;TZID=Europe/Berlin:20220917T120000
DTEND;TZID=Europe/Berlin:20220917T140000
LOCATION:Městská sportovní hala\, U Přehrady 4747 Jablonec nad Nisou
SUMMARY:EX-U18Z-1C: Frýdek - Místek-Kralupy
END:VEVENT
BEGIN:VEVENT
UID:32366332-6539-4935-a637-326365363466
DTSTAMP:20260421T210130Z
DESCRIPTION:3/3 Mikulova - Kralupy 0:3 (-12\,-15\,-23)
DTSTART;TZID=Europe/Berlin:20220917T160000
DTEND;TZID=Europe/Berlin:20220917T180000
LOCATION:Městská sportovní hala\, U Přehrady 4747 Jablonec nad Nisou
SUMMARY:EX-U18Z-1C: Mikulova-Kralupy
END:VEVENT
BEGIN:VEVENT
UID:32396461-6538-4334-a539-346634616639
DTSTAMP:20260421T210130Z
DESCRIPTION:4/4 Liberec - Frýdek - Místek 3:0 (18\,15\,12)
DTSTART;TZID=Europe/Berlin:20220917T180000
DTEND;TZID=Europe/Berlin:20220917T200000
LOCATION:Městská sportovní hala\, U Přehrady 4747 Jablonec nad Nisou
SUMMARY:EX-U18Z-1C: Liberec-Frýdek - Místek
END:VEVENT
BEGIN:VEVENT
UID:62393564-3437-4664-a135-643631323830
DTSTAMP:20260421T210130Z
DESCRIPTION:5/5 Frýdek - Místek - Mikulova 2:3 (-19\,18\,7\,-21\,-13)
DTSTART;TZID=Europe/Berlin:20220918T100000
DTEND;TZID=Europe/Berlin:20220918T120000
LOCATION:Městská sportovní hala\, U Přehrady 4747 Jablonec nad Nisou
SUMMARY:EX-U18Z-1C: Frýdek - Místek-Mikulova
END:VEVENT
BEGIN:VEVENT
UID:36323738-3461-4638-b739-303235643861
DTSTAMP:20260421T210130Z
DESCRIPTION:6/6 Kralupy - Liberec 0:3 (-11\,-15\,-14)\nNH: Jeronýmova 558\,
  Liberec
DTSTART;TZID=Europe/Berlin:20220916T190000
DTEND;TZID=Europe/Berlin:20220916T210000
LOCATION:Městská sportovní hala\, U Přehrady 4747 Jablonec nad Nisou
SUMMARY:EX-U18Z-1C: Kralupy-Liberec
END:VEVENT
END:VCALENDAR
