BEGIN:VCALENDAR
VERSION:2.0
PRODID:-//EX-U18Z-1D//NONSGML kigkonsult.se iCalcreator 2.41.80//
CALSCALE:GREGORIAN
UID:30636236-3639-4266-a664-363337383466
BEGIN:VEVENT
UID:61653631-3061-4864-b766-666461383238
DTSTAMP:20260421T223104Z
DESCRIPTION:1/1 Ostrava - Plzeň 1:3 (17\,-23\,-21\,-21)
DTSTART;TZID=Europe/Berlin:20220917T100000
DTEND;TZID=Europe/Berlin:20220917T120000
LOCATION:Tělocvična SŠE Ostrava\, Na Jízdárně 423 Ostrava - Moravská Ostrav
 a
SUMMARY:EX-U18Z-1D: Ostrava-Plzeň
END:VEVENT
BEGIN:VEVENT
UID:62333466-6635-4531-b634-373766373639
DTSTAMP:20260421T223104Z
DESCRIPTION:2/2 Č. Budějovice - Šternberk 3:1 (14\,-17\,18\,20)
DTSTART;TZID=Europe/Berlin:20220917T120000
DTEND;TZID=Europe/Berlin:20220917T140000
LOCATION:Tělocvična SŠE Ostrava\, Na Jízdárně 423 Ostrava - Moravská Ostrav
 a
SUMMARY:EX-U18Z-1D: Č. Budějovice-Šternberk
END:VEVENT
BEGIN:VEVENT
UID:61373365-3364-4232-a237-333735633132
DTSTAMP:20260421T223104Z
DESCRIPTION:3/3 Plzeň - Šternberk 3:0 (15\,26\,18)
DTSTART;TZID=Europe/Berlin:20220917T160000
DTEND;TZID=Europe/Berlin:20220917T180000
LOCATION:Tělocvična SŠE Ostrava\, Na Jízdárně 423 Ostrava - Moravská Ostrav
 a
SUMMARY:EX-U18Z-1D: Plzeň-Šternberk
END:VEVENT
BEGIN:VEVENT
UID:65653763-3539-4064-a531-653161346135
DTSTAMP:20260421T223104Z
DESCRIPTION:4/4 Ostrava - Č. Budějovice 2:3 (-22\,19\,-21\,23\,-8)
DTSTART;TZID=Europe/Berlin:20220917T140000
DTEND;TZID=Europe/Berlin:20220917T160000
LOCATION:Tělocvična SŠE Ostrava\, Na Jízdárně 423 Ostrava - Moravská Ostrav
 a
SUMMARY:EX-U18Z-1D: Ostrava-Č. Budějovice
END:VEVENT
BEGIN:VEVENT
UID:30376432-3332-4130-a339-333163366463
DTSTAMP:20260421T223104Z
DESCRIPTION:5/5 Č. Budějovice - Plzeň 3:1 (23\,-16\,17\,16)
DTSTART;TZID=Europe/Berlin:20220916T180000
DTEND;TZID=Europe/Berlin:20220916T200000
LOCATION:Tělocvična SŠE Ostrava\, Na Jízdárně 423 Ostrava - Moravská Ostrav
 a
SUMMARY:EX-U18Z-1D: Č. Budějovice-Plzeň
END:VEVENT
BEGIN:VEVENT
UID:61643333-3036-4637-b763-613137393966
DTSTAMP:20260421T223104Z
DESCRIPTION:6/6 Šternberk - Ostrava 1:3 (24\,-13\,-23\,-21)
DTSTART;TZID=Europe/Berlin:20220916T160000
DTEND;TZID=Europe/Berlin:20220916T180000
LOCATION:Tělocvična SŠE Ostrava\, Na Jízdárně 423 Ostrava - Moravská Ostrav
 a
SUMMARY:EX-U18Z-1D: Šternberk-Ostrava
END:VEVENT
END:VCALENDAR
