BEGIN:VCALENDAR
VERSION:2.0
PRODID:-//MS-Z-III//NONSGML kigkonsult.se iCalcreator 2.41.80//
CALSCALE:GREGORIAN
UID:62653263-3837-4537-b832-643637643730
BEGIN:VEVENT
UID:32653831-6231-4131-a562-663362363837
DTSTAMP:20260422T075519Z
DESCRIPTION:1/2 VK Polanka n.Odrou  C - TJ Hlučín 1:3 (-17\,-22\,18\,-23)
DTSTART;TZID=Europe/Berlin:20230211T090000
DTEND;TZID=Europe/Berlin:20230211T110000
LOCATION:Sportovní hala\, Heleny Salichové 1275 Ostrava - Polanka nad Odrou
SUMMARY:MS-Z-III: VK Polanka n.Odrou  C-TJ Hlučín
END:VEVENT
BEGIN:VEVENT
UID:39386361-3337-4564-b830-386664306432
DTSTAMP:20260422T075519Z
DESCRIPTION:2/4 VK Polanka n.Odrou  C - TJ Hlučín 1:3 (-17\,18\,-22\,-18)
DTSTART;TZID=Europe/Berlin:20230211T130000
DTEND;TZID=Europe/Berlin:20230211T150000
LOCATION:Sportovní hala\, Heleny Salichové 1275 Ostrava - Polanka nad Odrou
SUMMARY:MS-Z-III: VK Polanka n.Odrou  C-TJ Hlučín
END:VEVENT
BEGIN:VEVENT
UID:64313062-3335-4430-b563-396265613234
DTSTAMP:20260422T075519Z
DESCRIPTION:3/6 TJ Slavoj Český Těšín - VK Polanka n.Odrou  C 1:3 (-17\,-15
 \,17\,-20)
DTSTART;TZID=Europe/Berlin:20230218T090000
DTEND;TZID=Europe/Berlin:20230218T110000
LOCATION:Pink ARÉNA\, Frýdecká 690 Český Těšín
SUMMARY:MS-Z-III: TJ Slavoj Český Těšín-VK Polanka n.Odrou  C
END:VEVENT
BEGIN:VEVENT
UID:31613732-3364-4266-b161-666434616337
DTSTAMP:20260422T075519Z
DESCRIPTION:4/8 TJ Slavoj Český Těšín - VK Polanka n.Odrou  C 0:3 (-16\,-23
 \,-18)
DTSTART;TZID=Europe/Berlin:20230218T130000
DTEND;TZID=Europe/Berlin:20230218T150000
LOCATION:Pink ARÉNA\, Frýdecká 690 Český Těšín
SUMMARY:MS-Z-III: TJ Slavoj Český Těšín-VK Polanka n.Odrou  C
END:VEVENT
BEGIN:VEVENT
UID:37353134-3238-4639-b963-333133306137
DTSTAMP:20260422T075519Z
DESCRIPTION:5/10 TJ Hlučín - TJ Slavoj Český Těšín 3:1 (12\,-23\,10\,18)
DTSTART;TZID=Europe/Berlin:20230225T100000
DTEND;TZID=Europe/Berlin:20230225T120000
LOCATION:Sportovní hala\, Tyršova 1668 Hlučín
SUMMARY:MS-Z-III: TJ Hlučín-TJ Slavoj Český Těšín
END:VEVENT
BEGIN:VEVENT
UID:33653031-6535-4465-b535-643231383134
DTSTAMP:20260422T075519Z
DESCRIPTION:6/12 TJ Hlučín - TJ Slavoj Český Těšín 3:2 (-21\,22\,-28\,23\,1
 1)
DTSTART;TZID=Europe/Berlin:20230225T140000
DTEND;TZID=Europe/Berlin:20230225T160000
LOCATION:Sportovní hala\, Tyršova 1668 Hlučín
SUMMARY:MS-Z-III: TJ Hlučín-TJ Slavoj Český Těšín
END:VEVENT
BEGIN:VEVENT
UID:31306132-3161-4534-b535-316334626635
DTSTAMP:20260422T075519Z
DESCRIPTION:7/14 TJ Hlučín - VK Polanka n.Odrou  C 3:0 (16\,19\,19)
DTSTART;TZID=Europe/Berlin:20230311T090000
DTEND;TZID=Europe/Berlin:20230311T110000
LOCATION:Hala Hlučín - Darkovičky\, Nový svět 402 Hlučín - Darkovičky
SUMMARY:MS-Z-III: TJ Hlučín-VK Polanka n.Odrou  C
END:VEVENT
BEGIN:VEVENT
UID:31653066-3064-4165-b639-656366666234
DTSTAMP:20260422T075519Z
DESCRIPTION:8/16 TJ Hlučín - VK Polanka n.Odrou  C 2:3 (-23\,20\,22\,-16\,-
 14)
DTSTART;TZID=Europe/Berlin:20230311T130000
DTEND;TZID=Europe/Berlin:20230311T150000
LOCATION:Hala Hlučín - Darkovičky\, Nový svět 402 Hlučín - Darkovičky
SUMMARY:MS-Z-III: TJ Hlučín-VK Polanka n.Odrou  C
END:VEVENT
BEGIN:VEVENT
UID:61616164-3266-4537-a136-653162373535
DTSTAMP:20260422T075519Z
DESCRIPTION:9/18 VK Polanka n.Odrou  C - TJ Slavoj Český Těšín 3:2 (-21\,-2
 1\,18\,23\,10)
DTSTART;TZID=Europe/Berlin:20230318T090000
DTEND;TZID=Europe/Berlin:20230318T110000
LOCATION:Sportovní hala\, Heleny Salichové 1275 Ostrava - Polanka nad Odrou
SUMMARY:MS-Z-III: VK Polanka n.Odrou  C-TJ Slavoj Český Těšín
END:VEVENT
BEGIN:VEVENT
UID:35373432-3937-4262-b038-613665343036
DTSTAMP:20260422T075519Z
DESCRIPTION:10/20 VK Polanka n.Odrou  C - TJ Slavoj Český Těšín 3:0 (20\,17
 \,17)
DTSTART;TZID=Europe/Berlin:20230318T130000
DTEND;TZID=Europe/Berlin:20230318T150000
LOCATION:Sportovní hala\, Heleny Salichové 1275 Ostrava - Polanka nad Odrou
SUMMARY:MS-Z-III: VK Polanka n.Odrou  C-TJ Slavoj Český Těšín
END:VEVENT
BEGIN:VEVENT
UID:65363730-6238-4938-a334-366135313061
DTSTAMP:20260422T075519Z
DESCRIPTION:11/22 TJ Slavoj Český Těšín - TJ Hlučín 3:0 (12\,20\,15)
DTSTART;TZID=Europe/Berlin:20230325T090000
DTEND;TZID=Europe/Berlin:20230325T110000
LOCATION:Pink ARÉNA\, Frýdecká 690 Český Těšín
SUMMARY:MS-Z-III: TJ Slavoj Český Těšín-TJ Hlučín
END:VEVENT
BEGIN:VEVENT
UID:66653363-3963-4632-a438-396666356238
DTSTAMP:20260422T075519Z
DESCRIPTION:12/24 TJ Slavoj Český Těšín - TJ Hlučín 1:3 (-19\,-16\,22\,-23)
DTSTART;TZID=Europe/Berlin:20230325T130000
DTEND;TZID=Europe/Berlin:20230325T150000
LOCATION:Pink ARÉNA\, Frýdecká 690 Český Těšín
SUMMARY:MS-Z-III: TJ Slavoj Český Těšín-TJ Hlučín
END:VEVENT
END:VCALENDAR
